| Back to Multiple platform build/check report for BioC 3.9 |
|
This page was generated on 2019-10-16 12:36:44 -0400 (Wed, 16 Oct 2019).
| Package 1341/1741 | Hostname | OS / Arch | INSTALL | BUILD | CHECK | BUILD BIN | ||||||
| readat 1.10.0 Richard Cotton
| malbec2 | Linux (Ubuntu 18.04.2 LTS) / x86_64 | ERROR | ERROR | skipped | |||||||
| tokay2 | Windows Server 2012 R2 Standard / x64 | ERROR | [ ERROR ] | skipped | skipped | |||||||
| celaya2 | OS X 10.11.6 El Capitan / x86_64 | ERROR | ERROR | skipped | skipped |
| Package: readat |
| Version: 1.10.0 |
| Command: chmod a+r readat -R && C:\Users\biocbuild\bbs-3.9-bioc\R\bin\R.exe CMD build --keep-empty-dirs --no-resave-data readat |
| StartedAt: 2019-10-16 00:12:13 -0400 (Wed, 16 Oct 2019) |
| EndedAt: 2019-10-16 00:12:48 -0400 (Wed, 16 Oct 2019) |
| EllapsedTime: 34.8 seconds |
| RetCode: 1 |
| Status: ERROR |
| PackageFile: readat_1.10.0.tar.gz |
| PackageFileSize: 1.225 MiB |
##############################################################################
##############################################################################
###
### Running command:
###
### chmod a+r readat -R && C:\Users\biocbuild\bbs-3.9-bioc\R\bin\R.exe CMD build --keep-empty-dirs --no-resave-data readat
###
##############################################################################
##############################################################################
* checking for file 'readat/DESCRIPTION' ... OK
* preparing 'readat':
* checking DESCRIPTION meta-information ... OK
* installing the package to build vignettes
-----------------------------------
ERROR: dependency 'pathological' is not available for package 'readat'
* removing 'C:/Users/biocbuild/bbs-3.9-bioc/tmpdir/RtmpEnPe3b/Rinstf58633dcdc/readat'
-----------------------------------
ERROR: package installation failed