| Back to Multiple platform build/check report for BioC 3.9 |
|
This page was generated on 2019-10-16 12:59:47 -0400 (Wed, 16 Oct 2019).
| Package 1176/1741 | Hostname | OS / Arch | INSTALL | BUILD | CHECK | BUILD BIN | ||||||
| pathprint 1.14.0 Sokratis Kariotis
| malbec2 | Linux (Ubuntu 18.04.2 LTS) / x86_64 | OK | OK | OK | |||||||
| tokay2 | Windows Server 2012 R2 Standard / x64 | OK | OK | OK | OK | |||||||
| celaya2 | OS X 10.11.6 El Capitan / x86_64 | OK | OK | [ OK ] | OK |
| Package: pathprint |
| Version: 1.14.0 |
| Command: /Library/Frameworks/R.framework/Versions/Current/Resources/bin/R CMD check --install=check:pathprint.install-out.txt --library=/Library/Frameworks/R.framework/Versions/Current/Resources/library --no-vignettes --timings pathprint_1.14.0.tar.gz |
| StartedAt: 2019-10-16 05:23:10 -0400 (Wed, 16 Oct 2019) |
| EndedAt: 2019-10-16 05:31:25 -0400 (Wed, 16 Oct 2019) |
| EllapsedTime: 494.9 seconds |
| RetCode: 0 |
| Status: OK |
| CheckDir: pathprint.Rcheck |
| Warnings: 0 |
##############################################################################
##############################################################################
###
### Running command:
###
### /Library/Frameworks/R.framework/Versions/Current/Resources/bin/R CMD check --install=check:pathprint.install-out.txt --library=/Library/Frameworks/R.framework/Versions/Current/Resources/library --no-vignettes --timings pathprint_1.14.0.tar.gz
###
##############################################################################
##############################################################################
* using log directory ‘/Users/biocbuild/bbs-3.9-bioc/meat/pathprint.Rcheck’
* using R version 3.6.1 (2019-07-05)
* using platform: x86_64-apple-darwin15.6.0 (64-bit)
* using session charset: UTF-8
* using option ‘--no-vignettes’
* checking for file ‘pathprint/DESCRIPTION’ ... OK
* checking extension type ... Package
* this is package ‘pathprint’ version ‘1.14.0’
* package encoding: UTF-8
* checking package namespace information ... OK
* checking package dependencies ... OK
* checking if this is a source package ... OK
* checking if there is a namespace ... OK
* checking for hidden files and directories ... NOTE
Found the following hidden files and directories:
.BBSoptions
These were most likely included in error. See section ‘Package
structure’ in the ‘Writing R Extensions’ manual.
* checking for portable file names ... OK
* checking for sufficient/correct file permissions ... OK
* checking whether package ‘pathprint’ can be installed ... OK
* checking installed package size ... OK
* checking package directory ... OK
* checking ‘build’ directory ... OK
* checking DESCRIPTION meta-information ... OK
* checking top-level files ... OK
* checking for left-over files ... OK
* checking index information ... OK
* checking package subdirectories ... OK
* checking R files for non-ASCII characters ... OK
* checking R files for syntax errors ... OK
* checking whether the package can be loaded ... OK
* checking whether the package can be loaded with stated dependencies ... OK
* checking whether the package can be unloaded cleanly ... OK
* checking whether the namespace can be loaded with stated dependencies ... OK
* checking whether the namespace can be unloaded cleanly ... OK
* checking dependencies in R code ... OK
* checking S3 generic/method consistency ... OK
* checking replacement functions ... OK
* checking foreign function calls ... OK
* checking R code for possible problems ... NOTE
exprs2fingerprint: no visible binding for global variable ‘chipframe’
exprs2fingerprint: no visible binding for global variable ‘genesets’
thresholdFingerprint: no visible binding for global variable
‘platform.thresholds’
Undefined global functions or variables:
chipframe genesets platform.thresholds
* checking Rd files ... OK
* checking Rd metadata ... OK
* checking Rd cross-references ... OK
* checking for missing documentation entries ... OK
* checking for code/documentation mismatches ... OK
* checking Rd \usage sections ... OK
* checking Rd contents ... OK
* checking for unstated dependencies in examples ... OK
* checking contents of ‘data’ directory ... OK
* checking data for non-ASCII characters ... OK
* checking data for ASCII and uncompressed saves ... OK
* checking sizes of PDF files under ‘inst/doc’ ... OK
* checking files in ‘vignettes’ ... OK
* checking examples ... OK
Examples with CPU or elapsed time > 5s
user system elapsed
single.chip.enrichment 104.977 28.126 133.163
diffPathways 66.888 16.407 84.053
consensusDistance 33.669 4.522 38.436
thresholdFingerprint 29.759 5.656 35.418
pathprint-package 30.184 5.072 35.883
consensusFingerprint 22.841 3.949 26.928
customCDFAnn 21.559 3.462 25.154
pluripotents.frame 21.729 3.014 24.991
exprs2fingerprint 20.726 2.660 23.528
platform.thresholds 15.985 3.064 19.536
* checking for unstated dependencies in vignettes ... OK
* checking package vignettes in ‘inst/doc’ ... OK
* checking running R code from vignettes ... SKIPPED
* checking re-building of vignette outputs ... SKIPPED
* checking PDF version of manual ... OK
* DONE
Status: 2 NOTEs
See
‘/Users/biocbuild/bbs-3.9-bioc/meat/pathprint.Rcheck/00check.log’
for details.
pathprint.Rcheck/00install.out
############################################################################## ############################################################################## ### ### Running command: ### ### /Library/Frameworks/R.framework/Versions/Current/Resources/bin/R CMD INSTALL pathprint ### ############################################################################## ############################################################################## * installing to library ‘/Library/Frameworks/R.framework/Versions/3.6/Resources/library’ * installing *source* package ‘pathprint’ ... ** using staged installation ** R ** data ** inst ** byte-compile and prepare package for lazy loading ** help *** installing help indices ** building package indices ** installing vignettes ** testing if installed package can be loaded from temporary location ** testing if installed package can be loaded from final location ** testing if installed package keeps a record of temporary installation path * DONE (pathprint)
pathprint.Rcheck/pathprint-Ex.timings
| name | user | system | elapsed | |
| consensusDistance | 33.669 | 4.522 | 38.436 | |
| consensusFingerprint | 22.841 | 3.949 | 26.928 | |
| customCDFAnn | 21.559 | 3.462 | 25.154 | |
| diffPathways | 66.888 | 16.407 | 84.053 | |
| exprs2fingerprint | 20.726 | 2.660 | 23.528 | |
| genesets | 0.003 | 0.003 | 0.006 | |
| pathprint-package | 30.184 | 5.072 | 35.883 | |
| pathprint.Ce.gs | 0.039 | 0.011 | 0.059 | |
| pathprint.Dm.gs | 0.045 | 0.002 | 0.053 | |
| pathprint.Dr.gs | 0.120 | 0.013 | 0.147 | |
| pathprint.Hs.gs | 0.068 | 0.011 | 0.089 | |
| pathprint.Mm.gs | 0.137 | 0.004 | 0.145 | |
| pathprint.Rn.gs | 0.138 | 0.007 | 0.155 | |
| platform.thresholds | 15.985 | 3.064 | 19.536 | |
| pluripotents.frame | 21.729 | 3.014 | 24.991 | |
| single.chip.enrichment | 104.977 | 28.126 | 133.163 | |
| thresholdFingerprint | 29.759 | 5.656 | 35.418 | |