| Back to Multiple platform build/check report for BioC 3.9 | 
 | 
This page was generated on 2019-10-16 12:39:07 -0400 (Wed, 16 Oct 2019).
| Package 1017/1741 | Hostname | OS / Arch | INSTALL | BUILD | CHECK | BUILD BIN | ||||||
| Junpeng Zhang 
 | malbec2 | Linux (Ubuntu 18.04.2 LTS) / x86_64 | OK | OK | OK |  | ||||||
| tokay2 | Windows Server 2012 R2 Standard / x64 | OK | [ OK ] | OK | OK |  | ||||||
| celaya2 | OS X 10.11.6 El Capitan / x86_64 | OK | OK | OK | OK |  | 
| Package: miRsponge | 
| Version: 1.10.0 | 
| Command: chmod a+r miRsponge -R && C:\Users\biocbuild\bbs-3.9-bioc\R\bin\R.exe CMD build --keep-empty-dirs --no-resave-data miRsponge | 
| StartedAt: 2019-10-16 00:40:47 -0400 (Wed, 16 Oct 2019) | 
| EndedAt: 2019-10-16 00:45:52 -0400 (Wed, 16 Oct 2019) | 
| EllapsedTime: 305.0 seconds | 
| RetCode: 0 | 
| Status: OK | 
| PackageFile: miRsponge_1.10.0.tar.gz | 
| PackageFileSize: 565.8 KiB | 
############################################################################## ############################################################################## ### ### Running command: ### ### chmod a+r miRsponge -R && C:\Users\biocbuild\bbs-3.9-bioc\R\bin\R.exe CMD build --keep-empty-dirs --no-resave-data miRsponge ### ############################################################################## ############################################################################## * checking for file 'miRsponge/DESCRIPTION' ... OK * preparing 'miRsponge': * checking DESCRIPTION meta-information ... OK * cleaning src * installing the package to build vignettes * creating vignettes ... OK * cleaning src * checking for LF line-endings in source and make files and shell scripts * checking for empty or unneeded directories * building 'miRsponge_1.10.0.tar.gz'