| Back to Multiple platform build/check report for BioC 3.9 |
|
This page was generated on 2019-10-16 12:39:07 -0400 (Wed, 16 Oct 2019).
| Package 1017/1741 | Hostname | OS / Arch | INSTALL | BUILD | CHECK | BUILD BIN | ||||||
Junpeng Zhang
| malbec2 | Linux (Ubuntu 18.04.2 LTS) / x86_64 | OK | OK | OK | |||||||
| tokay2 | Windows Server 2012 R2 Standard / x64 | OK | OK | OK | [ OK ] | |||||||
| celaya2 | OS X 10.11.6 El Capitan / x86_64 | OK | OK | OK | OK |
| Package: miRsponge |
| Version: 1.10.0 |
| Command: rm -rf miRsponge.buildbin-libdir && mkdir miRsponge.buildbin-libdir && C:\Users\biocbuild\bbs-3.9-bioc\R\bin\R.exe CMD INSTALL --merge-multiarch --build --library=miRsponge.buildbin-libdir miRsponge_1.10.0.tar.gz |
| StartedAt: 2019-10-16 09:41:31 -0400 (Wed, 16 Oct 2019) |
| EndedAt: 2019-10-16 09:42:13 -0400 (Wed, 16 Oct 2019) |
| EllapsedTime: 42.3 seconds |
| RetCode: 0 |
| Status: OK |
| PackageFile: miRsponge_1.10.0.zip |
| PackageFileSize: 686.4 KiB |
##############################################################################
##############################################################################
###
### Running command:
###
### rm -rf miRsponge.buildbin-libdir && mkdir miRsponge.buildbin-libdir && C:\Users\biocbuild\bbs-3.9-bioc\R\bin\R.exe CMD INSTALL --merge-multiarch --build --library=miRsponge.buildbin-libdir miRsponge_1.10.0.tar.gz
###
##############################################################################
##############################################################################
install for i386
* installing *source* package 'miRsponge' ...
** using staged installation
** libs
C:/Rtools/mingw_32/bin/gcc -I"C:/Users/BIOCBU~1/BBS-3~1.9-B/R/include" -DNDEBUG -I"C:/extsoft/include" -O3 -Wall -std=gnu99 -mtune=generic -c complex.c -o complex.o
C:/Rtools/mingw_32/bin/gcc -I"C:/Users/BIOCBU~1/BBS-3~1.9-B/R/include" -DNDEBUG -I"C:/extsoft/include" -O3 -Wall -std=gnu99 -mtune=generic -c registerDynamicSymbol.c -o registerDynamicSymbol.o
C:/Rtools/mingw_32/bin/gcc -shared -s -static-libgcc -o miRsponge.dll tmp.def complex.o registerDynamicSymbol.o -LC:/extsoft/lib/i386 -LC:/extsoft/lib -LC:/Users/BIOCBU~1/BBS-3~1.9-B/R/bin/i386 -lR
installing to C:/Users/biocbuild/bbs-3.9-bioc/meat/miRsponge.buildbin-libdir/00LOCK-miRsponge/00new/miRsponge/libs/i386
** R
** inst
** byte-compile and prepare package for lazy loading
** help
*** installing help indices
converting help for package 'miRsponge'
finding HTML links ... done
integrateMethod html
moduleDEA html
moduleFEA html
moduleSurvival html
netModule html
querymiRTargetbinding html
spongeMethod html
spongeValidate html
** building package indices
** installing vignettes
** testing if installed package can be loaded from temporary location
** testing if installed package can be loaded from final location
** testing if installed package keeps a record of temporary installation path
install for x64
* installing *source* package 'miRsponge' ...
** libs
C:/Rtools/mingw_64/bin/gcc -I"C:/Users/BIOCBU~1/BBS-3~1.9-B/R/include" -DNDEBUG -I"C:/extsoft/include" -O2 -Wall -std=gnu99 -mtune=generic -c complex.c -o complex.o
C:/Rtools/mingw_64/bin/gcc -I"C:/Users/BIOCBU~1/BBS-3~1.9-B/R/include" -DNDEBUG -I"C:/extsoft/include" -O2 -Wall -std=gnu99 -mtune=generic -c registerDynamicSymbol.c -o registerDynamicSymbol.o
C:/Rtools/mingw_64/bin/gcc -shared -s -static-libgcc -o miRsponge.dll tmp.def complex.o registerDynamicSymbol.o -LC:/extsoft/lib/x64 -LC:/extsoft/lib -LC:/Users/BIOCBU~1/BBS-3~1.9-B/R/bin/x64 -lR
installing to C:/Users/biocbuild/bbs-3.9-bioc/meat/miRsponge.buildbin-libdir/miRsponge/libs/x64
** testing if installed package can be loaded
* MD5 sums
packaged installation of 'miRsponge' as miRsponge_1.10.0.zip
* DONE (miRsponge)