| Back to Multiple platform build/check report for BioC 3.9 |
|
This page was generated on 2019-04-09 13:27:58 -0400 (Tue, 09 Apr 2019).
| Package 499/1703 | Hostname | OS / Arch | INSTALL | BUILD | CHECK | BUILD BIN | ||||||
| epigenomix 1.23.0 Hans-Ulrich Klein
| malbec2 | Linux (Ubuntu 18.04.2 LTS) / x86_64 | OK | OK | OK | |||||||
| tokay2 | Windows Server 2012 R2 Standard / x64 | OK | OK | OK | OK | |||||||
| celaya2 | OS X 10.11.6 El Capitan / x86_64 | OK | OK | OK | OK | |||||||
| merida2 | OS X 10.11.6 El Capitan / x86_64 | OK | OK | [ OK ] | OK |
| Package: epigenomix |
| Version: 1.23.0 |
| Command: /Library/Frameworks/R.framework/Versions/Current/Resources/bin/R CMD check --install=check:epigenomix.install-out.txt --library=/Library/Frameworks/R.framework/Versions/Current/Resources/library --no-vignettes --timings epigenomix_1.23.0.tar.gz |
| StartedAt: 2019-04-09 00:44:00 -0400 (Tue, 09 Apr 2019) |
| EndedAt: 2019-04-09 00:48:57 -0400 (Tue, 09 Apr 2019) |
| EllapsedTime: 296.3 seconds |
| RetCode: 0 |
| Status: OK |
| CheckDir: epigenomix.Rcheck |
| Warnings: 0 |
##############################################################################
##############################################################################
###
### Running command:
###
### /Library/Frameworks/R.framework/Versions/Current/Resources/bin/R CMD check --install=check:epigenomix.install-out.txt --library=/Library/Frameworks/R.framework/Versions/Current/Resources/library --no-vignettes --timings epigenomix_1.23.0.tar.gz
###
##############################################################################
##############################################################################
* using log directory ‘/Users/biocbuild/bbs-3.9-bioc/meat/epigenomix.Rcheck’
* using R Under development (unstable) (2018-11-27 r75683)
* using platform: x86_64-apple-darwin15.6.0 (64-bit)
* using session charset: UTF-8
* using option ‘--no-vignettes’
* checking for file ‘epigenomix/DESCRIPTION’ ... OK
* checking extension type ... Package
* this is package ‘epigenomix’ version ‘1.23.0’
* checking package namespace information ... OK
* checking package dependencies ... OK
* checking if this is a source package ... OK
* checking if there is a namespace ... OK
* checking for hidden files and directories ... OK
* checking for portable file names ... OK
* checking for sufficient/correct file permissions ... OK
* checking whether package ‘epigenomix’ can be installed ... OK
* checking installed package size ... OK
* checking package directory ... OK
* checking ‘build’ directory ... OK
* checking DESCRIPTION meta-information ... OK
* checking top-level files ... OK
* checking for left-over files ... OK
* checking index information ... OK
* checking package subdirectories ... OK
* checking R files for non-ASCII characters ... OK
* checking R files for syntax errors ... OK
* checking whether the package can be loaded ... OK
* checking whether the package can be loaded with stated dependencies ... OK
* checking whether the package can be unloaded cleanly ... OK
* checking whether the namespace can be loaded with stated dependencies ... OK
* checking whether the namespace can be unloaded cleanly ... OK
* checking dependencies in R code ... OK
* checking S3 generic/method consistency ... OK
* checking replacement functions ... OK
* checking foreign function calls ... OK
* checking R code for possible problems ... OK
* checking Rd files ... OK
* checking Rd metadata ... OK
* checking Rd cross-references ... OK
* checking for missing documentation entries ... OK
* checking for code/documentation mismatches ... OK
* checking Rd \usage sections ... OK
* checking Rd contents ... OK
* checking for unstated dependencies in examples ... OK
* checking contents of ‘data’ directory ... OK
* checking data for non-ASCII characters ... OK
* checking data for ASCII and uncompressed saves ... OK
* checking sizes of PDF files under ‘inst/doc’ ... OK
* checking files in ‘vignettes’ ... OK
* checking examples ... OK
Examples with CPU or elapsed time > 5s
user system elapsed
plotChains 33.610 0.416 34.395
bayesMixModel 25.593 0.292 26.134
mlMixModel 12.825 0.257 13.238
* checking for unstated dependencies in vignettes ... OK
* checking package vignettes in ‘inst/doc’ ... OK
* checking running R code from vignettes ... SKIPPED
* checking re-building of vignette outputs ... SKIPPED
* checking PDF version of manual ... OK
* DONE
Status: OK
epigenomix.Rcheck/00install.out
############################################################################## ############################################################################## ### ### Running command: ### ### /Library/Frameworks/R.framework/Versions/Current/Resources/bin/R CMD INSTALL epigenomix ### ############################################################################## ############################################################################## * installing to library ‘/Library/Frameworks/R.framework/Versions/3.6/Resources/library’ * installing *source* package ‘epigenomix’ ... ** R ** data ** inst ** byte-compile and prepare package for lazy loading ** help *** installing help indices ** building package indices ** installing vignettes ** testing if installed package can be loaded * DONE (epigenomix)
epigenomix.Rcheck/epigenomix-Ex.timings
| name | user | system | elapsed | |
| ChIPseqSet-class | 0.003 | 0.000 | 0.003 | |
| MixModel-class | 0.001 | 0.001 | 0.001 | |
| MixModelBayes-class | 0.001 | 0.000 | 0.001 | |
| MixModelML-class | 0.001 | 0.001 | 0.001 | |
| MixtureComponent-class | 0.000 | 0.000 | 0.001 | |
| bayesMixModel | 25.593 | 0.292 | 26.134 | |
| calculateCrossCorrelation | 0.804 | 0.007 | 0.819 | |
| eSet | 0.016 | 0.001 | 0.018 | |
| fpkm | 0.036 | 0.004 | 0.040 | |
| getAlignmentQuality | 0 | 0 | 0 | |
| integrateData | 0.230 | 0.005 | 0.236 | |
| mappedReads | 0.030 | 0.004 | 0.035 | |
| matchProbeToPromoter | 0.359 | 0.001 | 0.364 | |
| mlMixModel | 12.825 | 0.257 | 13.238 | |
| normalize | 0.229 | 0.001 | 0.231 | |
| normalizeChIP | 0.110 | 0.005 | 0.115 | |
| plotChains | 33.610 | 0.416 | 34.395 | |
| plotClassification | 0.027 | 0.001 | 0.028 | |
| plotComponents | 0.062 | 0.002 | 0.064 | |
| summarizeReads | 0.325 | 0.001 | 0.332 | |
| transToTSS | 0.005 | 0.003 | 0.008 | |