| Back to Multiple platform build/check report for BioC 3.9 | 
 | 
This page was generated on 2019-10-16 12:27:37 -0400 (Wed, 16 Oct 2019).
| Package 508/1741 | Hostname | OS / Arch | INSTALL | BUILD | CHECK | BUILD BIN | ||||||
| epigenomix 1.24.0 Hans-Ulrich Klein 
 | malbec2 | Linux (Ubuntu 18.04.2 LTS) / x86_64 | OK | OK | OK |  | ||||||
| tokay2 | Windows Server 2012 R2 Standard / x64 | [ OK ] | OK | OK | OK |  | ||||||
| celaya2 | OS X 10.11.6 El Capitan / x86_64 | OK | OK | OK | OK |  | 
| Package: epigenomix | 
| Version: 1.24.0 | 
| Command: C:\cygwin\bin\curl.exe -O https://malbec2.bioconductor.org/BBS/3.9/bioc/src/contrib/epigenomix_1.24.0.tar.gz && rm -rf epigenomix.buildbin-libdir && mkdir epigenomix.buildbin-libdir && C:\Users\biocbuild\bbs-3.9-bioc\R\bin\R.exe CMD INSTALL --merge-multiarch --build --library=epigenomix.buildbin-libdir epigenomix_1.24.0.tar.gz && C:\Users\biocbuild\bbs-3.9-bioc\R\bin\R.exe CMD INSTALL epigenomix_1.24.0.zip && rm epigenomix_1.24.0.tar.gz epigenomix_1.24.0.zip | 
| StartedAt: 2019-10-15 20:08:27 -0400 (Tue, 15 Oct 2019) | 
| EndedAt: 2019-10-15 20:09:43 -0400 (Tue, 15 Oct 2019) | 
| EllapsedTime: 75.3 seconds | 
| RetCode: 0 | 
| Status: OK | 
##############################################################################
##############################################################################
###
### Running command:
###
###   C:\cygwin\bin\curl.exe -O https://malbec2.bioconductor.org/BBS/3.9/bioc/src/contrib/epigenomix_1.24.0.tar.gz && rm -rf epigenomix.buildbin-libdir && mkdir epigenomix.buildbin-libdir && C:\Users\biocbuild\bbs-3.9-bioc\R\bin\R.exe CMD INSTALL --merge-multiarch --build --library=epigenomix.buildbin-libdir epigenomix_1.24.0.tar.gz && C:\Users\biocbuild\bbs-3.9-bioc\R\bin\R.exe CMD INSTALL epigenomix_1.24.0.zip && rm epigenomix_1.24.0.tar.gz epigenomix_1.24.0.zip
###
##############################################################################
##############################################################################
  % Total    % Received % Xferd  Average Speed   Time    Time     Time  Current
                                 Dload  Upload   Total   Spent    Left  Speed
  0     0    0     0    0     0      0      0 --:--:-- --:--:-- --:--:--     0
100  213k  100  213k    0     0  3789k      0 --:--:-- --:--:-- --:--:-- 4276k
install for i386
* installing *source* package 'epigenomix' ...
** using staged installation
** R
** data
** inst
** byte-compile and prepare package for lazy loading
** help
*** installing help indices
  converting help for package 'epigenomix'
    finding HTML links ... done
    ChIPseqSet-class                        html  
    finding level-2 HTML links ... done
    MixModel-class                          html  
    MixModelBayes-class                     html  
    MixModelML-class                        html  
    MixtureComponent-class                  html  
    bayesMixModel                           html  
    calculateCrossCorrelation               html  
    eSet                                    html  
    fpkm                                    html  
    getAlignmentQuality                     html  
    integrateData                           html  
    mappedReads                             html  
    matchProbeToPromoter                    html  
    mlMixModel                              html  
    normalize                               html  
    normalizeChIP                           html  
    plotChains                              html  
    plotClassification                      html  
    plotComponents                          html  
    summarizeReads                          html  
    transToTSS                              html  
** building package indices
** installing vignettes
** testing if installed package can be loaded from temporary location
** testing if installed package can be loaded from final location
** testing if installed package keeps a record of temporary installation path
install for x64
* installing *source* package 'epigenomix' ...
** testing if installed package can be loaded
* MD5 sums
packaged installation of 'epigenomix' as epigenomix_1.24.0.zip
* DONE (epigenomix)
* installing to library 'C:/Users/biocbuild/bbs-3.9-bioc/R/library'
package 'epigenomix' successfully unpacked and MD5 sums checked