| Back to Multiple platform build/check report for BioC 3.9 |
|
This page was generated on 2019-04-09 13:37:29 -0400 (Tue, 09 Apr 2019).
| Package 1693/1703 | Hostname | OS / Arch | INSTALL | BUILD | CHECK | BUILD BIN | ||||||
| XINA 1.1.1 Lang Ho Lee
| malbec2 | Linux (Ubuntu 18.04.2 LTS) / x86_64 | OK | OK | OK | |||||||
| tokay2 | Windows Server 2012 R2 Standard / x64 | OK | OK | OK | OK | |||||||
| celaya2 | OS X 10.11.6 El Capitan / x86_64 | OK | OK | OK | OK | |||||||
| merida2 | OS X 10.11.6 El Capitan / x86_64 | OK | OK | [ OK ] | OK |
| Package: XINA |
| Version: 1.1.1 |
| Command: /Library/Frameworks/R.framework/Versions/Current/Resources/bin/R CMD check --install=check:XINA.install-out.txt --library=/Library/Frameworks/R.framework/Versions/Current/Resources/library --no-vignettes --timings XINA_1.1.1.tar.gz |
| StartedAt: 2019-04-09 04:24:59 -0400 (Tue, 09 Apr 2019) |
| EndedAt: 2019-04-09 04:27:57 -0400 (Tue, 09 Apr 2019) |
| EllapsedTime: 177.9 seconds |
| RetCode: 0 |
| Status: OK |
| CheckDir: XINA.Rcheck |
| Warnings: 0 |
##############################################################################
##############################################################################
###
### Running command:
###
### /Library/Frameworks/R.framework/Versions/Current/Resources/bin/R CMD check --install=check:XINA.install-out.txt --library=/Library/Frameworks/R.framework/Versions/Current/Resources/library --no-vignettes --timings XINA_1.1.1.tar.gz
###
##############################################################################
##############################################################################
* using log directory ‘/Users/biocbuild/bbs-3.9-bioc/meat/XINA.Rcheck’
* using R Under development (unstable) (2018-11-27 r75683)
* using platform: x86_64-apple-darwin15.6.0 (64-bit)
* using session charset: UTF-8
* using option ‘--no-vignettes’
* checking for file ‘XINA/DESCRIPTION’ ... OK
* checking extension type ... Package
* this is package ‘XINA’ version ‘1.1.1’
* package encoding: UTF-8
* checking package namespace information ... OK
* checking package dependencies ... OK
* checking if this is a source package ... OK
* checking if there is a namespace ... OK
* checking for hidden files and directories ... OK
* checking for portable file names ... OK
* checking for sufficient/correct file permissions ... OK
* checking whether package ‘XINA’ can be installed ... OK
* checking installed package size ... OK
* checking package directory ... OK
* checking ‘build’ directory ... OK
* checking DESCRIPTION meta-information ... OK
* checking top-level files ... OK
* checking for left-over files ... OK
* checking index information ... OK
* checking package subdirectories ... OK
* checking R files for non-ASCII characters ... OK
* checking R files for syntax errors ... OK
* checking whether the package can be loaded ... OK
* checking whether the package can be loaded with stated dependencies ... OK
* checking whether the package can be unloaded cleanly ... OK
* checking whether the namespace can be loaded with stated dependencies ... OK
* checking whether the namespace can be unloaded cleanly ... OK
* checking dependencies in R code ... NOTE
Package in Depends field not imported from: ‘Biobase’
These packages need to be imported from (in the NAMESPACE file)
for when this namespace is loaded but not attached.
* checking S3 generic/method consistency ... OK
* checking replacement functions ... OK
* checking foreign function calls ... OK
* checking R code for possible problems ... OK
* checking Rd files ... OK
* checking Rd metadata ... OK
* checking Rd cross-references ... OK
* checking for missing documentation entries ... OK
* checking for code/documentation mismatches ... OK
* checking Rd \usage sections ... OK
* checking Rd contents ... OK
* checking for unstated dependencies in examples ... OK
* checking contents of ‘data’ directory ... OK
* checking data for non-ASCII characters ... OK
* checking data for ASCII and uncompressed saves ... OK
* checking files in ‘vignettes’ ... OK
* checking examples ... OK
Examples with CPU or elapsed time > 5s
user system elapsed
xina_clustering 36.431 0.340 36.982
plot_condition_compositions 22.717 0.077 22.937
plot_clusters 13.404 0.039 13.544
mutate_colors 12.790 0.048 12.923
get_condition_biased_comigrations 7.987 0.049 8.068
xina_plot_all 5.756 0.610 5.918
* checking for unstated dependencies in vignettes ... OK
* checking package vignettes in ‘inst/doc’ ... OK
* checking running R code from vignettes ... SKIPPED
* checking re-building of vignette outputs ... SKIPPED
* checking PDF version of manual ... OK
* DONE
Status: 1 NOTE
See
‘/Users/biocbuild/bbs-3.9-bioc/meat/XINA.Rcheck/00check.log’
for details.
XINA.Rcheck/00install.out
############################################################################## ############################################################################## ### ### Running command: ### ### /Library/Frameworks/R.framework/Versions/Current/Resources/bin/R CMD INSTALL XINA ### ############################################################################## ############################################################################## * installing to library ‘/Library/Frameworks/R.framework/Versions/3.6/Resources/library’ * installing *source* package ‘XINA’ ... ** R ** data ** byte-compile and prepare package for lazy loading ** help *** installing help indices ** building package indices ** installing vignettes ** testing if installed package can be loaded * DONE (XINA)
XINA.Rcheck/XINA-Ex.timings
| name | user | system | elapsed | |
| alluvial_enriched | 3.516 | 0.080 | 3.626 | |
| draw_alluvial_plot | 0.073 | 0.009 | 0.083 | |
| get_comigrations_by_name | 0.048 | 0.007 | 0.057 | |
| get_condition_biased_comigrations | 7.987 | 0.049 | 8.068 | |
| get_unknown_ppi_nodes | 0.069 | 0.014 | 0.084 | |
| load_previous_results | 1.411 | 0.043 | 1.463 | |
| make_random_xina_data | 0.437 | 0.029 | 0.470 | |
| mutate_colors | 12.790 | 0.048 | 12.923 | |
| plot_clusters | 13.404 | 0.039 | 13.544 | |
| plot_clusters_all | 1.399 | 0.030 | 1.434 | |
| plot_condition_compositions | 22.717 | 0.077 | 22.937 | |
| plot_enrichment_results | 0.000 | 0.000 | 0.001 | |
| xina_analysis | 0 | 0 | 0 | |
| xina_clustering | 36.431 | 0.340 | 36.982 | |
| xina_enrichment | 0 | 0 | 0 | |
| xina_plot_all | 5.756 | 0.610 | 5.918 | |
| xina_plot_bycluster | 0.209 | 0.067 | 0.284 | |
| xina_plot_single | 0.165 | 0.074 | 0.245 | |