| Back to Multiple platform build/check report for BioC 3.9 |
|
This page was generated on 2019-04-09 13:35:04 -0400 (Tue, 09 Apr 2019).
| Package 1648/1703 | Hostname | OS / Arch | INSTALL | BUILD | CHECK | BUILD BIN | ||||||
| TSRchitect 1.9.0 R. Taylor Raborn
| malbec2 | Linux (Ubuntu 18.04.2 LTS) / x86_64 | OK | OK | OK | |||||||
| tokay2 | Windows Server 2012 R2 Standard / x64 | OK | OK | WARNINGS | OK | |||||||
| celaya2 | OS X 10.11.6 El Capitan / x86_64 | OK | OK | OK | OK | |||||||
| merida2 | OS X 10.11.6 El Capitan / x86_64 | OK | OK | [ OK ] | OK |
| Package: TSRchitect |
| Version: 1.9.0 |
| Command: /Library/Frameworks/R.framework/Versions/Current/Resources/bin/R CMD check --install=check:TSRchitect.install-out.txt --library=/Library/Frameworks/R.framework/Versions/Current/Resources/library --no-vignettes --timings TSRchitect_1.9.0.tar.gz |
| StartedAt: 2019-04-09 04:15:42 -0400 (Tue, 09 Apr 2019) |
| EndedAt: 2019-04-09 04:20:05 -0400 (Tue, 09 Apr 2019) |
| EllapsedTime: 263.3 seconds |
| RetCode: 0 |
| Status: OK |
| CheckDir: TSRchitect.Rcheck |
| Warnings: 0 |
##############################################################################
##############################################################################
###
### Running command:
###
### /Library/Frameworks/R.framework/Versions/Current/Resources/bin/R CMD check --install=check:TSRchitect.install-out.txt --library=/Library/Frameworks/R.framework/Versions/Current/Resources/library --no-vignettes --timings TSRchitect_1.9.0.tar.gz
###
##############################################################################
##############################################################################
* using log directory ‘/Users/biocbuild/bbs-3.9-bioc/meat/TSRchitect.Rcheck’
* using R Under development (unstable) (2018-11-27 r75683)
* using platform: x86_64-apple-darwin15.6.0 (64-bit)
* using session charset: UTF-8
* using option ‘--no-vignettes’
* checking for file ‘TSRchitect/DESCRIPTION’ ... OK
* this is package ‘TSRchitect’ version ‘1.9.0’
* checking package namespace information ... OK
* checking package dependencies ... OK
* checking if this is a source package ... OK
* checking if there is a namespace ... OK
* checking for hidden files and directories ... OK
* checking for portable file names ... OK
* checking for sufficient/correct file permissions ... OK
* checking whether package ‘TSRchitect’ can be installed ... OK
* checking installed package size ... OK
* checking package directory ... OK
* checking ‘build’ directory ... OK
* checking DESCRIPTION meta-information ... OK
* checking top-level files ... NOTE
File
inst/LICENSE
will install at top-level and is not mentioned in the DESCRIPTION file.
* checking for left-over files ... OK
* checking index information ... OK
* checking package subdirectories ... OK
* checking R files for non-ASCII characters ... OK
* checking R files for syntax errors ... OK
* checking whether the package can be loaded ... OK
* checking whether the package can be loaded with stated dependencies ... OK
* checking whether the package can be unloaded cleanly ... OK
* checking whether the namespace can be loaded with stated dependencies ... OK
* checking whether the namespace can be unloaded cleanly ... OK
* checking dependencies in R code ... OK
* checking S3 generic/method consistency ... OK
* checking replacement functions ... OK
* checking foreign function calls ... OK
* checking R code for possible problems ... OK
* checking Rd files ... OK
* checking Rd metadata ... OK
* checking Rd cross-references ... OK
* checking for missing documentation entries ... OK
* checking for code/documentation mismatches ... OK
* checking Rd \usage sections ... OK
* checking Rd contents ... OK
* checking for unstated dependencies in examples ... OK
* checking sizes of PDF files under ‘inst/doc’ ... OK
* checking installed files from ‘inst/doc’ ... OK
* checking files in ‘vignettes’ ... OK
* checking examples ... OK
Examples with CPU or elapsed time > 5s
user system elapsed
writeTSR-methods 52.150 3.162 0.103
loadTSSobj-methods 8.992 0.689 9.180
processTSS-methods 0.505 0.150 14.518
* checking for unstated dependencies in vignettes ... OK
* checking package vignettes in ‘inst/doc’ ... OK
* checking running R code from vignettes ... SKIPPED
* checking re-building of vignette outputs ... SKIPPED
* checking PDF version of manual ... OK
* DONE
Status: 1 NOTE
See
‘/Users/biocbuild/bbs-3.9-bioc/meat/TSRchitect.Rcheck/00check.log’
for details.
TSRchitect.Rcheck/00install.out
############################################################################## ############################################################################## ### ### Running command: ### ### /Library/Frameworks/R.framework/Versions/Current/Resources/bin/R CMD INSTALL TSRchitect ### ############################################################################## ############################################################################## * installing to library ‘/Library/Frameworks/R.framework/Versions/3.6/Resources/library’ * installing *source* package ‘TSRchitect’ ... ** R ** inst ** byte-compile and prepare package for lazy loading ** help *** installing help indices ** building package indices ** installing vignettes ‘TSRchitect.Rmd’ using ‘UTF-8’ ‘TSRchitectUsersGuide.Rmd’ using ‘UTF-8’ Warning in res[i] <- withCallingHandlers(if (tangle) process_tangle(group) else process_group(group), : number of items to replace is not a multiple of replacement length Warning in res[i] <- withCallingHandlers(if (tangle) process_tangle(group) else process_group(group), : number of items to replace is not a multiple of replacement length Warning in res[i] <- withCallingHandlers(if (tangle) process_tangle(group) else process_group(group), : number of items to replace is not a multiple of replacement length ** testing if installed package can be loaded * DONE (TSRchitect)
TSRchitect.Rcheck/TSRchitect-Ex.timings
| name | user | system | elapsed | |
| TSRchitectUsersGuide | 0.001 | 0.000 | 0.001 | |
| addAnnotationToTSR-methods | 0.265 | 0.004 | 0.275 | |
| addTagCountsToTSR-methods | 0.075 | 0.002 | 0.077 | |
| cDNAtoBED-methods | 0.148 | 0.018 | 0.173 | |
| createSummarizedExperiment-methods | 0.129 | 0.006 | 0.135 | |
| determineTSR-methods | 0.103 | 0.005 | 0.108 | |
| getBamData-methods | 0.109 | 0.007 | 0.117 | |
| getFileNames-methods | 0.052 | 0.001 | 0.053 | |
| getTSRdata-methods | 0.050 | 0.002 | 0.052 | |
| getTSScountData-methods | 0.052 | 0.003 | 0.055 | |
| getTSStagData-methods | 0.088 | 0.004 | 0.094 | |
| getTitle-methods | 0.096 | 0.001 | 0.098 | |
| importAnnotationExternal-methods | 0.351 | 0.006 | 0.359 | |
| inputToTSS-methods | 1.004 | 0.032 | 1.039 | |
| loadTSSobj-methods | 8.992 | 0.689 | 9.180 | |
| makeGRangesFromTSR-methods | 0.100 | 0.032 | 0.133 | |
| mergeSampleData-methods | 0.455 | 0.050 | 0.508 | |
| processTSS-methods | 0.505 | 0.150 | 14.518 | |
| tssObject | 0.001 | 0.001 | 0.002 | |
| writeTSR-methods | 52.150 | 3.162 | 0.103 | |