| Back to Multiple platform build/check report for BioC 3.9 |
|
This page was generated on 2019-10-16 12:38:30 -0400 (Wed, 16 Oct 2019).
| Package 1685/1741 | Hostname | OS / Arch | INSTALL | BUILD | CHECK | BUILD BIN | ||||||
| TSRchitect 1.10.12 R. Taylor Raborn
| malbec2 | Linux (Ubuntu 18.04.2 LTS) / x86_64 | OK | OK | WARNINGS | |||||||
| tokay2 | Windows Server 2012 R2 Standard / x64 | OK | OK | WARNINGS | [ OK ] | |||||||
| celaya2 | OS X 10.11.6 El Capitan / x86_64 | OK | OK | WARNINGS | OK |
| Package: TSRchitect |
| Version: 1.10.12 |
| Command: rm -rf TSRchitect.buildbin-libdir && mkdir TSRchitect.buildbin-libdir && C:\Users\biocbuild\bbs-3.9-bioc\R\bin\R.exe CMD INSTALL --merge-multiarch --build --library=TSRchitect.buildbin-libdir TSRchitect_1.10.12.tar.gz |
| StartedAt: 2019-10-16 10:24:21 -0400 (Wed, 16 Oct 2019) |
| EndedAt: 2019-10-16 10:25:15 -0400 (Wed, 16 Oct 2019) |
| EllapsedTime: 54.0 seconds |
| RetCode: 0 |
| Status: OK |
| PackageFile: TSRchitect_1.10.12.zip |
| PackageFileSize: 1.164 MiB |
##############################################################################
##############################################################################
###
### Running command:
###
### rm -rf TSRchitect.buildbin-libdir && mkdir TSRchitect.buildbin-libdir && C:\Users\biocbuild\bbs-3.9-bioc\R\bin\R.exe CMD INSTALL --merge-multiarch --build --library=TSRchitect.buildbin-libdir TSRchitect_1.10.12.tar.gz
###
##############################################################################
##############################################################################
install for i386
* installing *source* package 'TSRchitect' ...
** using staged installation
** R
** inst
** byte-compile and prepare package for lazy loading
** help
*** installing help indices
converting help for package 'TSRchitect'
finding HTML links ... done
TSRchitectUsersGuide html
TSRmshapeIndex html
TSRshapeIndex html
addAnnotationToTSR-methods html
finding level-2 HTML links ... done
addTagCountsToTSR-methods html
bedToTSS-methods html
createSummarizedExperiment-methods html
detTSR-methods html
determineTSR-methods html
getBamDataFirstRead-methods html
getBamDataLastRead-methods html
getFileNames-methods html
getTSRdata-methods html
getTSScountData-methods html
getTSStagData-methods html
getTitle-methods html
gsq2bed-methods html
importAnnotationExternal-methods html
importAnnotationHub-methods html
inputToTSS-methods html
loadTSSobj-methods html
makeGRangesFromTSR-methods html
mergeSampleData-methods html
prcTSS html
processTSS-methods html
tagCountTSS html
tsrCluster html
tssArrayProperties html
tssObject html
writeTSR-methods html
writeTSS-methods html
** building package indices
** installing vignettes
** testing if installed package can be loaded from temporary location
** testing if installed package can be loaded from final location
** testing if installed package keeps a record of temporary installation path
install for x64
* installing *source* package 'TSRchitect' ...
** testing if installed package can be loaded
* MD5 sums
packaged installation of 'TSRchitect' as TSRchitect_1.10.12.zip
* DONE (TSRchitect)