| Back to Multiple platform build/check report for BioC 3.9 | 
 | 
This page was generated on 2019-04-09 13:24:47 -0400 (Tue, 09 Apr 2019).
| Package 1360/1703 | Hostname | OS / Arch | INSTALL | BUILD | CHECK | BUILD BIN | ||||||
| Rmagpie 1.39.0 Camille Maumet 
 | malbec2 | Linux (Ubuntu 18.04.2 LTS) / x86_64 | OK | OK | OK |  | ||||||
| tokay2 | Windows Server 2012 R2 Standard / x64 | OK | OK | OK | OK |  | ||||||
| celaya2 | OS X 10.11.6 El Capitan / x86_64 | OK | OK | OK | OK |  | ||||||
| merida2 | OS X 10.11.6 El Capitan / x86_64 | OK | OK | [ OK ] | OK | 
| Package: Rmagpie | 
| Version: 1.39.0 | 
| Command: /Library/Frameworks/R.framework/Versions/Current/Resources/bin/R CMD check --install=check:Rmagpie.install-out.txt --library=/Library/Frameworks/R.framework/Versions/Current/Resources/library --no-vignettes --timings Rmagpie_1.39.0.tar.gz | 
| StartedAt: 2019-04-09 03:23:34 -0400 (Tue, 09 Apr 2019) | 
| EndedAt: 2019-04-09 03:25:23 -0400 (Tue, 09 Apr 2019) | 
| EllapsedTime: 108.5 seconds | 
| RetCode: 0 | 
| Status: OK | 
| CheckDir: Rmagpie.Rcheck | 
| Warnings: 0 | 
##############################################################################
##############################################################################
###
### Running command:
###
###   /Library/Frameworks/R.framework/Versions/Current/Resources/bin/R CMD check --install=check:Rmagpie.install-out.txt --library=/Library/Frameworks/R.framework/Versions/Current/Resources/library --no-vignettes --timings Rmagpie_1.39.0.tar.gz
###
##############################################################################
##############################################################################
* using log directory ‘/Users/biocbuild/bbs-3.9-bioc/meat/Rmagpie.Rcheck’
* using R Under development (unstable) (2018-11-27 r75683)
* using platform: x86_64-apple-darwin15.6.0 (64-bit)
* using session charset: UTF-8
* using option ‘--no-vignettes’
* checking for file ‘Rmagpie/DESCRIPTION’ ... OK
* this is package ‘Rmagpie’ version ‘1.39.0’
* checking package namespace information ... OK
* checking package dependencies ... OK
* checking if this is a source package ... OK
* checking if there is a namespace ... OK
* checking for hidden files and directories ... OK
* checking for portable file names ... OK
* checking for sufficient/correct file permissions ... OK
* checking whether package ‘Rmagpie’ can be installed ... OK
* checking installed package size ... OK
* checking package directory ... OK
* checking ‘build’ directory ... OK
* checking DESCRIPTION meta-information ... NOTE
Package listed in more than one of Depends, Imports, Suggests, Enhances:
  ‘Biobase’
A package should be listed in only one of these fields.
* checking top-level files ... OK
* checking for left-over files ... OK
* checking index information ... OK
* checking package subdirectories ... OK
* checking R files for non-ASCII characters ... OK
* checking R files for syntax errors ... OK
* checking whether the package can be loaded ... OK
* checking whether the package can be loaded with stated dependencies ... OK
* checking whether the package can be unloaded cleanly ... OK
* checking whether the namespace can be loaded with stated dependencies ... OK
* checking whether the namespace can be unloaded cleanly ... OK
* checking dependencies in R code ... OK
* checking S3 generic/method consistency ... OK
* checking replacement functions ... OK
* checking foreign function calls ... OK
* checking R code for possible problems ... NOTE
twoLayerExtCV: warning in performAValidation(data = eset, trainIndices
  = extInds[[i]], noGenes = upToBestSelectedFeature, classes = classes,
  classifierName = classifierName, verbose = verbose, kernel = kernel,
  featureSelectionFun = featureSelectionFun, trainTestFun =
  trainTestFun): partial argument match of 'data' to 'dataset'
getFeatureSelectionOptions<-,assessment: no visible global function
  definition for ‘getNoOfOptions<-’
getFeatureSelectionOptions<-,assessment: no visible global function
  definition for ‘getNoModels<-’
Undefined global functions or variables:
  getNoModels<- getNoOfOptions<-
* checking Rd files ... OK
* checking Rd metadata ... OK
* checking Rd cross-references ... OK
* checking for missing documentation entries ... OK
* checking for code/documentation mismatches ... OK
* checking Rd \usage sections ... OK
* checking Rd contents ... OK
* checking for unstated dependencies in examples ... OK
* checking contents of ‘data’ directory ... OK
* checking data for non-ASCII characters ... OK
* checking data for ASCII and uncompressed saves ... OK
* checking sizes of PDF files under ‘inst/doc’ ... OK
* checking files in ‘vignettes’ ... OK
* checking examples ... OK
Examples with CPU or elapsed time > 5s
                                   user system elapsed
runTwoLayerExtCV-methods         10.159  0.056  10.340
getResults-methods                5.463  0.081   5.594
plotErrorsFoldTwoLayerCV-methods  5.026  0.012   5.093
* checking for unstated dependencies in vignettes ... OK
* checking package vignettes in ‘inst/doc’ ... OK
* checking running R code from vignettes ... SKIPPED
* checking re-building of vignette outputs ... SKIPPED
* checking PDF version of manual ... OK
* DONE
Status: 2 NOTEs
See
  ‘/Users/biocbuild/bbs-3.9-bioc/meat/Rmagpie.Rcheck/00check.log’
for details.
Rmagpie.Rcheck/00install.out
############################################################################## ############################################################################## ### ### Running command: ### ### /Library/Frameworks/R.framework/Versions/Current/Resources/bin/R CMD INSTALL Rmagpie ### ############################################################################## ############################################################################## * installing to library ‘/Library/Frameworks/R.framework/Versions/3.6/Resources/library’ * installing *source* package ‘Rmagpie’ ... ** R ** data ** demo ** inst ** byte-compile and prepare package for lazy loading ** help *** installing help indices ** building package indices ** installing vignettes ** testing if installed package can be loaded * DONE (Rmagpie)
Rmagpie.Rcheck/Rmagpie-Ex.timings
| name | user | system | elapsed | |
| classifyNewSamples-methods | 1.621 | 0.106 | 1.740 | |
| experiment-class | 0.127 | 0.007 | 0.138 | |
| finalClassifier-class | 0.089 | 0.003 | 0.094 | |
| findFinalClassifier-methods | 0.170 | 0.007 | 0.177 | |
| geneSubsets-class | 0.007 | 0.001 | 0.007 | |
| getDataset-methods | 0.009 | 0.001 | 0.011 | |
| getFeatureSelectionOptions-methods | 0.010 | 0.002 | 0.011 | |
| getFinalClassifier | 0.133 | 0.012 | 0.147 | |
| getResults-methods | 5.463 | 0.081 | 5.594 | |
| plotErrorsFoldTwoLayerCV-methods | 5.026 | 0.012 | 5.093 | |
| plotErrorsRepeatedOneLayerCV | 0.950 | 0.004 | 0.965 | |
| plotErrorsSummaryOneLayerCV-methods | 0.944 | 0.004 | 0.957 | |
| rankedGenesImg-methods | 0 | 0 | 0 | |
| runOneLayerExtCV-methods | 0.877 | 0.003 | 0.887 | |
| runTwoLayerExtCV-methods | 10.159 | 0.056 | 10.340 | |
| setDataset-methods | 0.000 | 0.000 | 0.001 | |
| setFeatureSelectionOptions-methods | 0.010 | 0.001 | 0.011 | |
| thresholds-class | 0.001 | 0.000 | 0.002 | |
| vV70genes | 0.003 | 0.001 | 0.005 | |