| Back to Multiple platform build/check report for BioC 3.9 | 
  | 
This page was generated on 2019-10-16 12:22:38 -0400 (Wed, 16 Oct 2019).
| Package 1387/1741 | Hostname | OS / Arch | INSTALL | BUILD | CHECK | BUILD BIN | ||||||
| Rmagpie 1.40.0 Camille Maumet 
  | malbec2 | Linux (Ubuntu 18.04.2 LTS) / x86_64 | OK | OK | OK | |||||||
| tokay2 | Windows Server 2012 R2 Standard / x64 | [ OK ] | OK | OK | OK | |||||||
| celaya2 | OS X 10.11.6 El Capitan / x86_64 | OK | OK | OK | OK | 
| Package: Rmagpie | 
| Version: 1.40.0 | 
| Command: C:\cygwin\bin\curl.exe -O https://malbec2.bioconductor.org/BBS/3.9/bioc/src/contrib/Rmagpie_1.40.0.tar.gz && rm -rf Rmagpie.buildbin-libdir && mkdir Rmagpie.buildbin-libdir && C:\Users\biocbuild\bbs-3.9-bioc\R\bin\R.exe CMD INSTALL --merge-multiarch --build --library=Rmagpie.buildbin-libdir Rmagpie_1.40.0.tar.gz && C:\Users\biocbuild\bbs-3.9-bioc\R\bin\R.exe CMD INSTALL Rmagpie_1.40.0.zip && rm Rmagpie_1.40.0.tar.gz Rmagpie_1.40.0.zip | 
| StartedAt: 2019-10-15 18:59:31 -0400 (Tue, 15 Oct 2019) | 
| EndedAt: 2019-10-15 19:00:37 -0400 (Tue, 15 Oct 2019) | 
| EllapsedTime: 65.9 seconds | 
| RetCode: 0 | 
| Status: OK | 
##############################################################################
##############################################################################
###
### Running command:
###
###   C:\cygwin\bin\curl.exe -O https://malbec2.bioconductor.org/BBS/3.9/bioc/src/contrib/Rmagpie_1.40.0.tar.gz && rm -rf Rmagpie.buildbin-libdir && mkdir Rmagpie.buildbin-libdir && C:\Users\biocbuild\bbs-3.9-bioc\R\bin\R.exe CMD INSTALL --merge-multiarch --build --library=Rmagpie.buildbin-libdir Rmagpie_1.40.0.tar.gz && C:\Users\biocbuild\bbs-3.9-bioc\R\bin\R.exe CMD INSTALL Rmagpie_1.40.0.zip && rm Rmagpie_1.40.0.tar.gz Rmagpie_1.40.0.zip
###
##############################################################################
##############################################################################
  % Total    % Received % Xferd  Average Speed   Time    Time     Time  Current
                                 Dload  Upload   Total   Spent    Left  Speed
  0     0    0     0    0     0      0      0 --:--:-- --:--:-- --:--:--     0
100  141k  100  141k    0     0  2200k      0 --:--:-- --:--:-- --:--:-- 2445k
install for i386
* installing *source* package 'Rmagpie' ...
** using staged installation
** R
** data
** demo
** inst
** byte-compile and prepare package for lazy loading
** help
*** installing help indices
  converting help for package 'Rmagpie'
    finding HTML links ... done
    classifyNewSamples-methods              html  
    experiment-class                        html  
    featureSelectionOptions-class           html  
    finalClassifier-class                   html  
    findFinalClassifier-methods             html  
    geneSubsets-class                       html  
    getDataset-methods                      html  
    getFeatureSelectionOptions-methods      html  
    getFinalClassifier                      html  
    getResults-methods                      html  
    initialize-methods                      html  
    plotErrorsFoldTwoLayerCV-methods        html  
    plotErrorsRepeatedOneLayerCV            html  
    plotErrorsSummaryOneLayerCV-methods     html  
    rankedGenesImg-methods                  html  
    runOneLayerExtCV-methods                html  
    runTwoLayerExtCV-methods                html  
    setDataset-methods                      html  
    setFeatureSelectionOptions-methods      html  
    show-methods                            html  
    thresholds-class                        html  
    vV70genes                               html  
** building package indices
** installing vignettes
** testing if installed package can be loaded from temporary location
** testing if installed package can be loaded from final location
** testing if installed package keeps a record of temporary installation path
install for x64
* installing *source* package 'Rmagpie' ...
** testing if installed package can be loaded
* MD5 sums
packaged installation of 'Rmagpie' as Rmagpie_1.40.0.zip
* DONE (Rmagpie)
* installing to library 'C:/Users/biocbuild/bbs-3.9-bioc/R/library'
package 'Rmagpie' successfully unpacked and MD5 sums checked