This page was generated on 2019-10-16 12:14:24 -0400 (Wed, 16 Oct 2019).
##############################################################################
##############################################################################
###
### Running command:
###
### /home/biocbuild/bbs-3.9-bioc/R/bin/R CMD INSTALL RNAdecay
###
##############################################################################
##############################################################################
* installing to library ‘/home/biocbuild/bbs-3.9-bioc/R/library’
* installing *source* package ‘RNAdecay’ ...
** using staged installation
** libs
** arch -
/home/biocbuild/bbs-3.9-bioc/R/bin/Rscript --vanilla -e "TMB::compile('general_dExp_1sse.cpp',safebounds=FALSE,safeunload=FALSE)"
Note: Using Makevars in /home/biocbuild/.R/Makevars
make[1]: Entering directory '/home/biocbuild/bbs-3.9-bioc/meat/RNAdecay/src'
g++ -std=gnu++11 -I"/home/biocbuild/bbs-3.9-bioc/R/include" -DNDEBUG -I/home/biocbuild/bbs-3.9-bioc/R/library/TMB/include -I/home/biocbuild/bbs-3.9-bioc/R/library/RcppEigen/include -DTMB_LIB_INIT=R_init_general_dExp_1sse -I/usr/local/include -fpic -g -O2 -Wall -c general_dExp_1sse.cpp -o general_dExp_1sse.o
In file included from /home/biocbuild/bbs-3.9-bioc/R/library/RcppEigen/include/Eigen/Core:392:0,
from /home/biocbuild/bbs-3.9-bioc/R/library/RcppEigen/include/Eigen/Dense:1,
from /home/biocbuild/bbs-3.9-bioc/R/library/TMB/include/TMB.hpp:53,
from general_dExp_1sse.cpp:2:
/home/biocbuild/bbs-3.9-bioc/R/library/RcppEigen/include/Eigen/src/Core/arch/SSE/PacketMath.h:60:39: warning: ignoring attributes on template argument ‘__m128 {aka __vector(4) float}’ [-Wignored-attributes]
template<> struct is_arithmetic<__m128> { enum { value = true }; };
^
/home/biocbuild/bbs-3.9-bioc/R/library/RcppEigen/include/Eigen/src/Core/arch/SSE/PacketMath.h:61:40: warning: ignoring attributes on template argument ‘__m128i {aka __vector(2) long long int}’ [-Wignored-attributes]
template<> struct is_arithmetic<__m128i> { enum { value = true }; };
^
/home/biocbuild/bbs-3.9-bioc/R/library/RcppEigen/include/Eigen/src/Core/arch/SSE/PacketMath.h:62:40: warning: ignoring attributes on template argument ‘__m128d {aka __vector(2) double}’ [-Wignored-attributes]
template<> struct is_arithmetic<__m128d> { enum { value = true }; };
^
/home/biocbuild/bbs-3.9-bioc/R/library/RcppEigen/include/Eigen/src/Core/arch/SSE/PacketMath.h:161:43: warning: ignoring attributes on template argument ‘Eigen::internal::Packet4f {aka __vector(4) float}’ [-Wignored-attributes]
template<> struct unpacket_traits { typedef float type; enum {size=4, alignment=Aligned16}; typedef Packet4f half; };
^
In file included from /home/biocbuild/bbs-3.9-bioc/R/library/RcppEigen/include/Eigen/Core:392:0,
from /home/biocbuild/bbs-3.9-bioc/R/library/RcppEigen/include/Eigen/Dense:1,
from /home/biocbuild/bbs-3.9-bioc/R/library/TMB/include/TMB.hpp:53,
from general_dExp_1sse.cpp:2:
/home/biocbuild/bbs-3.9-bioc/R/library/RcppEigen/include/Eigen/src/Core/arch/SSE/PacketMath.h:162:43: warning: ignoring attributes on template argument ‘Eigen::internal::Packet2d {aka __vector(2) double}’ [-Wignored-attributes]
template<> struct unpacket_traits { typedef double type; enum {size=2, alignment=Aligned16}; typedef Packet2d half; };
^
/home/biocbuild/bbs-3.9-bioc/R/library/RcppEigen/include/Eigen/src/Core/arch/SSE/PacketMath.h:163:43: warning: ignoring attributes on template argument ‘Eigen::internal::Packet4i {aka __vector(2) long long int}’ [-Wignored-attributes]
template<> struct unpacket_traits { typedef int type; enum {size=4, alignment=Aligned16}; typedef Packet4i half; };
^
/home/biocbuild/bbs-3.9-bioc/R/library/RcppEigen/include/Eigen/src/Core/arch/SSE/PacketMath.h:718:35: warning: ignoring attributes on template argument ‘Eigen::internal::Packet4f {aka __vector(4) float}’ [-Wignored-attributes]
struct palign_impl
^
/home/biocbuild/bbs-3.9-bioc/R/library/RcppEigen/include/Eigen/src/Core/arch/SSE/PacketMath.h:741:35: warning: ignoring attributes on template argument ‘Eigen::internal::Packet4i {aka __vector(2) long long int}’ [-Wignored-attributes]
struct palign_impl
^
/home/biocbuild/bbs-3.9-bioc/R/library/RcppEigen/include/Eigen/src/Core/arch/SSE/PacketMath.h:764:35: warning: ignoring attributes on template argument ‘Eigen::internal::Packet2d {aka __vector(2) double}’ [-Wignored-attributes]
struct palign_impl
^
/home/biocbuild/bbs-3.9-bioc/R/library/RcppEigen/include/Eigen/src/Core/arch/SSE/PacketMath.h:778:34: warning: ignoring attributes on template argument ‘Eigen::internal::Packet4f {aka __vector(4) float}’ [-Wignored-attributes]
ptranspose(PacketBlock& kernel) {
^
/home/biocbuild/bbs-3.9-bioc/R/library/RcppEigen/include/Eigen/src/Core/arch/SSE/PacketMath.h:783:34: warning: ignoring attributes on template argument ‘Eigen::internal::Packet2d {aka __vector(2) double}’ [-Wignored-attributes]
ptranspose(PacketBlock& kernel) {
^
/home/biocbuild/bbs-3.9-bioc/R/library/RcppEigen/include/Eigen/src/Core/arch/SSE/PacketMath.h:790:34: warning: ignoring attributes on template argument ‘Eigen::internal::Packet4i {aka __vector(2) long long int}’ [-Wignored-attributes]
ptranspose(PacketBlock& kernel) {
^
In file included from /home/biocbuild/bbs-3.9-bioc/R/library/RcppEigen/include/Eigen/Core:374:0,
from /home/biocbuild/bbs-3.9-bioc/R/library/RcppEigen/include/Eigen/Dense:1,
from /home/biocbuild/bbs-3.9-bioc/R/library/TMB/include/TMB.hpp:53,
from general_dExp_1sse.cpp:2:
/home/biocbuild/bbs-3.9-bioc/R/library/RcppEigen/include/Eigen/src/Core/arch/Default/ConjHelper.h:15:70: warning: ignoring attributes on template argument ‘Eigen::internal::Packet4f {aka __vector(4) float}’ [-Wignored-attributes]
template<> struct conj_helper { \
^
/home/biocbuild/bbs-3.9-bioc/R/library/RcppEigen/include/Eigen/src/Core/arch/SSE/Complex.h:232:1: note: in expansion of macro ‘EIGEN_MAKE_CONJ_HELPER_CPLX_REAL’
EIGEN_MAKE_CONJ_HELPER_CPLX_REAL(Packet2cf,Packet4f)
^~~~~~~~~~~~~~~~~~~~~~~~~~~~~~~~
/home/biocbuild/bbs-3.9-bioc/R/library/RcppEigen/include/Eigen/src/Core/arch/Default/ConjHelper.h:22:70: warning: ignoring attributes on template argument ‘Eigen::internal::Packet4f {aka __vector(4) float}’ [-Wignored-attributes]
template<> struct conj_helper { \
^
/home/biocbuild/bbs-3.9-bioc/R/library/RcppEigen/include/Eigen/src/Core/arch/SSE/Complex.h:232:1: note: in expansion of macro ‘EIGEN_MAKE_CONJ_HELPER_CPLX_REAL’
EIGEN_MAKE_CONJ_HELPER_CPLX_REAL(Packet2cf,Packet4f)
^~~~~~~~~~~~~~~~~~~~~~~~~~~~~~~~
/home/biocbuild/bbs-3.9-bioc/R/library/RcppEigen/include/Eigen/src/Core/arch/Default/ConjHelper.h:15:70: warning: ignoring attributes on template argument ‘Eigen::internal::Packet2d {aka __vector(2) double}’ [-Wignored-attributes]
template<> struct conj_helper { \
^
/home/biocbuild/bbs-3.9-bioc/R/library/RcppEigen/include/Eigen/src/Core/arch/SSE/Complex.h:417:1: note: in expansion of macro ‘EIGEN_MAKE_CONJ_HELPER_CPLX_REAL’
EIGEN_MAKE_CONJ_HELPER_CPLX_REAL(Packet1cd,Packet2d)
^~~~~~~~~~~~~~~~~~~~~~~~~~~~~~~~
/home/biocbuild/bbs-3.9-bioc/R/library/RcppEigen/include/Eigen/src/Core/arch/Default/ConjHelper.h:22:70: warning: ignoring attributes on template argument ‘Eigen::internal::Packet2d {aka __vector(2) double}’ [-Wignored-attributes]
template<> struct conj_helper { \
^
/home/biocbuild/bbs-3.9-bioc/R/library/RcppEigen/include/Eigen/src/Core/arch/SSE/Complex.h:417:1: note: in expansion of macro ‘EIGEN_MAKE_CONJ_HELPER_CPLX_REAL’
EIGEN_MAKE_CONJ_HELPER_CPLX_REAL(Packet1cd,Packet2d)
^~~~~~~~~~~~~~~~~~~~~~~~~~~~~~~~
In file included from /home/biocbuild/bbs-3.9-bioc/R/library/RcppEigen/include/Eigen/Core:367:0,
from /home/biocbuild/bbs-3.9-bioc/R/library/RcppEigen/include/Eigen/Dense:1,
from /home/biocbuild/bbs-3.9-bioc/R/library/TMB/include/TMB.hpp:53,
from general_dExp_1sse.cpp:2:
/home/biocbuild/bbs-3.9-bioc/R/library/RcppEigen/include/Eigen/src/Core/util/XprHelper.h: In instantiation of ‘struct Eigen::internal::find_best_packet’:
/home/biocbuild/bbs-3.9-bioc/R/library/RcppEigen/include/Eigen/src/Core/Matrix.h:22:57: required from ‘struct Eigen::internal::traits >’
/home/biocbuild/bbs-3.9-bioc/R/library/RcppEigen/include/Eigen/src/Geometry/Quaternion.h:224:7: required from ‘struct Eigen::internal::traits >’
/home/biocbuild/bbs-3.9-bioc/R/library/RcppEigen/include/Eigen/src/Geometry/arch/Geometry_SSE.h:24:46: required from here
/home/biocbuild/bbs-3.9-bioc/R/library/RcppEigen/include/Eigen/src/Core/util/XprHelper.h:170:44: warning: ignoring attributes on template argument ‘Eigen::internal::packet_traits::type {aka __vector(4) float}’ [-Wignored-attributes]
bool Stop = Size==Dynamic || (Size%unpacket_traits::size)==0 || is_same::half>::value>
~~~~~^~~~~~~~~~~~~~~~~~~~~~~~~~~~~~~~~~~
/home/biocbuild/bbs-3.9-bioc/R/library/RcppEigen/include/Eigen/src/Core/util/XprHelper.h:170:83: warning: ignoring attributes on template argument ‘Eigen::internal::packet_traits::type {aka __vector(4) float}’ [-Wignored-attributes]
bool Stop = Size==Dynamic || (Size%unpacket_traits::size)==0 || is_same::half>::value>
~~~~~~~~~~~~~~~~~~~~~~~~~~~~~~~~~~~~~~~~~~~~~~~~~~~~~~~~~~~~~^~~~~~~~~~~~~~~~~~~~~~~~~~~~~~~~~~~~~~~~~~~~~~~~~~~~~~~~~~~~~~~~~
/home/biocbuild/bbs-3.9-bioc/R/library/RcppEigen/include/Eigen/src/Core/util/XprHelper.h:170:83: warning: ignoring attributes on template argument ‘Eigen::internal::packet_traits::type {aka __vector(4) float}’ [-Wignored-attributes]
/home/biocbuild/bbs-3.9-bioc/R/library/RcppEigen/include/Eigen/src/Core/util/XprHelper.h:170:83: warning: ignoring attributes on template argument ‘Eigen::internal::unpacket_traits<__vector(4) float>::half {aka __vector(4) float}’ [-Wignored-attributes]
/home/biocbuild/bbs-3.9-bioc/R/library/RcppEigen/include/Eigen/src/Core/util/XprHelper.h:188:88: warning: ignoring attributes on template argument ‘Eigen::internal::packet_traits::type {aka __vector(4) float}’ [-Wignored-attributes]
typedef typename find_best_packet_helper::type>::type type;
^~~~
In file included from /home/biocbuild/bbs-3.9-bioc/R/library/RcppEigen/include/Eigen/Core:434:0,
from /home/biocbuild/bbs-3.9-bioc/R/library/RcppEigen/include/Eigen/Dense:1,
from /home/biocbuild/bbs-3.9-bioc/R/library/TMB/include/TMB.hpp:53,
from general_dExp_1sse.cpp:2:
/home/biocbuild/bbs-3.9-bioc/R/library/RcppEigen/include/Eigen/src/Core/DenseCoeffsBase.h: In instantiation of ‘class Eigen::DenseCoeffsBase, 0>’:
/home/biocbuild/bbs-3.9-bioc/R/library/RcppEigen/include/Eigen/src/Core/DenseCoeffsBase.h:300:7: required from ‘class Eigen::DenseCoeffsBase, 1>’
/home/biocbuild/bbs-3.9-bioc/R/library/RcppEigen/include/Eigen/src/Core/DenseCoeffsBase.h:551:7: required from ‘class Eigen::DenseCoeffsBase, 3>’
/home/biocbuild/bbs-3.9-bioc/R/library/RcppEigen/include/Eigen/src/Core/DenseBase.h:41:34: required from ‘class Eigen::DenseBase >’
/home/biocbuild/bbs-3.9-bioc/R/library/RcppEigen/include/Eigen/src/Core/MatrixBase.h:48:34: required from ‘class Eigen::MatrixBase >’
/home/biocbuild/bbs-3.9-bioc/R/library/RcppEigen/include/Eigen/src/Core/PlainObjectBase.h:98:7: required from ‘class Eigen::PlainObjectBase >’
/home/biocbuild/bbs-3.9-bioc/R/library/RcppEigen/include/Eigen/src/Core/Matrix.h:178:7: required from ‘class Eigen::Matrix’
/home/biocbuild/bbs-3.9-bioc/R/library/RcppEigen/include/Eigen/src/Geometry/Quaternion.h:46:50: required from ‘class Eigen::QuaternionBase >’
/home/biocbuild/bbs-3.9-bioc/R/library/RcppEigen/include/Eigen/src/Geometry/Quaternion.h:232:7: required from ‘class Eigen::Quaternion’
/home/biocbuild/bbs-3.9-bioc/R/library/RcppEigen/include/Eigen/src/Geometry/arch/Geometry_SSE.h:27:3: required from here
/home/biocbuild/bbs-3.9-bioc/R/library/RcppEigen/include/Eigen/src/Core/DenseCoeffsBase.h:55:30: warning: ignoring attributes on template argument ‘Eigen::internal::packet_traits::type {aka __vector(4) float}’ [-Wignored-attributes]
>::type PacketReturnType;
^~~~~~~~~~~~~~~~
In file included from /home/biocbuild/bbs-3.9-bioc/R/library/RcppEigen/include/Eigen/Core:367:0,
from /home/biocbuild/bbs-3.9-bioc/R/library/RcppEigen/include/Eigen/Dense:1,
from /home/biocbuild/bbs-3.9-bioc/R/library/TMB/include/TMB.hpp:53,
from general_dExp_1sse.cpp:2:
/home/biocbuild/bbs-3.9-bioc/R/library/RcppEigen/include/Eigen/src/Core/util/XprHelper.h: In instantiation of ‘struct Eigen::internal::find_best_packet’:
/home/biocbuild/bbs-3.9-bioc/R/library/RcppEigen/include/Eigen/src/Core/Matrix.h:22:57: required from ‘struct Eigen::internal::traits >’
/home/biocbuild/bbs-3.9-bioc/R/library/RcppEigen/include/Eigen/src/Geometry/Quaternion.h:224:7: required from ‘struct Eigen::internal::traits >’
/home/biocbuild/bbs-3.9-bioc/R/library/RcppEigen/include/Eigen/src/Geometry/arch/Geometry_SSE.h:88:47: required from here
/home/biocbuild/bbs-3.9-bioc/R/library/RcppEigen/include/Eigen/src/Core/util/XprHelper.h:170:44: warning: ignoring attributes on template argument ‘Eigen::internal::packet_traits::type {aka __vector(2) double}’ [-Wignored-attributes]
bool Stop = Size==Dynamic || (Size%unpacket_traits::size)==0 || is_same::half>::value>
~~~~~^~~~~~~~~~~~~~~~~~~~~~~~~~~~~~~~~~~
/home/biocbuild/bbs-3.9-bioc/R/library/RcppEigen/include/Eigen/src/Core/util/XprHelper.h:170:83: warning: ignoring attributes on template argument ‘Eigen::internal::packet_traits::type {aka __vector(2) double}’ [-Wignored-attributes]
bool Stop = Size==Dynamic || (Size%unpacket_traits::size)==0 || is_same::half>::value>
~~~~~~~~~~~~~~~~~~~~~~~~~~~~~~~~~~~~~~~~~~~~~~~~~~~~~~~~~~~~~^~~~~~~~~~~~~~~~~~~~~~~~~~~~~~~~~~~~~~~~~~~~~~~~~~~~~~~~~~~~~~~~~
/home/biocbuild/bbs-3.9-bioc/R/library/RcppEigen/include/Eigen/src/Core/util/XprHelper.h:170:83: warning: ignoring attributes on template argument ‘Eigen::internal::packet_traits::type {aka __vector(2) double}’ [-Wignored-attributes]
/home/biocbuild/bbs-3.9-bioc/R/library/RcppEigen/include/Eigen/src/Core/util/XprHelper.h:170:83: warning: ignoring attributes on template argument ‘Eigen::internal::unpacket_traits<__vector(2) double>::half {aka __vector(2) double}’ [-Wignored-attributes]
/home/biocbuild/bbs-3.9-bioc/R/library/RcppEigen/include/Eigen/src/Core/util/XprHelper.h:188:88: warning: ignoring attributes on template argument ‘Eigen::internal::packet_traits::type {aka __vector(2) double}’ [-Wignored-attributes]
typedef typename find_best_packet_helper::type>::type type;
^~~~
In file included from /home/biocbuild/bbs-3.9-bioc/R/library/RcppEigen/include/Eigen/Core:434:0,
from /home/biocbuild/bbs-3.9-bioc/R/library/RcppEigen/include/Eigen/Dense:1,
from /home/biocbuild/bbs-3.9-bioc/R/library/TMB/include/TMB.hpp:53,
from general_dExp_1sse.cpp:2:
/home/biocbuild/bbs-3.9-bioc/R/library/RcppEigen/include/Eigen/src/Core/DenseCoeffsBase.h: In instantiation of ‘class Eigen::DenseCoeffsBase, 0>’:
/home/biocbuild/bbs-3.9-bioc/R/library/RcppEigen/include/Eigen/src/Core/DenseCoeffsBase.h:300:7: required from ‘class Eigen::DenseCoeffsBase, 1>’
/home/biocbuild/bbs-3.9-bioc/R/library/RcppEigen/include/Eigen/src/Core/DenseCoeffsBase.h:551:7: required from ‘class Eigen::DenseCoeffsBase, 3>’
/home/biocbuild/bbs-3.9-bioc/R/library/RcppEigen/include/Eigen/src/Core/DenseBase.h:41:34: required from ‘class Eigen::DenseBase >’
/home/biocbuild/bbs-3.9-bioc/R/library/RcppEigen/include/Eigen/src/Core/MatrixBase.h:48:34: required from ‘class Eigen::MatrixBase >’
/home/biocbuild/bbs-3.9-bioc/R/library/RcppEigen/include/Eigen/src/Core/PlainObjectBase.h:98:7: required from ‘class Eigen::PlainObjectBase >’
/home/biocbuild/bbs-3.9-bioc/R/library/RcppEigen/include/Eigen/src/Core/Matrix.h:178:7: required from ‘class Eigen::Matrix’
/home/biocbuild/bbs-3.9-bioc/R/library/RcppEigen/include/Eigen/src/Geometry/Quaternion.h:46:50: required from ‘class Eigen::QuaternionBase >’
/home/biocbuild/bbs-3.9-bioc/R/library/RcppEigen/include/Eigen/src/Geometry/Quaternion.h:232:7: required from ‘class Eigen::Quaternion’
/home/biocbuild/bbs-3.9-bioc/R/library/RcppEigen/include/Eigen/src/Geometry/arch/Geometry_SSE.h:92:3: required from here
/home/biocbuild/bbs-3.9-bioc/R/library/RcppEigen/include/Eigen/src/Core/DenseCoeffsBase.h:55:30: warning: ignoring attributes on template argument ‘Eigen::internal::packet_traits::type {aka __vector(2) double}’ [-Wignored-attributes]
>::type PacketReturnType;
^~~~~~~~~~~~~~~~
In file included from /home/biocbuild/bbs-3.9-bioc/R/library/RcppEigen/include/Eigen/Core:367:0,
from /home/biocbuild/bbs-3.9-bioc/R/library/RcppEigen/include/Eigen/Dense:1,
from /home/biocbuild/bbs-3.9-bioc/R/library/TMB/include/TMB.hpp:53,
from general_dExp_1sse.cpp:2:
/home/biocbuild/bbs-3.9-bioc/R/library/RcppEigen/include/Eigen/src/Core/util/XprHelper.h: In instantiation of ‘struct Eigen::internal::find_best_packet’:
/home/biocbuild/bbs-3.9-bioc/R/library/RcppEigen/include/Eigen/src/Core/Matrix.h:22:57: required from ‘struct Eigen::internal::traits >’
/home/biocbuild/bbs-3.9-bioc/R/library/RcppEigen/include/Eigen/src/Core/Array.h:17:8: required from ‘struct Eigen::internal::traits >’
/home/biocbuild/bbs-3.9-bioc/R/library/RcppEigen/include/Eigen/src/Core/PlainObjectBase.h:98:7: required from ‘class Eigen::PlainObjectBase >’
/home/biocbuild/bbs-3.9-bioc/R/library/RcppEigen/include/Eigen/src/Core/Array.h:45:7: required from ‘class Eigen::Array’
/home/biocbuild/bbs-3.9-bioc/R/library/TMB/include/tmbutils/vector.hpp:17:8: required from ‘struct tmbutils::vector’
/home/biocbuild/bbs-3.9-bioc/R/library/TMB/include/tmbutils/vector.hpp:45:43: required from here
/home/biocbuild/bbs-3.9-bioc/R/library/RcppEigen/include/Eigen/src/Core/util/XprHelper.h:170:44: warning: ignoring attributes on template argument ‘Eigen::internal::packet_traits::type {aka __vector(2) long long int}’ [-Wignored-attributes]
bool Stop = Size==Dynamic || (Size%unpacket_traits::size)==0 || is_same::half>::value>
~~~~~^~~~~~~~~~~~~~~~~~~~~~~~~~~~~~~~~~~
/home/biocbuild/bbs-3.9-bioc/R/library/RcppEigen/include/Eigen/src/Core/util/XprHelper.h:170:83: warning: ignoring attributes on template argument ‘Eigen::internal::packet_traits::type {aka __vector(2) long long int}’ [-Wignored-attributes]
bool Stop = Size==Dynamic || (Size%unpacket_traits::size)==0 || is_same::half>::value>
~~~~~~~~~~~~~~~~~~~~~~~~~~~~~~~~~~~~~~~~~~~~~~~~~~~~~~~~~~~~~^~~~~~~~~~~~~~~~~~~~~~~~~~~~~~~~~~~~~~~~~~~~~~~~~~~~~~~~~~~~~~~~~
/home/biocbuild/bbs-3.9-bioc/R/library/RcppEigen/include/Eigen/src/Core/util/XprHelper.h:170:83: warning: ignoring attributes on template argument ‘Eigen::internal::packet_traits::type {aka __vector(2) long long int}’ [-Wignored-attributes]
/home/biocbuild/bbs-3.9-bioc/R/library/RcppEigen/include/Eigen/src/Core/util/XprHelper.h:170:83: warning: ignoring attributes on template argument ‘Eigen::internal::unpacket_traits<__vector(2) long long int>::half {aka __vector(2) long long int}’ [-Wignored-attributes]
/home/biocbuild/bbs-3.9-bioc/R/library/RcppEigen/include/Eigen/src/Core/util/XprHelper.h:188:88: warning: ignoring attributes on template argument ‘Eigen::internal::packet_traits::type {aka __vector(2) long long int}’ [-Wignored-attributes]
typedef typename find_best_packet_helper::type>::type type;
^~~~
In file included from /home/biocbuild/bbs-3.9-bioc/R/library/RcppEigen/include/Eigen/Core:434:0,
from /home/biocbuild/bbs-3.9-bioc/R/library/RcppEigen/include/Eigen/Dense:1,
from /home/biocbuild/bbs-3.9-bioc/R/library/TMB/include/TMB.hpp:53,
from general_dExp_1sse.cpp:2:
/home/biocbuild/bbs-3.9-bioc/R/library/RcppEigen/include/Eigen/src/Core/DenseCoeffsBase.h: In instantiation of ‘class Eigen::DenseCoeffsBase, 0>’:
/home/biocbuild/bbs-3.9-bioc/R/library/RcppEigen/include/Eigen/src/Core/DenseCoeffsBase.h:300:7: required from ‘class Eigen::DenseCoeffsBase, 1>’
/home/biocbuild/bbs-3.9-bioc/R/library/RcppEigen/include/Eigen/src/Core/DenseCoeffsBase.h:551:7: required from ‘class Eigen::DenseCoeffsBase, 3>’
/home/biocbuild/bbs-3.9-bioc/R/library/RcppEigen/include/Eigen/src/Core/DenseBase.h:41:34: required from ‘class Eigen::DenseBase >’
/home/biocbuild/bbs-3.9-bioc/R/library/RcppEigen/include/Eigen/src/Core/ArrayBase.h:39:34: required from ‘class Eigen::ArrayBase >’
/home/biocbuild/bbs-3.9-bioc/R/library/RcppEigen/include/Eigen/src/Core/PlainObjectBase.h:98:7: required from ‘class Eigen::PlainObjectBase >’
/home/biocbuild/bbs-3.9-bioc/R/library/RcppEigen/include/Eigen/src/Core/Array.h:45:7: required from ‘class Eigen::Array’
/home/biocbuild/bbs-3.9-bioc/R/library/TMB/include/tmbutils/vector.hpp:17:8: required from ‘struct tmbutils::vector’
/home/biocbuild/bbs-3.9-bioc/R/library/TMB/include/tmbutils/vector.hpp:45:43: required from here
/home/biocbuild/bbs-3.9-bioc/R/library/RcppEigen/include/Eigen/src/Core/DenseCoeffsBase.h:55:30: warning: ignoring attributes on template argument ‘Eigen::internal::packet_traits::type {aka __vector(2) long long int}’ [-Wignored-attributes]
>::type PacketReturnType;
^~~~~~~~~~~~~~~~
/home/biocbuild/bbs-3.9-bioc/R/library/RcppEigen/include/Eigen/src/Core/DenseCoeffsBase.h: In instantiation of ‘class Eigen::DenseCoeffsBase, const Eigen::Array, const Eigen::Array >, 0>’:
/home/biocbuild/bbs-3.9-bioc/R/library/RcppEigen/include/Eigen/src/Core/DenseBase.h:41:34: required from ‘class Eigen::DenseBase, const Eigen::Array, const Eigen::Array > >’
/home/biocbuild/bbs-3.9-bioc/R/library/RcppEigen/include/Eigen/src/Core/ArrayBase.h:39:34: required from ‘class Eigen::ArrayBase, const Eigen::Array, const Eigen::Array > >’
/home/biocbuild/bbs-3.9-bioc/R/library/RcppEigen/include/Eigen/src/Core/CwiseBinaryOp.h:148:7: required from ‘class Eigen::CwiseBinaryOpImpl, const Eigen::Array, const Eigen::Array, Eigen::Dense>’
/home/biocbuild/bbs-3.9-bioc/R/library/RcppEigen/include/Eigen/src/Core/CwiseBinaryOp.h:77:7: required from ‘class Eigen::CwiseBinaryOp, const Eigen::Array, const Eigen::Array >’
/home/biocbuild/bbs-3.9-bioc/R/library/TMB/include/tmbutils/array.hpp:238:22: required from here
/home/biocbuild/bbs-3.9-bioc/R/library/RcppEigen/include/Eigen/src/Core/DenseCoeffsBase.h:55:30: warning: ignoring attributes on template argument ‘Eigen::internal::packet_traits::type {aka __vector(2) long long int}’ [-Wignored-attributes]
In file included from /home/biocbuild/bbs-3.9-bioc/R/library/RcppEigen/include/Eigen/Core:367:0,
from /home/biocbuild/bbs-3.9-bioc/R/library/RcppEigen/include/Eigen/Dense:1,
from /home/biocbuild/bbs-3.9-bioc/R/library/TMB/include/TMB.hpp:53,
from general_dExp_1sse.cpp:2:
/home/biocbuild/bbs-3.9-bioc/R/library/RcppEigen/include/Eigen/src/Core/util/XprHelper.h: In instantiation of ‘struct Eigen::internal::find_best_packet’:
/home/biocbuild/bbs-3.9-bioc/R/library/RcppEigen/include/Eigen/src/Core/Matrix.h:22:57: required from ‘struct Eigen::internal::traits >’
/home/biocbuild/bbs-3.9-bioc/R/library/RcppEigen/include/Eigen/src/Core/Array.h:17:8: required from ‘struct Eigen::internal::traits >’
/home/biocbuild/bbs-3.9-bioc/R/library/RcppEigen/include/Eigen/src/Core/PlainObjectBase.h:98:7: required from ‘class Eigen::PlainObjectBase >’
/home/biocbuild/bbs-3.9-bioc/R/library/RcppEigen/include/Eigen/src/Core/Array.h:45:7: required from ‘class Eigen::Array’
/home/biocbuild/bbs-3.9-bioc/R/library/TMB/include/tmbutils/vector.hpp:17:8: required from ‘struct tmbutils::vector’
/home/biocbuild/bbs-3.9-bioc/R/library/TMB/include/convert.hpp:52:1: required from here
/home/biocbuild/bbs-3.9-bioc/R/library/RcppEigen/include/Eigen/src/Core/util/XprHelper.h:170:44: warning: ignoring attributes on template argument ‘Eigen::internal::packet_traits::type {aka __vector(2) double}’ [-Wignored-attributes]
bool Stop = Size==Dynamic || (Size%unpacket_traits::size)==0 || is_same::half>::value>
~~~~~^~~~~~~~~~~~~~~~~~~~~~~~~~~~~~~~~~~
/home/biocbuild/bbs-3.9-bioc/R/library/RcppEigen/include/Eigen/src/Core/util/XprHelper.h:170:83: warning: ignoring attributes on template argument ‘Eigen::internal::packet_traits::type {aka __vector(2) double}’ [-Wignored-attributes]
bool Stop = Size==Dynamic || (Size%unpacket_traits::size)==0 || is_same::half>::value>
~~~~~~~~~~~~~~~~~~~~~~~~~~~~~~~~~~~~~~~~~~~~~~~~~~~~~~~~~~~~~^~~~~~~~~~~~~~~~~~~~~~~~~~~~~~~~~~~~~~~~~~~~~~~~~~~~~~~~~~~~~~~~~
/home/biocbuild/bbs-3.9-bioc/R/library/RcppEigen/include/Eigen/src/Core/util/XprHelper.h:170:83: warning: ignoring attributes on template argument ‘Eigen::internal::packet_traits::type {aka __vector(2) double}’ [-Wignored-attributes]
/home/biocbuild/bbs-3.9-bioc/R/library/RcppEigen/include/Eigen/src/Core/util/XprHelper.h:170:83: warning: ignoring attributes on template argument ‘Eigen::internal::unpacket_traits<__vector(2) double>::half {aka __vector(2) double}’ [-Wignored-attributes]
/home/biocbuild/bbs-3.9-bioc/R/library/RcppEigen/include/Eigen/src/Core/util/XprHelper.h:188:88: warning: ignoring attributes on template argument ‘Eigen::internal::packet_traits::type {aka __vector(2) double}’ [-Wignored-attributes]
typedef typename find_best_packet_helper::type>::type type;
^~~~
In file included from /home/biocbuild/bbs-3.9-bioc/R/library/RcppEigen/include/Eigen/Core:434:0,
from /home/biocbuild/bbs-3.9-bioc/R/library/RcppEigen/include/Eigen/Dense:1,
from /home/biocbuild/bbs-3.9-bioc/R/library/TMB/include/TMB.hpp:53,
from general_dExp_1sse.cpp:2:
/home/biocbuild/bbs-3.9-bioc/R/library/RcppEigen/include/Eigen/src/Core/DenseCoeffsBase.h: In instantiation of ‘class Eigen::DenseCoeffsBase, 0>’:
/home/biocbuild/bbs-3.9-bioc/R/library/RcppEigen/include/Eigen/src/Core/DenseCoeffsBase.h:300:7: required from ‘class Eigen::DenseCoeffsBase, 1>’
/home/biocbuild/bbs-3.9-bioc/R/library/RcppEigen/include/Eigen/src/Core/DenseCoeffsBase.h:551:7: required from ‘class Eigen::DenseCoeffsBase, 3>’
/home/biocbuild/bbs-3.9-bioc/R/library/RcppEigen/include/Eigen/src/Core/DenseBase.h:41:34: required from ‘class Eigen::DenseBase >’
/home/biocbuild/bbs-3.9-bioc/R/library/RcppEigen/include/Eigen/src/Core/ArrayBase.h:39:34: required from ‘class Eigen::ArrayBase >’
/home/biocbuild/bbs-3.9-bioc/R/library/RcppEigen/include/Eigen/src/Core/PlainObjectBase.h:98:7: required from ‘class Eigen::PlainObjectBase >’
/home/biocbuild/bbs-3.9-bioc/R/library/RcppEigen/include/Eigen/src/Core/Array.h:45:7: required from ‘class Eigen::Array’
/home/biocbuild/bbs-3.9-bioc/R/library/TMB/include/tmbutils/vector.hpp:17:8: required from ‘struct tmbutils::vector’
/home/biocbuild/bbs-3.9-bioc/R/library/TMB/include/convert.hpp:52:1: required from here
/home/biocbuild/bbs-3.9-bioc/R/library/RcppEigen/include/Eigen/src/Core/DenseCoeffsBase.h:55:30: warning: ignoring attributes on template argument ‘Eigen::internal::packet_traits::type {aka __vector(2) double}’ [-Wignored-attributes]
>::type PacketReturnType;
^~~~~~~~~~~~~~~~
/home/biocbuild/bbs-3.9-bioc/R/library/RcppEigen/include/Eigen/src/Core/DenseCoeffsBase.h: In instantiation of ‘class Eigen::DenseCoeffsBase, 0>’:
/home/biocbuild/bbs-3.9-bioc/R/library/RcppEigen/include/Eigen/src/Core/DenseCoeffsBase.h:300:7: required from ‘class Eigen::DenseCoeffsBase, 1>’
/home/biocbuild/bbs-3.9-bioc/R/library/RcppEigen/include/Eigen/src/Core/DenseCoeffsBase.h:551:7: required from ‘class Eigen::DenseCoeffsBase, 3>’
/home/biocbuild/bbs-3.9-bioc/R/library/RcppEigen/include/Eigen/src/Core/DenseBase.h:41:34: required from ‘class Eigen::DenseBase >’
/home/biocbuild/bbs-3.9-bioc/R/library/RcppEigen/include/Eigen/src/Core/MatrixBase.h:48:34: required from ‘class Eigen::MatrixBase >’
/home/biocbuild/bbs-3.9-bioc/R/library/RcppEigen/include/Eigen/src/Core/PlainObjectBase.h:98:7: required from ‘class Eigen::PlainObjectBase >’
/home/biocbuild/bbs-3.9-bioc/R/library/RcppEigen/include/Eigen/src/Core/Matrix.h:178:7: required from ‘class Eigen::Matrix’
/home/biocbuild/bbs-3.9-bioc/R/library/RcppEigen/include/Eigen/src/Core/Map.h:24:30: required from ‘struct Eigen::internal::traits > >’
/home/biocbuild/bbs-3.9-bioc/R/library/RcppEigen/include/Eigen/src/Core/util/ForwardDeclarations.h:32:54: required from ‘struct Eigen::internal::accessors_level > >’
/home/biocbuild/bbs-3.9-bioc/R/library/RcppEigen/include/Eigen/src/Core/util/ForwardDeclarations.h:113:75: required from ‘class Eigen::Map >’
/home/biocbuild/bbs-3.9-bioc/R/library/TMB/include/convert.hpp:99:24: required from here
/home/biocbuild/bbs-3.9-bioc/R/library/RcppEigen/include/Eigen/src/Core/DenseCoeffsBase.h:55:30: warning: ignoring attributes on template argument ‘Eigen::internal::packet_traits::type {aka __vector(2) double}’ [-Wignored-attributes]
/home/biocbuild/bbs-3.9-bioc/R/library/RcppEigen/include/Eigen/src/Core/DenseCoeffsBase.h: In instantiation of ‘class Eigen::DenseCoeffsBase >, 0>’:
/home/biocbuild/bbs-3.9-bioc/R/library/RcppEigen/include/Eigen/src/Core/DenseCoeffsBase.h:300:7: required from ‘class Eigen::DenseCoeffsBase >, 1>’
/home/biocbuild/bbs-3.9-bioc/R/library/RcppEigen/include/Eigen/src/Core/DenseCoeffsBase.h:551:7: required from ‘class Eigen::DenseCoeffsBase >, 3>’
/home/biocbuild/bbs-3.9-bioc/R/library/RcppEigen/include/Eigen/src/Core/DenseBase.h:41:34: required from ‘class Eigen::DenseBase > >’
/home/biocbuild/bbs-3.9-bioc/R/library/RcppEigen/include/Eigen/src/Core/MatrixBase.h:48:34: required from ‘class Eigen::MatrixBase > >’
/home/biocbuild/bbs-3.9-bioc/R/library/RcppEigen/include/Eigen/src/Core/MapBase.h:37:34: required from ‘class Eigen::MapBase >, 0>’
/home/biocbuild/bbs-3.9-bioc/R/library/RcppEigen/include/Eigen/src/Core/MapBase.h:215:34: required from ‘class Eigen::MapBase >, 1>’
/home/biocbuild/bbs-3.9-bioc/R/library/RcppEigen/include/Eigen/src/Core/Map.h:94:79: required from ‘class Eigen::Map >’
/home/biocbuild/bbs-3.9-bioc/R/library/TMB/include/convert.hpp:99:24: required from here
/home/biocbuild/bbs-3.9-bioc/R/library/RcppEigen/include/Eigen/src/Core/DenseCoeffsBase.h:55:30: warning: ignoring attributes on template argument ‘Eigen::internal::packet_traits::type {aka __vector(2) double}’ [-Wignored-attributes]
/home/biocbuild/bbs-3.9-bioc/R/library/RcppEigen/include/Eigen/src/Core/DenseCoeffsBase.h: In instantiation of ‘class Eigen::DenseCoeffsBase, 0>’:
/home/biocbuild/bbs-3.9-bioc/R/library/RcppEigen/include/Eigen/src/Core/DenseCoeffsBase.h:300:7: required from ‘class Eigen::DenseCoeffsBase, 1>’
/home/biocbuild/bbs-3.9-bioc/R/library/RcppEigen/include/Eigen/src/Core/DenseCoeffsBase.h:551:7: required from ‘class Eigen::DenseCoeffsBase, 3>’
/home/biocbuild/bbs-3.9-bioc/R/library/RcppEigen/include/Eigen/src/Core/DenseBase.h:41:34: required from ‘class Eigen::DenseBase >’
/home/biocbuild/bbs-3.9-bioc/R/library/RcppEigen/include/Eigen/src/Core/MatrixBase.h:48:34: required from ‘class Eigen::MatrixBase >’
/home/biocbuild/bbs-3.9-bioc/R/library/RcppEigen/include/Eigen/src/Core/PlainObjectBase.h:98:7: required from ‘class Eigen::PlainObjectBase >’
/home/biocbuild/bbs-3.9-bioc/R/library/RcppEigen/include/Eigen/src/Core/Matrix.h:178:7: required from ‘class Eigen::Matrix’
/home/biocbuild/bbs-3.9-bioc/R/library/TMB/include/tmbutils/vector.hpp:88:8: required from ‘struct tmbutils::matrix’
/home/biocbuild/bbs-3.9-bioc/R/library/TMB/include/atomic_math.hpp:413:57: required from here
/home/biocbuild/bbs-3.9-bioc/R/library/RcppEigen/include/Eigen/src/Core/DenseCoeffsBase.h:55:30: warning: ignoring attributes on template argument ‘Eigen::internal::packet_traits::type {aka __vector(2) double}’ [-Wignored-attributes]
/home/biocbuild/bbs-3.9-bioc/R/library/RcppEigen/include/Eigen/src/Core/DenseCoeffsBase.h: In instantiation of ‘class Eigen::DenseCoeffsBase, Eigen::Matrix, 0>, 0>’:
/home/biocbuild/bbs-3.9-bioc/R/library/RcppEigen/include/Eigen/src/Core/DenseBase.h:41:34: required from ‘class Eigen::DenseBase, Eigen::Matrix, 0> >’
/home/biocbuild/bbs-3.9-bioc/R/library/RcppEigen/include/Eigen/src/Core/MatrixBase.h:48:34: required from ‘class Eigen::MatrixBase, Eigen::Matrix, 0> >’
/home/biocbuild/bbs-3.9-bioc/R/library/RcppEigen/include/Eigen/src/Core/Product.h:115:7: required from ‘class Eigen::internal::dense_product_base, Eigen::Matrix, 0, 8>’
/home/biocbuild/bbs-3.9-bioc/R/library/RcppEigen/include/Eigen/src/Core/Product.h:147:7: required from ‘class Eigen::ProductImpl, Eigen::Matrix, 0, Eigen::Dense>’
/home/biocbuild/bbs-3.9-bioc/R/library/RcppEigen/include/Eigen/src/Core/Product.h:71:7: required from ‘class Eigen::Product, Eigen::Matrix, 0>’
/home/biocbuild/bbs-3.9-bioc/R/library/TMB/include/atomic_math.hpp:413:58: required from here
/home/biocbuild/bbs-3.9-bioc/R/library/RcppEigen/include/Eigen/src/Core/DenseCoeffsBase.h:55:30: warning: ignoring attributes on template argument ‘Eigen::internal::packet_traits::type {aka __vector(2) double}’ [-Wignored-attributes]
/home/biocbuild/bbs-3.9-bioc/R/library/RcppEigen/include/Eigen/src/Core/DenseCoeffsBase.h: In instantiation of ‘class Eigen::DenseCoeffsBase, 0, Eigen::Stride<0, 0> >, 0>’:
/home/biocbuild/bbs-3.9-bioc/R/library/RcppEigen/include/Eigen/src/Core/DenseCoeffsBase.h:478:7: required from ‘class Eigen::DenseCoeffsBase, 0, Eigen::Stride<0, 0> >, 2>’
/home/biocbuild/bbs-3.9-bioc/R/library/RcppEigen/include/Eigen/src/Core/DenseBase.h:41:34: required from ‘class Eigen::DenseBase, 0, Eigen::Stride<0, 0> > >’
/home/biocbuild/bbs-3.9-bioc/R/library/RcppEigen/include/Eigen/src/Core/MatrixBase.h:48:34: required from ‘class Eigen::MatrixBase, 0, Eigen::Stride<0, 0> > >’
/home/biocbuild/bbs-3.9-bioc/R/library/RcppEigen/include/Eigen/src/Core/MapBase.h:37:34: required from ‘class Eigen::MapBase, 0, Eigen::Stride<0, 0> >, 0>’
/home/biocbuild/bbs-3.9-bioc/R/library/RcppEigen/include/Eigen/src/Core/Map.h:94:79: required from ‘class Eigen::Map, 0, Eigen::Stride<0, 0> >’
/home/biocbuild/bbs-3.9-bioc/R/library/TMB/include/atomic_math.hpp:426:1: required from here
/home/biocbuild/bbs-3.9-bioc/R/library/RcppEigen/include/Eigen/src/Core/DenseCoeffsBase.h:55:30: warning: ignoring attributes on template argument ‘Eigen::internal::packet_traits::type {aka __vector(2) double}’ [-Wignored-attributes]
/home/biocbuild/bbs-3.9-bioc/R/library/RcppEigen/include/Eigen/src/Core/DenseCoeffsBase.h: In instantiation of ‘class Eigen::DenseCoeffsBase, 0>’:
/home/biocbuild/bbs-3.9-bioc/R/library/RcppEigen/include/Eigen/src/Core/DenseCoeffsBase.h:300:7: required from ‘class Eigen::DenseCoeffsBase, 1>’
/home/biocbuild/bbs-3.9-bioc/R/library/RcppEigen/include/Eigen/src/Core/DenseCoeffsBase.h:551:7: required from ‘class Eigen::DenseCoeffsBase, 3>’
/home/biocbuild/bbs-3.9-bioc/R/library/RcppEigen/include/Eigen/src/Core/DenseBase.h:41:34: required from ‘class Eigen::DenseBase >’
/home/biocbuild/bbs-3.9-bioc/R/library/RcppEigen/include/Eigen/src/Core/MatrixBase.h:48:34: required from ‘class Eigen::MatrixBase >’
/home/biocbuild/bbs-3.9-bioc/R/library/RcppEigen/include/Eigen/src/Core/PlainObjectBase.h:98:7: required from ‘class Eigen::PlainObjectBase >’
/home/biocbuild/bbs-3.9-bioc/R/library/RcppEigen/include/Eigen/src/Core/Matrix.h:178:7: required from ‘class Eigen::Matrix’
/home/biocbuild/bbs-3.9-bioc/R/library/RcppEigen/include/Eigen/src/Core/PermutationMatrix.h:65:13: required from ‘class Eigen::PermutationBase >’
/home/biocbuild/bbs-3.9-bioc/R/library/RcppEigen/include/Eigen/src/Core/PermutationMatrix.h:308:7: required from ‘class Eigen::PermutationMatrix<-1, -1, int>’
/home/biocbuild/bbs-3.9-bioc/R/library/RcppEigen/include/Eigen/src/LU/PartialPivLU.h:284:21: required from ‘class Eigen::PartialPivLU >’
/home/biocbuild/bbs-3.9-bioc/R/library/TMB/include/atomic_math.hpp:494:1: required from here
/home/biocbuild/bbs-3.9-bioc/R/library/RcppEigen/include/Eigen/src/Core/DenseCoeffsBase.h:55:30: warning: ignoring attributes on template argument ‘Eigen::internal::packet_traits::type {aka __vector(2) long long int}’ [-Wignored-attributes]
/home/biocbuild/bbs-3.9-bioc/R/library/RcppEigen/include/Eigen/src/Core/DenseCoeffsBase.h: In instantiation of ‘class Eigen::DenseCoeffsBase, const Eigen::Array >, 0>’:
/home/biocbuild/bbs-3.9-bioc/R/library/RcppEigen/include/Eigen/src/Core/DenseBase.h:41:34: required from ‘class Eigen::DenseBase, const Eigen::Array > >’
/home/biocbuild/bbs-3.9-bioc/R/library/RcppEigen/include/Eigen/src/Core/ArrayBase.h:39:34: required from ‘class Eigen::ArrayBase, const Eigen::Array > >’
/home/biocbuild/bbs-3.9-bioc/R/library/RcppEigen/include/Eigen/src/Core/CwiseUnaryOp.h:94:7: required from ‘class Eigen::CwiseUnaryOpImpl, const Eigen::Array, Eigen::Dense>’
/home/biocbuild/bbs-3.9-bioc/R/library/RcppEigen/include/Eigen/src/Core/CwiseUnaryOp.h:55:7: required from ‘class Eigen::CwiseUnaryOp, const Eigen::Array >’
/home/biocbuild/bbs-3.9-bioc/R/library/TMB/include/atomic_math.hpp:494:1: required from here
/home/biocbuild/bbs-3.9-bioc/R/library/RcppEigen/include/Eigen/src/Core/DenseCoeffsBase.h:55:30: warning: ignoring attributes on template argument ‘Eigen::internal::packet_traits::type {aka __vector(2) double}’ [-Wignored-attributes]
/home/biocbuild/bbs-3.9-bioc/R/library/RcppEigen/include/Eigen/src/Core/DenseCoeffsBase.h: In instantiation of ‘class Eigen::DenseCoeffsBase, const Eigen::CwiseUnaryOp, const Eigen::Array > >, 0>’:
/home/biocbuild/bbs-3.9-bioc/R/library/RcppEigen/include/Eigen/src/Core/DenseBase.h:41:34: required from ‘class Eigen::DenseBase, const Eigen::CwiseUnaryOp, const Eigen::Array > > >’
/home/biocbuild/bbs-3.9-bioc/R/library/RcppEigen/include/Eigen/src/Core/ArrayBase.h:39:34: required from ‘class Eigen::ArrayBase, const Eigen::CwiseUnaryOp, const Eigen::Array > > >’
/home/biocbuild/bbs-3.9-bioc/R/library/RcppEigen/include/Eigen/src/Core/CwiseUnaryOp.h:94:7: required from ‘class Eigen::CwiseUnaryOpImpl, const Eigen::CwiseUnaryOp, const Eigen::Array >, Eigen::Dense>’
/home/biocbuild/bbs-3.9-bioc/R/library/RcppEigen/include/Eigen/src/Core/CwiseUnaryOp.h:55:7: required from ‘class Eigen::CwiseUnaryOp, const Eigen::CwiseUnaryOp, const Eigen::Array > >’
/home/biocbuild/bbs-3.9-bioc/R/library/TMB/include/atomic_math.hpp:494:1: required from here
/home/biocbuild/bbs-3.9-bioc/R/library/RcppEigen/include/Eigen/src/Core/DenseCoeffsBase.h:55:30: warning: ignoring attributes on template argument ‘Eigen::internal::packet_traits::type {aka __vector(2) double}’ [-Wignored-attributes]
/home/biocbuild/bbs-3.9-bioc/R/library/RcppEigen/include/Eigen/src/Core/DenseCoeffsBase.h: In instantiation of ‘class Eigen::DenseCoeffsBase, const Eigen::Array >, 0>’:
/home/biocbuild/bbs-3.9-bioc/R/library/RcppEigen/include/Eigen/src/Core/DenseBase.h:41:34: required from ‘class Eigen::DenseBase, const Eigen::Array > >’
/home/biocbuild/bbs-3.9-bioc/R/library/RcppEigen/include/Eigen/src/Core/ArrayBase.h:39:34: required from ‘class Eigen::ArrayBase, const Eigen::Array > >’
/home/biocbuild/bbs-3.9-bioc/R/library/RcppEigen/include/Eigen/src/Core/CwiseUnaryOp.h:94:7: required from ‘class Eigen::CwiseUnaryOpImpl, const Eigen::Array, Eigen::Dense>’
/home/biocbuild/bbs-3.9-bioc/R/library/RcppEigen/include/Eigen/src/Core/CwiseUnaryOp.h:55:7: required from ‘class Eigen::CwiseUnaryOp, const Eigen::Array >’
/home/biocbuild/bbs-3.9-bioc/R/library/TMB/include/atomic_math.hpp:519:1: required from here
/home/biocbuild/bbs-3.9-bioc/R/library/RcppEigen/include/Eigen/src/Core/DenseCoeffsBase.h:55:30: warning: ignoring attributes on template argument ‘Eigen::internal::packet_traits::type {aka __vector(2) double}’ [-Wignored-attributes]
/home/biocbuild/bbs-3.9-bioc/R/library/RcppEigen/include/Eigen/src/Core/DenseCoeffsBase.h: In instantiation of ‘class Eigen::DenseCoeffsBase, -1, -1, false>, 0>’:
/home/biocbuild/bbs-3.9-bioc/R/library/RcppEigen/include/Eigen/src/Core/DenseCoeffsBase.h:478:7: required from ‘class Eigen::DenseCoeffsBase, -1, -1, false>, 2>’
/home/biocbuild/bbs-3.9-bioc/R/library/RcppEigen/include/Eigen/src/Core/DenseBase.h:41:34: required from ‘class Eigen::DenseBase, -1, -1, false> >’
/home/biocbuild/bbs-3.9-bioc/R/library/RcppEigen/include/Eigen/src/Core/MatrixBase.h:48:34: required from ‘class Eigen::MatrixBase, -1, -1, false> >’
/home/biocbuild/bbs-3.9-bioc/R/library/RcppEigen/include/Eigen/src/Core/MapBase.h:37:34: required from ‘class Eigen::MapBase, -1, -1, false>, 0>’
/home/biocbuild/bbs-3.9-bioc/R/library/RcppEigen/include/Eigen/src/Core/Block.h:329:7: required from ‘class Eigen::internal::BlockImpl_dense, -1, -1, false, true>’
/home/biocbuild/bbs-3.9-bioc/R/library/RcppEigen/include/Eigen/src/Core/Block.h:154:7: required from ‘class Eigen::BlockImpl, -1, -1, false, Eigen::Dense>’
/home/biocbuild/bbs-3.9-bioc/R/library/RcppEigen/include/Eigen/src/Core/Block.h:103:81: required from ‘class Eigen::Block, -1, -1, false>’
/home/biocbuild/bbs-3.9-bioc/R/library/TMB/include/atomic_convolve.hpp:8:57: required from here
/home/biocbuild/bbs-3.9-bioc/R/library/RcppEigen/include/Eigen/src/Core/DenseCoeffsBase.h:55:30: warning: ignoring attributes on template argument ‘Eigen::internal::packet_traits::type {aka __vector(2) double}’ [-Wignored-attributes]
/home/biocbuild/bbs-3.9-bioc/R/library/RcppEigen/include/Eigen/src/Core/DenseCoeffsBase.h: In instantiation of ‘class Eigen::DenseCoeffsBase, -1, -1, false> >, 0>’:
/home/biocbuild/bbs-3.9-bioc/R/library/RcppEigen/include/Eigen/src/Core/DenseCoeffsBase.h:478:7: required from ‘class Eigen::DenseCoeffsBase, -1, -1, false> >, 2>’
/home/biocbuild/bbs-3.9-bioc/R/library/RcppEigen/include/Eigen/src/Core/DenseBase.h:41:34: required from ‘class Eigen::DenseBase, -1, -1, false> > >’
/home/biocbuild/bbs-3.9-bioc/R/library/RcppEigen/include/Eigen/src/Core/ArrayBase.h:39:34: required from ‘class Eigen::ArrayBase, -1, -1, false> > >’
/home/biocbuild/bbs-3.9-bioc/R/library/RcppEigen/include/Eigen/src/Core/ArrayWrapper.h:42:7: required from ‘class Eigen::ArrayWrapper, -1, -1, false> >’
/home/biocbuild/bbs-3.9-bioc/R/library/TMB/include/atomic_convolve.hpp:8:57: required from here
/home/biocbuild/bbs-3.9-bioc/R/library/RcppEigen/include/Eigen/src/Core/DenseCoeffsBase.h:55:30: warning: ignoring attributes on template argument ‘Eigen::internal::packet_traits::type {aka __vector(2) double}’ [-Wignored-attributes]
/home/biocbuild/bbs-3.9-bioc/R/library/RcppEigen/include/Eigen/src/Core/DenseCoeffsBase.h: In instantiation of ‘class Eigen::DenseCoeffsBase >, 0>’:
/home/biocbuild/bbs-3.9-bioc/R/library/RcppEigen/include/Eigen/src/Core/DenseCoeffsBase.h:478:7: required from ‘class Eigen::DenseCoeffsBase >, 2>’
/home/biocbuild/bbs-3.9-bioc/R/library/RcppEigen/include/Eigen/src/Core/DenseBase.h:41:34: required from ‘class Eigen::DenseBase > >’
/home/biocbuild/bbs-3.9-bioc/R/library/RcppEigen/include/Eigen/src/Core/ArrayBase.h:39:34: required from ‘class Eigen::ArrayBase > >’
/home/biocbuild/bbs-3.9-bioc/R/library/RcppEigen/include/Eigen/src/Core/ArrayWrapper.h:42:7: required from ‘class Eigen::ArrayWrapper >’
/home/biocbuild/bbs-3.9-bioc/R/library/TMB/include/atomic_convolve.hpp:8:57: required from here
/home/biocbuild/bbs-3.9-bioc/R/library/RcppEigen/include/Eigen/src/Core/DenseCoeffsBase.h:55:30: warning: ignoring attributes on template argument ‘Eigen::internal::packet_traits::type {aka __vector(2) double}’ [-Wignored-attributes]
/home/biocbuild/bbs-3.9-bioc/R/library/RcppEigen/include/Eigen/src/Core/DenseCoeffsBase.h: In instantiation of ‘class Eigen::DenseCoeffsBase, const Eigen::ArrayWrapper, -1, -1, false> >, const Eigen::ArrayWrapper > >, 0>’:
/home/biocbuild/bbs-3.9-bioc/R/library/RcppEigen/include/Eigen/src/Core/DenseBase.h:41:34: required from ‘class Eigen::DenseBase, const Eigen::ArrayWrapper, -1, -1, false> >, const Eigen::ArrayWrapper > > >’
/home/biocbuild/bbs-3.9-bioc/R/library/RcppEigen/include/Eigen/src/Core/ArrayBase.h:39:34: required from ‘class Eigen::ArrayBase, const Eigen::ArrayWrapper, -1, -1, false> >, const Eigen::ArrayWrapper > > >’
/home/biocbuild/bbs-3.9-bioc/R/library/RcppEigen/include/Eigen/src/Core/CwiseBinaryOp.h:148:7: required from ‘class Eigen::CwiseBinaryOpImpl, const Eigen::ArrayWrapper, -1, -1, false> >, const Eigen::ArrayWrapper >, Eigen::Dense>’
/home/biocbuild/bbs-3.9-bioc/R/library/RcppEigen/include/Eigen/src/Core/CwiseBinaryOp.h:77:7: required from ‘class Eigen::CwiseBinaryOp, const Eigen::ArrayWrapper