This page was generated on 2019-10-16 11:55:13 -0400 (Wed, 16 Oct 2019).
##############################################################################
##############################################################################
###
### Running command:
###
### /home/biocbuild/bbs-3.9-bioc/R/bin/R CMD INSTALL RBGL
###
##############################################################################
##############################################################################
* installing to library ‘/home/biocbuild/bbs-3.9-bioc/R/library’
* installing *source* package ‘RBGL’ ...
** using staged installation
checking R package BH ... yes
configure: creating ./config.status
config.status: creating src/Makevars
** libs
g++ -std=gnu++11 -I"/home/biocbuild/bbs-3.9-bioc/R/include" -DNDEBUG -I/home/biocbuild/bbs-3.9-bioc/R/library/BH/include -I"/home/biocbuild/bbs-3.9-bioc/R/library/BH/include" -I/usr/local/include -fpic -g -O2 -Wall -c bbc.cpp -o bbc.o
In file included from /home/biocbuild/bbs-3.9-bioc/R/library/BH/include/boost/smart_ptr/shared_ptr.hpp:28:0,
from /home/biocbuild/bbs-3.9-bioc/R/library/BH/include/boost/shared_ptr.hpp:17,
from /home/biocbuild/bbs-3.9-bioc/R/library/BH/include/boost/property_map/vector_property_map.hpp:14,
from /home/biocbuild/bbs-3.9-bioc/R/library/BH/include/boost/property_map/property_map.hpp:602,
from RBGL.hpp:17,
from bbc.cpp:1:
/home/biocbuild/bbs-3.9-bioc/R/library/BH/include/boost/smart_ptr/detail/shared_count.hpp:355:33: warning: ‘template class std::auto_ptr’ is deprecated [-Wdeprecated-declarations]
explicit shared_count( std::auto_ptr & r ): pi_( new sp_counted_impl_p( r.get() ) )
^~~~~~~~
In file included from /usr/include/c++/7/memory:80:0,
from /home/biocbuild/bbs-3.9-bioc/R/library/BH/include/boost/config/no_tr1/memory.hpp:21,
from /home/biocbuild/bbs-3.9-bioc/R/library/BH/include/boost/smart_ptr/shared_ptr.hpp:23,
from /home/biocbuild/bbs-3.9-bioc/R/library/BH/include/boost/shared_ptr.hpp:17,
from /home/biocbuild/bbs-3.9-bioc/R/library/BH/include/boost/property_map/vector_property_map.hpp:14,
from /home/biocbuild/bbs-3.9-bioc/R/library/BH/include/boost/property_map/property_map.hpp:602,
from RBGL.hpp:17,
from bbc.cpp:1:
/usr/include/c++/7/bits/unique_ptr.h:51:28: note: declared here
template class auto_ptr;
^~~~~~~~
In file included from /home/biocbuild/bbs-3.9-bioc/R/library/BH/include/boost/shared_ptr.hpp:17:0,
from /home/biocbuild/bbs-3.9-bioc/R/library/BH/include/boost/property_map/vector_property_map.hpp:14,
from /home/biocbuild/bbs-3.9-bioc/R/library/BH/include/boost/property_map/property_map.hpp:602,
from RBGL.hpp:17,
from bbc.cpp:1:
/home/biocbuild/bbs-3.9-bioc/R/library/BH/include/boost/smart_ptr/shared_ptr.hpp:256:65: warning: ‘template class std::auto_ptr’ is deprecated [-Wdeprecated-declarations]
template< class T, class R > struct sp_enable_if_auto_ptr< std::auto_ptr< T >, R >
^~~~~~~~
In file included from /usr/include/c++/7/memory:80:0,
from /home/biocbuild/bbs-3.9-bioc/R/library/BH/include/boost/config/no_tr1/memory.hpp:21,
from /home/biocbuild/bbs-3.9-bioc/R/library/BH/include/boost/smart_ptr/shared_ptr.hpp:23,
from /home/biocbuild/bbs-3.9-bioc/R/library/BH/include/boost/shared_ptr.hpp:17,
from /home/biocbuild/bbs-3.9-bioc/R/library/BH/include/boost/property_map/vector_property_map.hpp:14,
from /home/biocbuild/bbs-3.9-bioc/R/library/BH/include/boost/property_map/property_map.hpp:602,
from RBGL.hpp:17,
from bbc.cpp:1:
/usr/include/c++/7/bits/unique_ptr.h:51:28: note: declared here
template class auto_ptr;
^~~~~~~~
In file included from /home/biocbuild/bbs-3.9-bioc/R/library/BH/include/boost/shared_ptr.hpp:17:0,
from /home/biocbuild/bbs-3.9-bioc/R/library/BH/include/boost/property_map/vector_property_map.hpp:14,
from /home/biocbuild/bbs-3.9-bioc/R/library/BH/include/boost/property_map/property_map.hpp:602,
from RBGL.hpp:17,
from bbc.cpp:1:
/home/biocbuild/bbs-3.9-bioc/R/library/BH/include/boost/smart_ptr/shared_ptr.hpp:471:31: warning: ‘template class std::auto_ptr’ is deprecated [-Wdeprecated-declarations]
explicit shared_ptr( std::auto_ptr & r ): px(r.get()), pn()
^~~~~~~~
In file included from /usr/include/c++/7/memory:80:0,
from /home/biocbuild/bbs-3.9-bioc/R/library/BH/include/boost/config/no_tr1/memory.hpp:21,
from /home/biocbuild/bbs-3.9-bioc/R/library/BH/include/boost/smart_ptr/shared_ptr.hpp:23,
from /home/biocbuild/bbs-3.9-bioc/R/library/BH/include/boost/shared_ptr.hpp:17,
from /home/biocbuild/bbs-3.9-bioc/R/library/BH/include/boost/property_map/vector_property_map.hpp:14,
from /home/biocbuild/bbs-3.9-bioc/R/library/BH/include/boost/property_map/property_map.hpp:602,
from RBGL.hpp:17,
from bbc.cpp:1:
/usr/include/c++/7/bits/unique_ptr.h:51:28: note: declared here
template class auto_ptr;
^~~~~~~~
In file included from /home/biocbuild/bbs-3.9-bioc/R/library/BH/include/boost/shared_ptr.hpp:17:0,
from /home/biocbuild/bbs-3.9-bioc/R/library/BH/include/boost/property_map/vector_property_map.hpp:14,
from /home/biocbuild/bbs-3.9-bioc/R/library/BH/include/boost/property_map/property_map.hpp:602,
from RBGL.hpp:17,
from bbc.cpp:1:
/home/biocbuild/bbs-3.9-bioc/R/library/BH/include/boost/smart_ptr/shared_ptr.hpp:484:22: warning: ‘template class std::auto_ptr’ is deprecated [-Wdeprecated-declarations]
shared_ptr( std::auto_ptr && r ): px(r.get()), pn()
^~~~~~~~
In file included from /usr/include/c++/7/memory:80:0,
from /home/biocbuild/bbs-3.9-bioc/R/library/BH/include/boost/config/no_tr1/memory.hpp:21,
from /home/biocbuild/bbs-3.9-bioc/R/library/BH/include/boost/smart_ptr/shared_ptr.hpp:23,
from /home/biocbuild/bbs-3.9-bioc/R/library/BH/include/boost/shared_ptr.hpp:17,
from /home/biocbuild/bbs-3.9-bioc/R/library/BH/include/boost/property_map/vector_property_map.hpp:14,
from /home/biocbuild/bbs-3.9-bioc/R/library/BH/include/boost/property_map/property_map.hpp:602,
from RBGL.hpp:17,
from bbc.cpp:1:
/usr/include/c++/7/bits/unique_ptr.h:51:28: note: declared here
template class auto_ptr;
^~~~~~~~
In file included from /home/biocbuild/bbs-3.9-bioc/R/library/BH/include/boost/shared_ptr.hpp:17:0,
from /home/biocbuild/bbs-3.9-bioc/R/library/BH/include/boost/property_map/vector_property_map.hpp:14,
from /home/biocbuild/bbs-3.9-bioc/R/library/BH/include/boost/property_map/property_map.hpp:602,
from RBGL.hpp:17,
from bbc.cpp:1:
/home/biocbuild/bbs-3.9-bioc/R/library/BH/include/boost/smart_ptr/shared_ptr.hpp:567:34: warning: ‘template class std::auto_ptr’ is deprecated [-Wdeprecated-declarations]
shared_ptr & operator=( std::auto_ptr & r )
^~~~~~~~
In file included from /usr/include/c++/7/memory:80:0,
from /home/biocbuild/bbs-3.9-bioc/R/library/BH/include/boost/config/no_tr1/memory.hpp:21,
from /home/biocbuild/bbs-3.9-bioc/R/library/BH/include/boost/smart_ptr/shared_ptr.hpp:23,
from /home/biocbuild/bbs-3.9-bioc/R/library/BH/include/boost/shared_ptr.hpp:17,
from /home/biocbuild/bbs-3.9-bioc/R/library/BH/include/boost/property_map/vector_property_map.hpp:14,
from /home/biocbuild/bbs-3.9-bioc/R/library/BH/include/boost/property_map/property_map.hpp:602,
from RBGL.hpp:17,
from bbc.cpp:1:
/usr/include/c++/7/bits/unique_ptr.h:51:28: note: declared here
template class auto_ptr;
^~~~~~~~
In file included from /home/biocbuild/bbs-3.9-bioc/R/library/BH/include/boost/shared_ptr.hpp:17:0,
from /home/biocbuild/bbs-3.9-bioc/R/library/BH/include/boost/property_map/vector_property_map.hpp:14,
from /home/biocbuild/bbs-3.9-bioc/R/library/BH/include/boost/property_map/property_map.hpp:602,
from RBGL.hpp:17,
from bbc.cpp:1:
/home/biocbuild/bbs-3.9-bioc/R/library/BH/include/boost/smart_ptr/shared_ptr.hpp:576:34: warning: ‘template class std::auto_ptr’ is deprecated [-Wdeprecated-declarations]
shared_ptr & operator=( std::auto_ptr && r )
^~~~~~~~
In file included from /usr/include/c++/7/memory:80:0,
from /home/biocbuild/bbs-3.9-bioc/R/library/BH/include/boost/config/no_tr1/memory.hpp:21,
from /home/biocbuild/bbs-3.9-bioc/R/library/BH/include/boost/smart_ptr/shared_ptr.hpp:23,
from /home/biocbuild/bbs-3.9-bioc/R/library/BH/include/boost/shared_ptr.hpp:17,
from /home/biocbuild/bbs-3.9-bioc/R/library/BH/include/boost/property_map/vector_property_map.hpp:14,
from /home/biocbuild/bbs-3.9-bioc/R/library/BH/include/boost/property_map/property_map.hpp:602,
from RBGL.hpp:17,
from bbc.cpp:1:
/usr/include/c++/7/bits/unique_ptr.h:51:28: note: declared here
template class auto_ptr;
^~~~~~~~
In file included from /home/biocbuild/bbs-3.9-bioc/R/library/BH/include/boost/shared_ptr.hpp:17:0,
from /home/biocbuild/bbs-3.9-bioc/R/library/BH/include/boost/property_map/vector_property_map.hpp:14,
from /home/biocbuild/bbs-3.9-bioc/R/library/BH/include/boost/property_map/property_map.hpp:602,
from RBGL.hpp:17,
from bbc.cpp:1:
/home/biocbuild/bbs-3.9-bioc/R/library/BH/include/boost/smart_ptr/shared_ptr.hpp: In member function ‘boost::shared_ptr& boost::shared_ptr::operator=(std::auto_ptr<_Up>&&)’:
/home/biocbuild/bbs-3.9-bioc/R/library/BH/include/boost/smart_ptr/shared_ptr.hpp:578:38: warning: ‘template class std::auto_ptr’ is deprecated [-Wdeprecated-declarations]
this_type( static_cast< std::auto_ptr && >( r ) ).swap( *this );
^~~~~~~~
In file included from /usr/include/c++/7/memory:80:0,
from /home/biocbuild/bbs-3.9-bioc/R/library/BH/include/boost/config/no_tr1/memory.hpp:21,
from /home/biocbuild/bbs-3.9-bioc/R/library/BH/include/boost/smart_ptr/shared_ptr.hpp:23,
from /home/biocbuild/bbs-3.9-bioc/R/library/BH/include/boost/shared_ptr.hpp:17,
from /home/biocbuild/bbs-3.9-bioc/R/library/BH/include/boost/property_map/vector_property_map.hpp:14,
from /home/biocbuild/bbs-3.9-bioc/R/library/BH/include/boost/property_map/property_map.hpp:602,
from RBGL.hpp:17,
from bbc.cpp:1:
/usr/include/c++/7/bits/unique_ptr.h:51:28: note: declared here
template class auto_ptr;
^~~~~~~~
In file included from /home/biocbuild/bbs-3.9-bioc/R/library/BH/include/boost/scoped_ptr.hpp:13:0,
from /home/biocbuild/bbs-3.9-bioc/R/library/BH/include/boost/graph/adjacency_list.hpp:23,
from RBGL.hpp:38,
from bbc.cpp:1:
/home/biocbuild/bbs-3.9-bioc/R/library/BH/include/boost/smart_ptr/scoped_ptr.hpp: At global scope:
/home/biocbuild/bbs-3.9-bioc/R/library/BH/include/boost/smart_ptr/scoped_ptr.hpp:74:31: warning: ‘template class std::auto_ptr’ is deprecated [-Wdeprecated-declarations]
explicit scoped_ptr( std::auto_ptr p ) BOOST_SP_NOEXCEPT : px( p.release() )
^~~~~~~~
In file included from /usr/include/c++/7/memory:80:0,
from /home/biocbuild/bbs-3.9-bioc/R/library/BH/include/boost/config/no_tr1/memory.hpp:21,
from /home/biocbuild/bbs-3.9-bioc/R/library/BH/include/boost/smart_ptr/shared_ptr.hpp:23,
from /home/biocbuild/bbs-3.9-bioc/R/library/BH/include/boost/shared_ptr.hpp:17,
from /home/biocbuild/bbs-3.9-bioc/R/library/BH/include/boost/property_map/vector_property_map.hpp:14,
from /home/biocbuild/bbs-3.9-bioc/R/library/BH/include/boost/property_map/property_map.hpp:602,
from RBGL.hpp:17,
from bbc.cpp:1:
/usr/include/c++/7/bits/unique_ptr.h:51:28: note: declared here
template class auto_ptr;
^~~~~~~~
g++ -std=gnu++11 -I"/home/biocbuild/bbs-3.9-bioc/R/include" -DNDEBUG -I/home/biocbuild/bbs-3.9-bioc/R/library/BH/include -I"/home/biocbuild/bbs-3.9-bioc/R/library/BH/include" -I/usr/local/include -fpic -g -O2 -Wall -c cliques.cpp -o cliques.o
In file included from /home/biocbuild/bbs-3.9-bioc/R/library/BH/include/boost/smart_ptr/shared_ptr.hpp:28:0,
from /home/biocbuild/bbs-3.9-bioc/R/library/BH/include/boost/shared_ptr.hpp:17,
from /home/biocbuild/bbs-3.9-bioc/R/library/BH/include/boost/property_map/vector_property_map.hpp:14,
from /home/biocbuild/bbs-3.9-bioc/R/library/BH/include/boost/property_map/property_map.hpp:602,
from RBGL.hpp:17,
from cliques.cpp:1:
/home/biocbuild/bbs-3.9-bioc/R/library/BH/include/boost/smart_ptr/detail/shared_count.hpp:355:33: warning: ‘template class std::auto_ptr’ is deprecated [-Wdeprecated-declarations]
explicit shared_count( std::auto_ptr & r ): pi_( new sp_counted_impl_p( r.get() ) )
^~~~~~~~
In file included from /usr/include/c++/7/memory:80:0,
from /home/biocbuild/bbs-3.9-bioc/R/library/BH/include/boost/config/no_tr1/memory.hpp:21,
from /home/biocbuild/bbs-3.9-bioc/R/library/BH/include/boost/smart_ptr/shared_ptr.hpp:23,
from /home/biocbuild/bbs-3.9-bioc/R/library/BH/include/boost/shared_ptr.hpp:17,
from /home/biocbuild/bbs-3.9-bioc/R/library/BH/include/boost/property_map/vector_property_map.hpp:14,
from /home/biocbuild/bbs-3.9-bioc/R/library/BH/include/boost/property_map/property_map.hpp:602,
from RBGL.hpp:17,
from cliques.cpp:1:
/usr/include/c++/7/bits/unique_ptr.h:51:28: note: declared here
template class auto_ptr;
^~~~~~~~
In file included from /home/biocbuild/bbs-3.9-bioc/R/library/BH/include/boost/shared_ptr.hpp:17:0,
from /home/biocbuild/bbs-3.9-bioc/R/library/BH/include/boost/property_map/vector_property_map.hpp:14,
from /home/biocbuild/bbs-3.9-bioc/R/library/BH/include/boost/property_map/property_map.hpp:602,
from RBGL.hpp:17,
from cliques.cpp:1:
/home/biocbuild/bbs-3.9-bioc/R/library/BH/include/boost/smart_ptr/shared_ptr.hpp:256:65: warning: ‘template class std::auto_ptr’ is deprecated [-Wdeprecated-declarations]
template< class T, class R > struct sp_enable_if_auto_ptr< std::auto_ptr< T >, R >
^~~~~~~~
In file included from /usr/include/c++/7/memory:80:0,
from /home/biocbuild/bbs-3.9-bioc/R/library/BH/include/boost/config/no_tr1/memory.hpp:21,
from /home/biocbuild/bbs-3.9-bioc/R/library/BH/include/boost/smart_ptr/shared_ptr.hpp:23,
from /home/biocbuild/bbs-3.9-bioc/R/library/BH/include/boost/shared_ptr.hpp:17,
from /home/biocbuild/bbs-3.9-bioc/R/library/BH/include/boost/property_map/vector_property_map.hpp:14,
from /home/biocbuild/bbs-3.9-bioc/R/library/BH/include/boost/property_map/property_map.hpp:602,
from RBGL.hpp:17,
from cliques.cpp:1:
/usr/include/c++/7/bits/unique_ptr.h:51:28: note: declared here
template class auto_ptr;
^~~~~~~~
In file included from /home/biocbuild/bbs-3.9-bioc/R/library/BH/include/boost/shared_ptr.hpp:17:0,
from /home/biocbuild/bbs-3.9-bioc/R/library/BH/include/boost/property_map/vector_property_map.hpp:14,
from /home/biocbuild/bbs-3.9-bioc/R/library/BH/include/boost/property_map/property_map.hpp:602,
from RBGL.hpp:17,
from cliques.cpp:1:
/home/biocbuild/bbs-3.9-bioc/R/library/BH/include/boost/smart_ptr/shared_ptr.hpp:471:31: warning: ‘template class std::auto_ptr’ is deprecated [-Wdeprecated-declarations]
explicit shared_ptr( std::auto_ptr & r ): px(r.get()), pn()
^~~~~~~~
In file included from /usr/include/c++/7/memory:80:0,
from /home/biocbuild/bbs-3.9-bioc/R/library/BH/include/boost/config/no_tr1/memory.hpp:21,
from /home/biocbuild/bbs-3.9-bioc/R/library/BH/include/boost/smart_ptr/shared_ptr.hpp:23,
from /home/biocbuild/bbs-3.9-bioc/R/library/BH/include/boost/shared_ptr.hpp:17,
from /home/biocbuild/bbs-3.9-bioc/R/library/BH/include/boost/property_map/vector_property_map.hpp:14,
from /home/biocbuild/bbs-3.9-bioc/R/library/BH/include/boost/property_map/property_map.hpp:602,
from RBGL.hpp:17,
from cliques.cpp:1:
/usr/include/c++/7/bits/unique_ptr.h:51:28: note: declared here
template class auto_ptr;
^~~~~~~~
In file included from /home/biocbuild/bbs-3.9-bioc/R/library/BH/include/boost/shared_ptr.hpp:17:0,
from /home/biocbuild/bbs-3.9-bioc/R/library/BH/include/boost/property_map/vector_property_map.hpp:14,
from /home/biocbuild/bbs-3.9-bioc/R/library/BH/include/boost/property_map/property_map.hpp:602,
from RBGL.hpp:17,
from cliques.cpp:1:
/home/biocbuild/bbs-3.9-bioc/R/library/BH/include/boost/smart_ptr/shared_ptr.hpp:484:22: warning: ‘template class std::auto_ptr’ is deprecated [-Wdeprecated-declarations]
shared_ptr( std::auto_ptr && r ): px(r.get()), pn()
^~~~~~~~
In file included from /usr/include/c++/7/memory:80:0,
from /home/biocbuild/bbs-3.9-bioc/R/library/BH/include/boost/config/no_tr1/memory.hpp:21,
from /home/biocbuild/bbs-3.9-bioc/R/library/BH/include/boost/smart_ptr/shared_ptr.hpp:23,
from /home/biocbuild/bbs-3.9-bioc/R/library/BH/include/boost/shared_ptr.hpp:17,
from /home/biocbuild/bbs-3.9-bioc/R/library/BH/include/boost/property_map/vector_property_map.hpp:14,
from /home/biocbuild/bbs-3.9-bioc/R/library/BH/include/boost/property_map/property_map.hpp:602,
from RBGL.hpp:17,
from cliques.cpp:1:
/usr/include/c++/7/bits/unique_ptr.h:51:28: note: declared here
template class auto_ptr;
^~~~~~~~
In file included from /home/biocbuild/bbs-3.9-bioc/R/library/BH/include/boost/shared_ptr.hpp:17:0,
from /home/biocbuild/bbs-3.9-bioc/R/library/BH/include/boost/property_map/vector_property_map.hpp:14,
from /home/biocbuild/bbs-3.9-bioc/R/library/BH/include/boost/property_map/property_map.hpp:602,
from RBGL.hpp:17,
from cliques.cpp:1:
/home/biocbuild/bbs-3.9-bioc/R/library/BH/include/boost/smart_ptr/shared_ptr.hpp:567:34: warning: ‘template class std::auto_ptr’ is deprecated [-Wdeprecated-declarations]
shared_ptr & operator=( std::auto_ptr & r )
^~~~~~~~
In file included from /usr/include/c++/7/memory:80:0,
from /home/biocbuild/bbs-3.9-bioc/R/library/BH/include/boost/config/no_tr1/memory.hpp:21,
from /home/biocbuild/bbs-3.9-bioc/R/library/BH/include/boost/smart_ptr/shared_ptr.hpp:23,
from /home/biocbuild/bbs-3.9-bioc/R/library/BH/include/boost/shared_ptr.hpp:17,
from /home/biocbuild/bbs-3.9-bioc/R/library/BH/include/boost/property_map/vector_property_map.hpp:14,
from /home/biocbuild/bbs-3.9-bioc/R/library/BH/include/boost/property_map/property_map.hpp:602,
from RBGL.hpp:17,
from cliques.cpp:1:
/usr/include/c++/7/bits/unique_ptr.h:51:28: note: declared here
template class auto_ptr;
^~~~~~~~
In file included from /home/biocbuild/bbs-3.9-bioc/R/library/BH/include/boost/shared_ptr.hpp:17:0,
from /home/biocbuild/bbs-3.9-bioc/R/library/BH/include/boost/property_map/vector_property_map.hpp:14,
from /home/biocbuild/bbs-3.9-bioc/R/library/BH/include/boost/property_map/property_map.hpp:602,
from RBGL.hpp:17,
from cliques.cpp:1:
/home/biocbuild/bbs-3.9-bioc/R/library/BH/include/boost/smart_ptr/shared_ptr.hpp:576:34: warning: ‘template class std::auto_ptr’ is deprecated [-Wdeprecated-declarations]
shared_ptr & operator=( std::auto_ptr && r )
^~~~~~~~
In file included from /usr/include/c++/7/memory:80:0,
from /home/biocbuild/bbs-3.9-bioc/R/library/BH/include/boost/config/no_tr1/memory.hpp:21,
from /home/biocbuild/bbs-3.9-bioc/R/library/BH/include/boost/smart_ptr/shared_ptr.hpp:23,
from /home/biocbuild/bbs-3.9-bioc/R/library/BH/include/boost/shared_ptr.hpp:17,
from /home/biocbuild/bbs-3.9-bioc/R/library/BH/include/boost/property_map/vector_property_map.hpp:14,
from /home/biocbuild/bbs-3.9-bioc/R/library/BH/include/boost/property_map/property_map.hpp:602,
from RBGL.hpp:17,
from cliques.cpp:1:
/usr/include/c++/7/bits/unique_ptr.h:51:28: note: declared here
template class auto_ptr;
^~~~~~~~
In file included from /home/biocbuild/bbs-3.9-bioc/R/library/BH/include/boost/shared_ptr.hpp:17:0,
from /home/biocbuild/bbs-3.9-bioc/R/library/BH/include/boost/property_map/vector_property_map.hpp:14,
from /home/biocbuild/bbs-3.9-bioc/R/library/BH/include/boost/property_map/property_map.hpp:602,
from RBGL.hpp:17,
from cliques.cpp:1:
/home/biocbuild/bbs-3.9-bioc/R/library/BH/include/boost/smart_ptr/shared_ptr.hpp: In member function ‘boost::shared_ptr& boost::shared_ptr::operator=(std::auto_ptr<_Up>&&)’:
/home/biocbuild/bbs-3.9-bioc/R/library/BH/include/boost/smart_ptr/shared_ptr.hpp:578:38: warning: ‘template class std::auto_ptr’ is deprecated [-Wdeprecated-declarations]
this_type( static_cast< std::auto_ptr && >( r ) ).swap( *this );
^~~~~~~~
In file included from /usr/include/c++/7/memory:80:0,
from /home/biocbuild/bbs-3.9-bioc/R/library/BH/include/boost/config/no_tr1/memory.hpp:21,
from /home/biocbuild/bbs-3.9-bioc/R/library/BH/include/boost/smart_ptr/shared_ptr.hpp:23,
from /home/biocbuild/bbs-3.9-bioc/R/library/BH/include/boost/shared_ptr.hpp:17,
from /home/biocbuild/bbs-3.9-bioc/R/library/BH/include/boost/property_map/vector_property_map.hpp:14,
from /home/biocbuild/bbs-3.9-bioc/R/library/BH/include/boost/property_map/property_map.hpp:602,
from RBGL.hpp:17,
from cliques.cpp:1:
/usr/include/c++/7/bits/unique_ptr.h:51:28: note: declared here
template class auto_ptr;
^~~~~~~~
In file included from /home/biocbuild/bbs-3.9-bioc/R/library/BH/include/boost/scoped_ptr.hpp:13:0,
from /home/biocbuild/bbs-3.9-bioc/R/library/BH/include/boost/graph/adjacency_list.hpp:23,
from RBGL.hpp:38,
from cliques.cpp:1:
/home/biocbuild/bbs-3.9-bioc/R/library/BH/include/boost/smart_ptr/scoped_ptr.hpp: At global scope:
/home/biocbuild/bbs-3.9-bioc/R/library/BH/include/boost/smart_ptr/scoped_ptr.hpp:74:31: warning: ‘template class std::auto_ptr’ is deprecated [-Wdeprecated-declarations]
explicit scoped_ptr( std::auto_ptr p ) BOOST_SP_NOEXCEPT : px( p.release() )
^~~~~~~~
In file included from /usr/include/c++/7/memory:80:0,
from /home/biocbuild/bbs-3.9-bioc/R/library/BH/include/boost/config/no_tr1/memory.hpp:21,
from /home/biocbuild/bbs-3.9-bioc/R/library/BH/include/boost/smart_ptr/shared_ptr.hpp:23,
from /home/biocbuild/bbs-3.9-bioc/R/library/BH/include/boost/shared_ptr.hpp:17,
from /home/biocbuild/bbs-3.9-bioc/R/library/BH/include/boost/property_map/vector_property_map.hpp:14,
from /home/biocbuild/bbs-3.9-bioc/R/library/BH/include/boost/property_map/property_map.hpp:602,
from RBGL.hpp:17,
from cliques.cpp:1:
/usr/include/c++/7/bits/unique_ptr.h:51:28: note: declared here
template class auto_ptr;
^~~~~~~~
g++ -std=gnu++11 -I"/home/biocbuild/bbs-3.9-bioc/R/include" -DNDEBUG -I/home/biocbuild/bbs-3.9-bioc/R/library/BH/include -I"/home/biocbuild/bbs-3.9-bioc/R/library/BH/include" -I/usr/local/include -fpic -g -O2 -Wall -c clusteringCoef.cpp -o clusteringCoef.o
In file included from /home/biocbuild/bbs-3.9-bioc/R/library/BH/include/boost/smart_ptr/shared_ptr.hpp:28:0,
from /home/biocbuild/bbs-3.9-bioc/R/library/BH/include/boost/shared_ptr.hpp:17,
from /home/biocbuild/bbs-3.9-bioc/R/library/BH/include/boost/property_map/vector_property_map.hpp:14,
from /home/biocbuild/bbs-3.9-bioc/R/library/BH/include/boost/property_map/property_map.hpp:602,
from RBGL.hpp:17,
from clusteringCoef.cpp:1:
/home/biocbuild/bbs-3.9-bioc/R/library/BH/include/boost/smart_ptr/detail/shared_count.hpp:355:33: warning: ‘template class std::auto_ptr’ is deprecated [-Wdeprecated-declarations]
explicit shared_count( std::auto_ptr & r ): pi_( new sp_counted_impl_p( r.get() ) )
^~~~~~~~
In file included from /usr/include/c++/7/memory:80:0,
from /home/biocbuild/bbs-3.9-bioc/R/library/BH/include/boost/config/no_tr1/memory.hpp:21,
from /home/biocbuild/bbs-3.9-bioc/R/library/BH/include/boost/smart_ptr/shared_ptr.hpp:23,
from /home/biocbuild/bbs-3.9-bioc/R/library/BH/include/boost/shared_ptr.hpp:17,
from /home/biocbuild/bbs-3.9-bioc/R/library/BH/include/boost/property_map/vector_property_map.hpp:14,
from /home/biocbuild/bbs-3.9-bioc/R/library/BH/include/boost/property_map/property_map.hpp:602,
from RBGL.hpp:17,
from clusteringCoef.cpp:1:
/usr/include/c++/7/bits/unique_ptr.h:51:28: note: declared here
template class auto_ptr;
^~~~~~~~
In file included from /home/biocbuild/bbs-3.9-bioc/R/library/BH/include/boost/shared_ptr.hpp:17:0,
from /home/biocbuild/bbs-3.9-bioc/R/library/BH/include/boost/property_map/vector_property_map.hpp:14,
from /home/biocbuild/bbs-3.9-bioc/R/library/BH/include/boost/property_map/property_map.hpp:602,
from RBGL.hpp:17,
from clusteringCoef.cpp:1:
/home/biocbuild/bbs-3.9-bioc/R/library/BH/include/boost/smart_ptr/shared_ptr.hpp:256:65: warning: ‘template class std::auto_ptr’ is deprecated [-Wdeprecated-declarations]
template< class T, class R > struct sp_enable_if_auto_ptr< std::auto_ptr< T >, R >
^~~~~~~~
In file included from /usr/include/c++/7/memory:80:0,
from /home/biocbuild/bbs-3.9-bioc/R/library/BH/include/boost/config/no_tr1/memory.hpp:21,
from /home/biocbuild/bbs-3.9-bioc/R/library/BH/include/boost/smart_ptr/shared_ptr.hpp:23,
from /home/biocbuild/bbs-3.9-bioc/R/library/BH/include/boost/shared_ptr.hpp:17,
from /home/biocbuild/bbs-3.9-bioc/R/library/BH/include/boost/property_map/vector_property_map.hpp:14,
from /home/biocbuild/bbs-3.9-bioc/R/library/BH/include/boost/property_map/property_map.hpp:602,
from RBGL.hpp:17,
from clusteringCoef.cpp:1:
/usr/include/c++/7/bits/unique_ptr.h:51:28: note: declared here
template class auto_ptr;
^~~~~~~~
In file included from /home/biocbuild/bbs-3.9-bioc/R/library/BH/include/boost/shared_ptr.hpp:17:0,
from /home/biocbuild/bbs-3.9-bioc/R/library/BH/include/boost/property_map/vector_property_map.hpp:14,
from /home/biocbuild/bbs-3.9-bioc/R/library/BH/include/boost/property_map/property_map.hpp:602,
from RBGL.hpp:17,
from clusteringCoef.cpp:1:
/home/biocbuild/bbs-3.9-bioc/R/library/BH/include/boost/smart_ptr/shared_ptr.hpp:471:31: warning: ‘template class std::auto_ptr’ is deprecated [-Wdeprecated-declarations]
explicit shared_ptr( std::auto_ptr & r ): px(r.get()), pn()
^~~~~~~~
In file included from /usr/include/c++/7/memory:80:0,
from /home/biocbuild/bbs-3.9-bioc/R/library/BH/include/boost/config/no_tr1/memory.hpp:21,
from /home/biocbuild/bbs-3.9-bioc/R/library/BH/include/boost/smart_ptr/shared_ptr.hpp:23,
from /home/biocbuild/bbs-3.9-bioc/R/library/BH/include/boost/shared_ptr.hpp:17,
from /home/biocbuild/bbs-3.9-bioc/R/library/BH/include/boost/property_map/vector_property_map.hpp:14,
from /home/biocbuild/bbs-3.9-bioc/R/library/BH/include/boost/property_map/property_map.hpp:602,
from RBGL.hpp:17,
from clusteringCoef.cpp:1:
/usr/include/c++/7/bits/unique_ptr.h:51:28: note: declared here
template class auto_ptr;
^~~~~~~~
In file included from /home/biocbuild/bbs-3.9-bioc/R/library/BH/include/boost/shared_ptr.hpp:17:0,
from /home/biocbuild/bbs-3.9-bioc/R/library/BH/include/boost/property_map/vector_property_map.hpp:14,
from /home/biocbuild/bbs-3.9-bioc/R/library/BH/include/boost/property_map/property_map.hpp:602,
from RBGL.hpp:17,
from clusteringCoef.cpp:1:
/home/biocbuild/bbs-3.9-bioc/R/library/BH/include/boost/smart_ptr/shared_ptr.hpp:484:22: warning: ‘template class std::auto_ptr’ is deprecated [-Wdeprecated-declarations]
shared_ptr( std::auto_ptr && r ): px(r.get()), pn()
^~~~~~~~
In file included from /usr/include/c++/7/memory:80:0,
from /home/biocbuild/bbs-3.9-bioc/R/library/BH/include/boost/config/no_tr1/memory.hpp:21,
from /home/biocbuild/bbs-3.9-bioc/R/library/BH/include/boost/smart_ptr/shared_ptr.hpp:23,
from /home/biocbuild/bbs-3.9-bioc/R/library/BH/include/boost/shared_ptr.hpp:17,
from /home/biocbuild/bbs-3.9-bioc/R/library/BH/include/boost/property_map/vector_property_map.hpp:14,
from /home/biocbuild/bbs-3.9-bioc/R/library/BH/include/boost/property_map/property_map.hpp:602,
from RBGL.hpp:17,
from clusteringCoef.cpp:1:
/usr/include/c++/7/bits/unique_ptr.h:51:28: note: declared here
template class auto_ptr;
^~~~~~~~
In file included from /home/biocbuild/bbs-3.9-bioc/R/library/BH/include/boost/shared_ptr.hpp:17:0,
from /home/biocbuild/bbs-3.9-bioc/R/library/BH/include/boost/property_map/vector_property_map.hpp:14,
from /home/biocbuild/bbs-3.9-bioc/R/library/BH/include/boost/property_map/property_map.hpp:602,
from RBGL.hpp:17,
from clusteringCoef.cpp:1:
/home/biocbuild/bbs-3.9-bioc/R/library/BH/include/boost/smart_ptr/shared_ptr.hpp:567:34: warning: ‘template class std::auto_ptr’ is deprecated [-Wdeprecated-declarations]
shared_ptr & operator=( std::auto_ptr & r )
^~~~~~~~
In file included from /usr/include/c++/7/memory:80:0,
from /home/biocbuild/bbs-3.9-bioc/R/library/BH/include/boost/config/no_tr1/memory.hpp:21,
from /home/biocbuild/bbs-3.9-bioc/R/library/BH/include/boost/smart_ptr/shared_ptr.hpp:23,
from /home/biocbuild/bbs-3.9-bioc/R/library/BH/include/boost/shared_ptr.hpp:17,
from /home/biocbuild/bbs-3.9-bioc/R/library/BH/include/boost/property_map/vector_property_map.hpp:14,
from /home/biocbuild/bbs-3.9-bioc/R/library/BH/include/boost/property_map/property_map.hpp:602,
from RBGL.hpp:17,
from clusteringCoef.cpp:1:
/usr/include/c++/7/bits/unique_ptr.h:51:28: note: declared here
template class auto_ptr;
^~~~~~~~
In file included from /home/biocbuild/bbs-3.9-bioc/R/library/BH/include/boost/shared_ptr.hpp:17:0,
from /home/biocbuild/bbs-3.9-bioc/R/library/BH/include/boost/property_map/vector_property_map.hpp:14,
from /home/biocbuild/bbs-3.9-bioc/R/library/BH/include/boost/property_map/property_map.hpp:602,
from RBGL.hpp:17,
from clusteringCoef.cpp:1:
/home/biocbuild/bbs-3.9-bioc/R/library/BH/include/boost/smart_ptr/shared_ptr.hpp:576:34: warning: ‘template class std::auto_ptr’ is deprecated [-Wdeprecated-declarations]
shared_ptr & operator=( std::auto_ptr && r )
^~~~~~~~
In file included from /usr/include/c++/7/memory:80:0,
from /home/biocbuild/bbs-3.9-bioc/R/library/BH/include/boost/config/no_tr1/memory.hpp:21,
from /home/biocbuild/bbs-3.9-bioc/R/library/BH/include/boost/smart_ptr/shared_ptr.hpp:23,
from /home/biocbuild/bbs-3.9-bioc/R/library/BH/include/boost/shared_ptr.hpp:17,
from /home/biocbuild/bbs-3.9-bioc/R/library/BH/include/boost/property_map/vector_property_map.hpp:14,
from /home/biocbuild/bbs-3.9-bioc/R/library/BH/include/boost/property_map/property_map.hpp:602,
from RBGL.hpp:17,
from clusteringCoef.cpp:1:
/usr/include/c++/7/bits/unique_ptr.h:51:28: note: declared here
template class auto_ptr;
^~~~~~~~
In file included from /home/biocbuild/bbs-3.9-bioc/R/library/BH/include/boost/shared_ptr.hpp:17:0,
from /home/biocbuild/bbs-3.9-bioc/R/library/BH/include/boost/property_map/vector_property_map.hpp:14,
from /home/biocbuild/bbs-3.9-bioc/R/library/BH/include/boost/property_map/property_map.hpp:602,
from RBGL.hpp:17,
from clusteringCoef.cpp:1:
/home/biocbuild/bbs-3.9-bioc/R/library/BH/include/boost/smart_ptr/shared_ptr.hpp: In member function ‘boost::shared_ptr& boost::shared_ptr::operator=(std::auto_ptr<_Up>&&)’:
/home/biocbuild/bbs-3.9-bioc/R/library/BH/include/boost/smart_ptr/shared_ptr.hpp:578:38: warning: ‘template class std::auto_ptr’ is deprecated [-Wdeprecated-declarations]
this_type( static_cast< std::auto_ptr && >( r ) ).swap( *this );
^~~~~~~~
In file included from /usr/include/c++/7/memory:80:0,
from /home/biocbuild/bbs-3.9-bioc/R/library/BH/include/boost/config/no_tr1/memory.hpp:21,
from /home/biocbuild/bbs-3.9-bioc/R/library/BH/include/boost/smart_ptr/shared_ptr.hpp:23,
from /home/biocbuild/bbs-3.9-bioc/R/library/BH/include/boost/shared_ptr.hpp:17,
from /home/biocbuild/bbs-3.9-bioc/R/library/BH/include/boost/property_map/vector_property_map.hpp:14,
from /home/biocbuild/bbs-3.9-bioc/R/library/BH/include/boost/property_map/property_map.hpp:602,
from RBGL.hpp:17,
from clusteringCoef.cpp:1:
/usr/include/c++/7/bits/unique_ptr.h:51:28: note: declared here
template class auto_ptr;
^~~~~~~~
In file included from /home/biocbuild/bbs-3.9-bioc/R/library/BH/include/boost/scoped_ptr.hpp:13:0,
from /home/biocbuild/bbs-3.9-bioc/R/library/BH/include/boost/graph/adjacency_list.hpp:23,
from RBGL.hpp:38,
from clusteringCoef.cpp:1:
/home/biocbuild/bbs-3.9-bioc/R/library/BH/include/boost/smart_ptr/scoped_ptr.hpp: At global scope:
/home/biocbuild/bbs-3.9-bioc/R/library/BH/include/boost/smart_ptr/scoped_ptr.hpp:74:31: warning: ‘template class std::auto_ptr’ is deprecated [-Wdeprecated-declarations]
explicit scoped_ptr( std::auto_ptr p ) BOOST_SP_NOEXCEPT : px( p.release() )
^~~~~~~~
In file included from /usr/include/c++/7/memory:80:0,
from /home/biocbuild/bbs-3.9-bioc/R/library/BH/include/boost/config/no_tr1/memory.hpp:21,
from /home/biocbuild/bbs-3.9-bioc/R/library/BH/include/boost/smart_ptr/shared_ptr.hpp:23,
from /home/biocbuild/bbs-3.9-bioc/R/library/BH/include/boost/shared_ptr.hpp:17,
from /home/biocbuild/bbs-3.9-bioc/R/library/BH/include/boost/property_map/vector_property_map.hpp:14,
from /home/biocbuild/bbs-3.9-bioc/R/library/BH/include/boost/property_map/property_map.hpp:602,
from RBGL.hpp:17,
from clusteringCoef.cpp:1:
/usr/include/c++/7/bits/unique_ptr.h:51:28: note: declared here
template class auto_ptr;
^~~~~~~~
clusteringCoef.cpp: In function ‘SEXPREC* graphGenerator(SEXP, SEXP, SEXP)’:
clusteringCoef.cpp:394:40: warning: ‘u’ may be used uninitialized in this function [-Wmaybe-uninitialized]
Graph_ud::vertex_descriptor v, u, w=Graph_ud::null_vertex();
^
g++ -std=gnu++11 -I"/home/biocbuild/bbs-3.9-bioc/R/include" -DNDEBUG -I/home/biocbuild/bbs-3.9-bioc/R/library/BH/include -I"/home/biocbuild/bbs-3.9-bioc/R/library/BH/include" -I/usr/local/include -fpic -g -O2 -Wall -c dominatorTree.cpp -o dominatorTree.o
In file included from /home/biocbuild/bbs-3.9-bioc/R/library/BH/include/boost/smart_ptr/shared_ptr.hpp:28:0,
from /home/biocbuild/bbs-3.9-bioc/R/library/BH/include/boost/shared_ptr.hpp:17,
from /home/biocbuild/bbs-3.9-bioc/R/library/BH/include/boost/property_map/vector_property_map.hpp:14,
from /home/biocbuild/bbs-3.9-bioc/R/library/BH/include/boost/property_map/property_map.hpp:602,
from RBGL.hpp:17,
from dominatorTree.cpp:1:
/home/biocbuild/bbs-3.9-bioc/R/library/BH/include/boost/smart_ptr/detail/shared_count.hpp:355:33: warning: ‘template class std::auto_ptr’ is deprecated [-Wdeprecated-declarations]
explicit shared_count( std::auto_ptr & r ): pi_( new sp_counted_impl_p( r.get() ) )
^~~~~~~~
In file included from /usr/include/c++/7/memory:80:0,
from /home/biocbuild/bbs-3.9-bioc/R/library/BH/include/boost/config/no_tr1/memory.hpp:21,
from /home/biocbuild/bbs-3.9-bioc/R/library/BH/include/boost/smart_ptr/shared_ptr.hpp:23,
from /home/biocbuild/bbs-3.9-bioc/R/library/BH/include/boost/shared_ptr.hpp:17,
from /home/biocbuild/bbs-3.9-bioc/R/library/BH/include/boost/property_map/vector_property_map.hpp:14,
from /home/biocbuild/bbs-3.9-bioc/R/library/BH/include/boost/property_map/property_map.hpp:602,
from RBGL.hpp:17,
from dominatorTree.cpp:1:
/usr/include/c++/7/bits/unique_ptr.h:51:28: note: declared here
template class auto_ptr;
^~~~~~~~
In file included from /home/biocbuild/bbs-3.9-bioc/R/library/BH/include/boost/shared_ptr.hpp:17:0,
from /home/biocbuild/bbs-3.9-bioc/R/library/BH/include/boost/property_map/vector_property_map.hpp:14,
from /home/biocbuild/bbs-3.9-bioc/R/library/BH/include/boost/property_map/property_map.hpp:602,
from RBGL.hpp:17,
from dominatorTree.cpp:1:
/home/biocbuild/bbs-3.9-bioc/R/library/BH/include/boost/smart_ptr/shared_ptr.hpp:256:65: warning: ‘template class std::auto_ptr’ is deprecated [-Wdeprecated-declarations]
template< class T, class R > struct sp_enable_if_auto_ptr< std::auto_ptr< T >, R >
^~~~~~~~
In file included from /usr/include/c++/7/memory:80:0,
from /home/biocbuild/bbs-3.9-bioc/R/library/BH/include/boost/config/no_tr1/memory.hpp:21,
from /home/biocbuild/bbs-3.9-bioc/R/library/BH/include/boost/smart_ptr/shared_ptr.hpp:23,
from /home/biocbuild/bbs-3.9-bioc/R/library/BH/include/boost/shared_ptr.hpp:17,
from /home/biocbuild/bbs-3.9-bioc/R/library/BH/include/boost/property_map/vector_property_map.hpp:14,
from /home/biocbuild/bbs-3.9-bioc/R/library/BH/include/boost/property_map/property_map.hpp:602,
from RBGL.hpp:17,
from dominatorTree.cpp:1:
/usr/include/c++/7/bits/unique_ptr.h:51:28: note: declared here
template class auto_ptr;
^~~~~~~~
In file included from /home/biocbuild/bbs-3.9-bioc/R/library/BH/include/boost/shared_ptr.hpp:17:0,
from /home/biocbuild/bbs-3.9-bioc/R/library/BH/include/boost/property_map/vector_property_map.hpp:14,
from /home/biocbuild/bbs-3.9-bioc/R/library/BH/include/boost/property_map/property_map.hpp:602,
from RBGL.hpp:17,
from dominatorTree.cpp:1:
/home/biocbuild/bbs-3.9-bioc/R/library/BH/include/boost/smart_ptr/shared_ptr.hpp:471:31: warning: ‘template class std::auto_ptr’ is deprecated [-Wdeprecated-declarations]
explicit shared_ptr( std::auto_ptr & r ): px(r.get()), pn()
^~~~~~~~
In file included from /usr/include/c++/7/memory:80:0,
from /home/biocbuild/bbs-3.9-bioc/R/library/BH/include/boost/config/no_tr1/memory.hpp:21,
from /home/biocbuild/bbs-3.9-bioc/R/library/BH/include/boost/smart_ptr/shared_ptr.hpp:23,
from /home/biocbuild/bbs-3.9-bioc/R/library/BH/include/boost/shared_ptr.hpp:17,
from /home/biocbuild/bbs-3.9-bioc/R/library/BH/include/boost/property_map/vector_property_map.hpp:14,
from /home/biocbuild/bbs-3.9-bioc/R/library/BH/include/boost/property_map/property_map.hpp:602,
from RBGL.hpp:17,
from dominatorTree.cpp:1:
/usr/include/c++/7/bits/unique_ptr.h:51:28: note: declared here
template class auto_ptr;
^~~~~~~~
In file included from /home/biocbuild/bbs-3.9-bioc/R/library/BH/include/boost/shared_ptr.hpp:17:0,
from /home/biocbuild/bbs-3.9-bioc/R/library/BH/include/boost/property_map/vector_property_map.hpp:14,
from /home/biocbuild/bbs-3.9-bioc/R/library/BH/include/boost/property_map/property_map.hpp:602,
from RBGL.hpp:17,
from dominatorTree.cpp:1:
/home/biocbuild/bbs-3.9-bioc/R/library/BH/include/boost/smart_ptr/shared_ptr.hpp:484:22: warning: ‘template class std::auto_ptr’ is deprecated [-Wdeprecated-declarations]
shared_ptr( std::auto_ptr && r ): px(r.get()), pn()
^~~~~~~~
In file included from /usr/include/c++/7/memory:80:0,
from /home/biocbuild/bbs-3.9-bioc/R/library/BH/include/boost/config/no_tr1/memory.hpp:21,
from /home/biocbuild/bbs-3.9-bioc/R/library/BH/include/boost/smart_ptr/shared_ptr.hpp:23,
from /home/biocbuild/bbs-3.9-bioc/R/library/BH/include/boost/shared_ptr.hpp:17,
from /home/biocbuild/bbs-3.9-bioc/R/library/BH/include/boost/property_map/vector_property_map.hpp:14,
from /home/biocbuild/bbs-3.9-bioc/R/library/BH/include/boost/property_map/property_map.hpp:602,
from RBGL.hpp:17,
from dominatorTree.cpp:1:
/usr/include/c++/7/bits/unique_ptr.h:51:28: note: declared here
template class auto_ptr;
^~~~~~~~
In file included from /home/biocbuild/bbs-3.9-bioc/R/library/BH/include/boost/shared_ptr.hpp:17:0,
from /home/biocbuild/bbs-3.9-bioc/R/library/BH/include/boost/property_map/vector_property_map.hpp:14,
from /home/biocbuild/bbs-3.9-bioc/R/library/BH/include/boost/property_map/property_map.hpp:602,
from RBGL.hpp:17,
from dominatorTree.cpp:1:
/home/biocbuild/bbs-3.9-bioc/R/library/BH/include/boost/smart_ptr/shared_ptr.hpp:567:34: warning: ‘template class std::auto_ptr’ is deprecated [-Wdeprecated-declarations]
shared_ptr & operator=( std::auto_ptr & r )
^~~~~~~~
In file included from /usr/include/c++/7/memory:80:0,
from /home/biocbuild/bbs-3.9-bioc/R/library/BH/include/boost/config/no_tr1/memory.hpp:21,
from /home/biocbuild/bbs-3.9-bioc/R/library/BH/include/boost/smart_ptr/shared_ptr.hpp:23,
from /home/biocbuild/bbs-3.9-bioc/R/library/BH/include/boost/shared_ptr.hpp:17,
from /home/biocbuild/bbs-3.9-bioc/R/library/BH/include/boost/property_map/vector_property_map.hpp:14,
from /home/biocbuild/bbs-3.9-bioc/R/library/BH/include/boost/property_map/property_map.hpp:602,
from RBGL.hpp:17,
from dominatorTree.cpp:1:
/usr/include/c++/7/bits/unique_ptr.h:51:28: note: declared here
template class auto_ptr;
^~~~~~~~
In file included from /home/biocbuild/bbs-3.9-bioc/R/library/BH/include/boost/shared_ptr.hpp:17:0,
from /home/biocbuild/bbs-3.9-bioc/R/library/BH/include/boost/property_map/vector_property_map.hpp:14,
from /home/biocbuild/bbs-3.9-bioc/R/library/BH/include/boost/property_map/property_map.hpp:602,
from RBGL.hpp:17,
from dominatorTree.cpp:1:
/home/biocbuild/bbs-3.9-bioc/R/library/BH/include/boost/smart_ptr/shared_ptr.hpp:576:34: warning: ‘template class std::auto_ptr’ is deprecated [-Wdeprecated-declarations]
shared_ptr & operator=( std::auto_ptr && r )
^~~~~~~~
In file included from /usr/include/c++/7/memory:80:0,
from /home/biocbuild/bbs-3.9-bioc/R/library/BH/include/boost/config/no_tr1/memory.hpp:21,
from /home/biocbuild/bbs-3.9-bioc/R/library/BH/include/boost/smart_ptr/shared_ptr.hpp:23,
from /home/biocbuild/bbs-3.9-bioc/R/library/BH/include/boost/shared_ptr.hpp:17,
from /home/biocbuild/bbs-3.9-bioc/R/library/BH/include/boost/property_map/vector_property_map.hpp:14,
from /home/biocbuild/bbs-3.9-bioc/R/library/BH/include/boost/property_map/property_map.hpp:602,
from RBGL.hpp:17,
from dominatorTree.cpp:1:
/usr/include/c++/7/bits/unique_ptr.h:51:28: note: declared here
template class auto_ptr;
^~~~~~~~
In file included from /home/biocbuild/bbs-3.9-bioc/R/library/BH/include/boost/shared_ptr.hpp:17:0,
from /home/biocbuild/bbs-3.9-bioc/R/library/BH/include/boost/property_map/vector_property_map.hpp:14,
from /home/biocbuild/bbs-3.9-bioc/R/library/BH/include/boost/property_map/property_map.hpp:602,
from RBGL.hpp:17,
from dominatorTree.cpp:1:
/home/biocbuild/bbs-3.9-bioc/R/library/BH/include/boost/smart_ptr/shared_ptr.hpp: In member function ‘boost::shared_ptr& boost::shared_ptr::operator=(std::auto_ptr<_Up>&&)’:
/home/biocbuild/bbs-3.9-bioc/R/library/BH/include/boost/smart_ptr/shared_ptr.hpp:578:38: warning: ‘template class std::auto_ptr’ is deprecated [-Wdeprecated-declarations]
this_type( static_cast< std::auto_ptr && >( r ) ).swap( *this );
^~~~~~~~
In file included from /usr/include/c++/7/memory:80:0,
from /home/biocbuild/bbs-3.9-bioc/R/library/BH/include/boost/config/no_tr1/memory.hpp:21,
from /home/biocbuild/bbs-3.9-bioc/R/library/BH/include/boost/smart_ptr/shared_ptr.hpp:23,
from /home/biocbuild/bbs-3.9-bioc/R/library/BH/include/boost/shared_ptr.hpp:17,
from /home/biocbuild/bbs-3.9-bioc/R/library/BH/include/boost/property_map/vector_property_map.hpp:14,
from /home/biocbuild/bbs-3.9-bioc/R/library/BH/include/boost/property_map/property_map.hpp:602,
from RBGL.hpp:17,
from dominatorTree.cpp:1:
/usr/include/c++/7/bits/unique_ptr.h:51:28: note: declared here
template class auto_ptr;
^~~~~~~~
In file included from /home/biocbuild/bbs-3.9-bioc/R/library/BH/include/boost/scoped_ptr.hpp:13:0,
from /home/biocbuild/bbs-3.9-bioc/R/library/BH/include/boost/graph/adjacency_list.hpp:23,
from RBGL.hpp:38,
from dominatorTree.cpp:1:
/home/biocbuild/bbs-3.9-bioc/R/library/BH/include/boost/smart_ptr/scoped_ptr.hpp: At global scope:
/home/biocbuild/bbs-3.9-bioc/R/library/BH/include/boost/smart_ptr/scoped_ptr.hpp:74:31: warning: ‘template class std::auto_ptr’ is deprecated [-Wdeprecated-declarations]
explicit scoped_ptr( std::auto_ptr p ) BOOST_SP_NOEXCEPT : px( p.release() )
^~~~~~~~
In file included from /usr/include/c++/7/memory:80:0,
from /home/biocbuild/bbs-3.9-bioc/R/library/BH/include/boost/config/no_tr1/memory.hpp:21,
from /home/biocbuild/bbs-3.9-bioc/R/library/BH/include/boost/smart_ptr/shared_ptr.hpp:23,
from /home/biocbuild/bbs-3.9-bioc/R/library/BH/include/boost/shared_ptr.hpp:17,
from /home/biocbuild/bbs-3.9-bioc/R/library/BH/include/boost/property_map/vector_property_map.hpp:14,
from /home/biocbuild/bbs-3.9-bioc/R/library/BH/include/boost/property_map/property_map.hpp:602,
from RBGL.hpp:17,
from dominatorTree.cpp:1:
/usr/include/c++/7/bits/unique_ptr.h:51:28: note: declared here
template class auto_ptr;
^~~~~~~~
g++ -std=gnu++11 -I"/home/biocbuild/bbs-3.9-bioc/R/include" -DNDEBUG -I/home/biocbuild/bbs-3.9-bioc/R/library/BH/include -I"/home/biocbuild/bbs-3.9-bioc/R/library/BH/include" -I/usr/local/include -fpic -g -O2 -Wall -c edmonds_optimum_branching.cpp -o edmonds_optimum_branching.o
In file included from /home/biocbuild/bbs-3.9-bioc/R/library/BH/include/boost/smart_ptr/shared_ptr.hpp:28:0,
from /home/biocbuild/bbs-3.9-bioc/R/library/BH/include/boost/shared_ptr.hpp:17,
from /home/biocbuild/bbs-3.9-bioc/R/library/BH/include/boost/property_map/vector_property_map.hpp:14,
from /home/biocbuild/bbs-3.9-bioc/R/library/BH/include/boost/property_map/property_map.hpp:602,
from RBGL.hpp:17,
from edmonds_optimum_branching.cpp:1:
/home/biocbuild/bbs-3.9-bioc/R/library/BH/include/boost/smart_ptr/detail/shared_count.hpp:355:33: warning: ‘template class std::auto_ptr’ is deprecated [-Wdeprecated-declarations]
explicit shared_count( std::auto_ptr & r ): pi_( new sp_counted_impl_p( r.get() ) )
^~~~~~~~
In file included from /usr/include/c++/7/memory:80:0,
from /home/biocbuild/bbs-3.9-bioc/R/library/BH/include/boost/config/no_tr1/memory.hpp:21,
from /home/biocbuild/bbs-3.9-bioc/R/library/BH/include/boost/smart_ptr/shared_ptr.hpp:23,
from /home/biocbuild/bbs-3.9-bioc/R/library/BH/include/boost/shared_ptr.hpp:17,
from /home/biocbuild/bbs-3.9-bioc/R/library/BH/include/boost/property_map/vector_property_map.hpp:14,
from /home/biocbuild/bbs-3.9-bioc/R/library/BH/include/boost/property_map/property_map.hpp:602,
from RBGL.hpp:17,
from edmonds_optimum_branching.cpp:1:
/usr/include/c++/7/bits/unique_ptr.h:51:28: note: declared here
template class auto_ptr;
^~~~~~~~
In file included from /home/biocbuild/bbs-3.9-bioc/R/library/BH/include/boost/shared_ptr.hpp:17:0,
from /home/biocbuild/bbs-3.9-bioc/R/library/BH/include/boost/property_map/vector_property_map.hpp:14,
from /home/biocbuild/bbs-3.9-bioc/R/library/BH/include/boost/property_map/property_map.hpp:602,
from RBGL.hpp:17,
from edmonds_optimum_branching.cpp:1:
/home/biocbuild/bbs-3.9-bioc/R/library/BH/include/boost/smart_ptr/shared_ptr.hpp:256:65: warning: ‘template class std::auto_ptr’ is deprecated [-Wdeprecated-declarations]
template< class T, class R > struct sp_enable_if_auto_ptr< std::auto_ptr< T >, R >
^~~~~~~~
In file included from /usr/include/c++/7/memory:80:0,
from /home/biocbuild/bbs-3.9-bioc/R/library/BH/include/boost/config/no_tr1/memory.hpp:21,
from /home/biocbuild/bbs-3.9-bioc/R/library/BH/include/boost/smart_ptr/shared_ptr.hpp:23,
from /home/biocbuild/bbs-3.9-bioc/R/library/BH/include/boost/shared_ptr.hpp:17,
from /home/biocbuild/bbs-3.9-bioc/R/library/BH/include/boost/property_map/vector_property_map.hpp:14,
from /home/biocbuild/bbs-3.9-bioc/R/library/BH/include/boost/property_map/property_map.hpp:602,
from RBGL.hpp:17,
from edmonds_optimum_branching.cpp:1:
/usr/include/c++/7/bits/unique_ptr.h:51:28: note: declared here
template class auto_ptr;
^~~~~~~~
In file included from /home/biocbuild/bbs-3.9-bioc/R/library/BH/include/boost/shared_ptr.hpp:17:0,
from /home/biocbuild/bbs-3.9-bioc/R/library/BH/include/boost/property_map/vector_property_map.hpp:14,
from /home/biocbuild/bbs-3.9-bioc/R/library/BH/include/boost/property_map/property_map.hpp:602,
from RBGL.hpp:17,
from edmonds_optimum_branching.cpp:1:
/home/biocbuild/bbs-3.9-bioc/R/library/BH/include/boost/smart_ptr/shared_ptr.hpp:471:31: warning: ‘template class std::auto_ptr’ is deprecated [-Wdeprecated-declarations]
explicit shared_ptr( std::auto_ptr & r ): px(r.get()), pn()
^~~~~~~~
In file included from /usr/include/c++/7/memory:80:0,
from /home/biocbuild/bbs-3.9-bioc/R/library/BH/include/boost/config/no_tr1/memory.hpp:21,
from /home/biocbuild/bbs-3.9-bioc/R/library/BH/include/boost/smart_ptr/shared_ptr.hpp:23,
from /home/biocbuild/bbs-3.9-bioc/R/library/BH/include/boost/shared_ptr.hpp:17,
from /home/biocbuild/bbs-3.9-bioc/R/library/BH/include/boost/property_map/vector_property_map.hpp:14,
from /home/biocbuild/bbs-3.9-bioc/R/library/BH/include/boost/property_map/property_map.hpp:602,
from RBGL.hpp:17,
from edmonds_optimum_branching.cpp:1:
/usr/include/c++/7/bits/unique_ptr.h:51:28: note: declared here
template class auto_ptr;
^~~~~~~~
In file included from /home/biocbuild/bbs-3.9-bioc/R/library/BH/include/boost/shared_ptr.hpp:17:0,
from /home/biocbuild/bbs-3.9-bioc/R/library/BH/include/boost/property_map/vector_property_map.hpp:14,
from /home/biocbuild/bbs-3.9-bioc/R/library/BH/include/boost/property_map/property_map.hpp:602,
from RBGL.hpp:17,
from edmonds_optimum_branching.cpp:1:
/home/biocbuild/bbs-3.9-bioc/R/library/BH/include/boost/smart_ptr/shared_ptr.hpp:484:22: warning: ‘template class std::auto_ptr’ is deprecated [-Wdeprecated-declarations]
shared_ptr( std::auto_ptr && r ): px(r.get()), pn()
^~~~~~~~
In file included from /usr/include/c++/7/memory:80:0,
from /home/biocbuild/bbs-3.9-bioc/R/library/BH/include/boost/config/no_tr1/memory.hpp:21,
from /home/biocbuild/bbs-3.9-bioc/R/library/BH/include/boost/smart_ptr/shared_ptr.hpp:23,
from /home/biocbuild/bbs-3.9-bioc/R/library/BH/include/boost/shared_ptr.hpp:17,
from /home/biocbuild/bbs-3.9-bioc/R/library/BH/include/boost/property_map/vector_property_map.hpp:14,
from /home/biocbuild/bbs-3.9-bioc/R/library/BH/include/boost/property_map/property_map.hpp:602,
from RBGL.hpp:17,
from edmonds_optimum_branching.cpp:1:
/usr/include/c++/7/bits/unique_ptr.h:51:28: note: declared here
template class auto_ptr;
^~~~~~~~
In file included from /home/biocbuild/bbs-3.9-bioc/R/library/BH/include/boost/shared_ptr.hpp:17:0,
from /home/biocbuild/bbs-3.9-bioc/R/library/BH/include/boost/property_map/vector_property_map.hpp:14,
from /home/biocbuild/bbs-3.9-bioc/R/library/BH/include/boost/property_map/property_map.hpp:602,
from RBGL.hpp:17,
from edmonds_optimum_branching.cpp:1:
/home/biocbuild/bbs-3.9-bioc/R/library/BH/include/boost/smart_ptr/shared_ptr.hpp:567:34: warning: ‘template class std::auto_ptr’ is deprecated [-Wdeprecated-declarations]
shared_ptr & operator=( std::auto_ptr & r )
^~~~~~~~
In file included from /usr/include/c++/7/memory:80:0,
from /home/biocbuild/bbs-3.9-bioc/R/library/BH/include/boost/config/no_tr1/memory.hpp:21,
from /home/biocbuild/bbs-3.9-bioc/R/library/BH/include/boost/smart_ptr/shared_ptr.hpp:23,
from /home/biocbuild/bbs-3.9-bioc/R/library/BH/include/boost/shared_ptr.hpp:17,
from /home/biocbuild/bbs-3.9-bioc/R/library/BH/include/boost/property_map/vector_property_map.hpp:14,
from /home/biocbuild/bbs-3.9-bioc/R/library/BH/include/boost/property_map/property_map.hpp:602,
from RBGL.hpp:17,
from edmonds_optimum_branching.cpp:1:
/usr/include/c++/7/bits/unique_ptr.h:51:28: note: declared here
template class auto_ptr;
^~~~~~~~
In file included from /home/biocbuild/bbs-3.9-bioc/R/library/BH/include/boost/shared_ptr.hpp:17:0,
from /home/biocbuild/bbs-3.9-bioc/R/library/BH/include/boost/property_map/vector_property_map.hpp:14,
from /home/biocbuild/bbs-3.9-bioc/R/library/BH/include/boost/property_map/property_map.hpp:602,
from RBGL.hpp:17,
from edmonds_optimum_branching.cpp:1:
/home/biocbuild/bbs-3.9-bioc/R/library/BH/include/boost/smart_ptr/shared_ptr.hpp:576:34: warning: ‘template class std::auto_ptr’ is deprecated [-Wdeprecated-declarations]
shared_ptr & operator=( std::auto_ptr && r )
^~~~~~~~
In file included from /usr/include/c++/7/memory:80:0,
from /home/biocbuild/bbs-3.9-bioc/R/library/BH/include/boost/config/no_tr1/memory.hpp:21,
from /home/biocbuild/bbs-3.9-bioc/R/library/BH/include/boost/smart_ptr/shared_ptr.hpp:23,
from /home/biocbuild/bbs-3.9-bioc/R/library/BH/include/boost/shared_ptr.hpp:17,
from /home/biocbuild/bbs-3.9-bioc/R/library/BH/include/boost/property_map/vector_property_map.hpp:14,
from /home/biocbuild/bbs-3.9-bioc/R/library/BH/include/boost/property_map/property_map.hpp:602,
from RBGL.hpp:17,
from edmonds_optimum_branching.cpp:1:
/usr/include/c++/7/bits/unique_ptr.h:51:28: note: declared here
template class auto_ptr;
^~~~~~~~
In file included from /home/biocbuild/bbs-3.9-bioc/R/library/BH/include/boost/shared_ptr.hpp:17:0,
from /home/biocbuild/bbs-3.9-bioc/R/library/BH/include/boost/property_map/vector_property_map.hpp:14,
from /home/biocbuild/bbs-3.9-bioc/R/library/BH/include/boost/property_map/property_map.hpp:602,
from RBGL.hpp:17,
from edmonds_optimum_branching.cpp:1:
/home/biocbuild/bbs-3.9-bioc/R/library/BH/include/boost/smart_ptr/shared_ptr.hpp: In member function ‘boost::shared_ptr& boost::shared_ptr::operator=(std::auto_ptr<_Up>&&)’:
/home/biocbuild/bbs-3.9-bioc/R/library/BH/include/boost/smart_ptr/shared_ptr.hpp:578:38: warning: ‘template class std::auto_ptr’ is deprecated [-Wdeprecated-declarations]
this_type( static_cast< std::auto_ptr && >( r ) ).swap( *this );
^~~~~~~~
In file included from /usr/include/c++/7/memory:80:0,
from /home/biocbuild/bbs-3.9-bioc/R/library/BH/include/boost/config/no_tr1/memory.hpp:21,
from /home/biocbuild/bbs-3.9-bioc/R/library/BH/include/boost/smart_ptr/shared_ptr.hpp:23,
from /home/biocbuild/bbs-3.9-bioc/R/library/BH/include/boost/shared_ptr.hpp:17,
from /home/biocbuild/bbs-3.9-bioc/R/library/BH/include/boost/property_map/vector_property_map.hpp:14,
from /home/biocbuild/bbs-3.9-bioc/R/library/BH/include/boost/property_map/property_map.hpp:602,
from RBGL.hpp:17,
from edmonds_optimum_branching.cpp:1:
/usr/include/c++/7/bits/unique_ptr.h:51:28: note: declared here
template class auto_ptr;
^~~~~~~~
In file included from /home/biocbuild/bbs-3.9-bioc/R/library/BH/include/boost/scoped_ptr.hpp:13:0,
from /home/biocbuild/bbs-3.9-bioc/R/library/BH/include/boost/graph/adjacency_list.hpp:23,
from RBGL.hpp:38,
from edmonds_optimum_branching.cpp:1:
/home/biocbuild/bbs-3.9-bioc/R/library/BH/include/boost/smart_ptr/scoped_ptr.hpp: At global scope:
/home/biocbuild/bbs-3.9-bioc/R/library/BH/include/boost/smart_ptr/scoped_ptr.hpp:74:31: warning: ‘template class std::auto_ptr’ is deprecated [-Wdeprecated-declarations]
explicit scoped_ptr( std::auto_ptr p ) BOOST_SP_NOEXCEPT : px( p.release() )
^~~~~~~~
In file included from /usr/include/c++/7/memory:80:0,
from /home/biocbuild/bbs-3.9-bioc/R/library/BH/include/boost/config/no_tr1/memory.hpp:21,
from /home/biocbuild/bbs-3.9-bioc/R/library/BH/include/boost/smart_ptr/shared_ptr.hpp:23,
from /home/biocbuild/bbs-3.9-bioc/R/library/BH/include/boost/shared_ptr.hpp:17,
from /home/biocbuild/bbs-3.9-bioc/R/library/BH/include/boost/property_map/vector_property_map.hpp:14,
from /home/biocbuild/bbs-3.9-bioc/R/library/BH/include/boost/property_map/property_map.hpp:602,
from RBGL.hpp:17,
from edmonds_optimum_branching.cpp:1:
/usr/include/c++/7/bits/unique_ptr.h:51:28: note: declared here
template class auto_ptr;
^~~~~~~~
In file included from edmonds_optimum_branching.hpp:94:0,
from edmonds_optimum_branching.cpp:3:
edmonds_optimum_branching_impl.hpp: In function ‘void edmonds_optimum_branching(TEdgeListGraph&, TVertexIndexMap, TWeightMap, TInputIterator, TInputIterator, TOutputIterator)’:
edmonds_optimum_branching_impl.hpp:520:71: warning: typedef ‘EdgeIter’ locally defined but not used [-Wunused-local-typedefs]
typedef typename graph_traits::edge_iterator EdgeIter;
^~~~~~~~
edmonds_optimum_branching_impl.hpp:521:71: warning: typedef ‘weight_t’ locally defined but not used [-Wunused-local-typedefs]
typedef typename property_traits::value_type weight_t;
^~~~~~~~
g++ -std=gnu++11 -I"/home/biocbuild/bbs-3.9-bioc/R/include" -DNDEBUG -I/home/biocbuild/bbs-3.9-bioc/R/library/BH/include -I"/home/biocbuild/bbs-3.9-bioc/R/library/BH/include" -I/usr/local/include -fpic -g -O2 -Wall -c hcs.cpp -o hcs.o
In file included from /home/biocbuild/bbs-3.9-bioc/R/library/BH/include/boost/smart_ptr/shared_ptr.hpp:28:0,
from /home/biocbuild/bbs-3.9-bioc/R/library/BH/include/boost/shared_ptr.hpp:17,
from /home/biocbuild/bbs-3.9-bioc/R/library/BH/include/boost/property_map/vector_property_map.hpp:14,
from /home/biocbuild/bbs-3.9-bioc/R/library/BH/include/boost/property_map/property_map.hpp:602,
from RBGL.hpp:17,
from hcs.cpp:1:
/home/biocbuild/bbs-3.9-bioc/R/library/BH/include/boost/smart_ptr/detail/shared_count.hpp:355:33: warning: ‘template class std::auto_ptr’ is deprecated [-Wdeprecated-declarations]
explicit shared_count( std::auto_ptr & r ): pi_( new sp_counted_impl_p( r.get() ) )
^~~~~~~~
In file included from /usr/include/c++/7/memory:80:0,
from /home/biocbuild/bbs-3.9-bioc/R/library/BH/include/boost/config/no_tr1/memory.hpp:21,
from /home/biocbuild/bbs-3.9-bioc/R/library/BH/include/boost/smart_ptr/shared_ptr.hpp:23,
from /home/biocbuild/bbs-3.9-bioc/R/library/BH/include/boost/shared_ptr.hpp:17,
from /home/biocbuild/bbs-3.9-bioc/R/library/BH/include/boost/property_map/vector_property_map.hpp:14,
from /home/biocbuild/bbs-3.9-bioc/R/library/BH/include/boost/property_map/property_map.hpp:602,
from RBGL.hpp:17,
from hcs.cpp:1:
/usr/include/c++/7/bits/unique_ptr.h:51:28: note: declared here
template class auto_ptr;
^~~~~~~~
In file included from /home/biocbuild/bbs-3.9-bioc/R/library/BH/include/boost/shared_ptr.hpp:17:0,
from /home/biocbuild/bbs-3.9-bioc/R/library/BH/include/boost/property_map/vector_property_map.hpp:14,
from /home/biocbuild/bbs-3.9-bioc/R/library/BH/include/boost/property_map/property_map.hpp:602,
from RBGL.hpp:17,
from hcs.cpp:1:
/home/biocbuild/bbs-3.9-bioc/R/library/BH/include/boost/smart_ptr/shared_ptr.hpp:256:65: warning: ‘template class std::auto_ptr’ is deprecated [-Wdeprecated-declarations]
template< class T, class R > struct sp_enable_if_auto_ptr< std::auto_ptr< T >, R >
^~~~~~~~
In file included from /usr/include/c++/7/memory:80:0,
from /home/biocbuild/bbs-3.9-bioc/R/library/BH/include/boost/config/no_tr1/memory.hpp:21,
from /home/biocbuild/bbs-3.9-bioc/R/library/BH/include/boost/smart_ptr/shared_ptr.hpp:23,
from /home/biocbuild/bbs-3.9-bioc/R/library/BH/include/boost/shared_ptr.hpp:17,
from /home/biocbuild/bbs-3.9-bioc/R/library/BH/include/boost/property_map/vector_property_map.hpp:14,
from /home/biocbuild/bbs-3.9-bioc/R/library/BH/include/boost/property_map/property_map.hpp:602,
from RBGL.hpp:17,
from hcs.cpp:1:
/usr/include/c++/7/bits/unique_ptr.h:51:28: note: declared here
template class auto_ptr;
^~~~~~~~
In file included from /home/biocbuild/bbs-3.9-bioc/R/library/BH/include/boost/shared_ptr.hpp:17:0,
from /home/biocbuild/bbs-3.9-bioc/R/library/BH/include/boost/property_map/vector_property_map.hpp:14,
from /home/biocbuild/bbs-3.9-bioc/R/library/BH/include/boost/property_map/property_map.hpp:602,
from RBGL.hpp:17,
from hcs.cpp:1:
/home/biocbuild/bbs-3.9-bioc/R/library/BH/include/boost/smart_ptr/shared_ptr.hpp:471:31: warning: ‘template class std::auto_ptr’ is deprecated [-Wdeprecated-declarations]
explicit shared_ptr( std::auto_ptr & r ): px(r.get()), pn()
^~~~~~~~
In file included from /usr/include/c++/7/memory:80:0,
from /home/biocbuild/bbs-3.9-bioc/R/library/BH/include/boost/config/no_tr1/memory.hpp:21,
from /home/biocbuild/bbs-3.9-bioc/R/library/BH/include/boost/smart_ptr/shared_ptr.hpp:23,
from /home/biocbuild/bbs-3.9-bioc/R/library/BH/include/boost/shared_ptr.hpp:17,
from /home/biocbuild/bbs-3.9-bioc/R/library/BH/include/boost/property_map/vector_property_map.hpp:14,
from /home/biocbuild/bbs-3.9-bioc/R/library/BH/include/boost/property_map/property_map.hpp:602,
from RBGL.hpp:17,
from hcs.cpp:1:
/usr/include/c++/7/bits/unique_ptr.h:51:28: note: declared here
template class auto_ptr;
^~~~~~~~
In file included from /home/biocbuild/bbs-3.9-bioc/R/library/BH/include/boost/shared_ptr.hpp:17:0,
from /home/biocbuild/bbs-3.9-bioc/R/library/BH/include/boost/property_map/vector_property_map.hpp:14,
from /home/biocbuild/bbs-3.9-bioc/R/library/BH/include/boost/property_map/property_map.hpp:602,
from RBGL.hpp:17,
from hcs.cpp:1:
/home/biocbuild/bbs-3.9-bioc/R/library/BH/include/boost/smart_ptr/shared_ptr.hpp:484:22: warning: ‘template class std::auto_ptr’ is deprecated [-Wdeprecated-declarations]
shared_ptr( std::auto_ptr && r ): px(r.get()), pn()
^~~~~~~~
In file included from /usr/include/c++/7/memory:80:0,
from /home/biocbuild/bbs-3.9-bioc/R/library/BH/include/boost/config/no_tr1/memory.hpp:21,
from /home/biocbuild/bbs-3.9-bioc/R/library/BH/include/boost/smart_ptr/shared_ptr.hpp:23,
from /home/biocbuild/bbs-3.9-bioc/R/library/BH/include/boost/shared_ptr.hpp:17,
from /home/biocbuild/bbs-3.9-bioc/R/library/BH/include/boost/property_map/vector_property_map.hpp:14,
from /home/biocbuild/bbs-3.9-bioc/R/library/BH/include/boost/property_map/property_map.hpp:602,
from RBGL.hpp:17,
from hcs.cpp:1:
/usr/include/c++/7/bits/unique_ptr.h:51:28: note: declared here
template class auto_ptr;
^~~~~~~~
In file included from /home/biocbuild/bbs-3.9-bioc/R/library/BH/include/boost/shared_ptr.hpp:17:0,
from /home/biocbuild/bbs-3.9-bioc/R/library/BH/include/boost/property_map/vector_property_map.hpp:14,
from /home/biocbuild/bbs-3.9-bioc/R/library/BH/include/boost/property_map/property_map.hpp:602,
from RBGL.hpp:17,
from hcs.cpp:1:
/home/biocbuild/bbs-3.9-bioc/R/library/BH/include/boost/smart_ptr/shared_ptr.hpp:567:34: warning: ‘template class std::auto_ptr’ is deprecated [-Wdeprecated-declarations]
shared_ptr & operator=( std::auto_ptr & r )
^~~~~~~~
In file included from /usr/include/c++/7/memory:80:0,
from /home/biocbuild/bbs-3.9-bioc/R/library/BH/include/boost/config/no_tr1/memory.hpp:21,
from /home/biocbuild/bbs-3.9-bioc/R/library/BH/include/boost/smart_ptr/shared_ptr.hpp:23,
from /home/biocbuild/bbs-3.9-bioc/R/library/BH/include/boost/shared_ptr.hpp:17,
from /home/biocbuild/bbs-3.9-bioc/R/library/BH/include/boost/property_map/vector_property_map.hpp:14,
from /home/biocbuild/bbs-3.9-bioc/R/library/BH/include/boost/property_map/property_map.hpp:602,
from RBGL.hpp:17,
from hcs.cpp:1:
/usr/include/c++/7/bits/unique_ptr.h:51:28: note: declared here
template class auto_ptr;
^~~~~~~~
In file included from /home/biocbuild/bbs-3.9-bioc/R/library/BH/include/boost/shared_ptr.hpp:17:0,
from /home/biocbuild/bbs-3.9-bioc/R/library/BH/include/boost/property_map/vector_property_map.hpp:14,
from /home/biocbuild/bbs-3.9-bioc/R/library/BH/include/boost/property_map/property_map.hpp:602,
from RBGL.hpp:17,
from hcs.cpp:1:
/home/biocbuild/bbs-3.9-bioc/R/library/BH/include/boost/smart_ptr/shared_ptr.hpp:576:34: warning: ‘template class std::auto_ptr’ is deprecated [-Wdeprecated-declarations]
shared_ptr & operator=( std::auto_ptr && r )
^~~~~~~~
In file included from /usr/include/c++/7/memory:80:0,
from /home/biocbuild/bbs-3.9-bioc/R/library/BH/include/boost/config/no_tr1/memory.hpp:21,
from /home/biocbuild/bbs-3.9-bioc/R/library/BH/include/boost/smart_ptr/shared_ptr.hpp:23,
from /home/biocbuild/bbs-3.9-bioc/R/library/BH/include/boost/shared_ptr.hpp:17,
from /home/biocbuild/bbs-3.9-bioc/R/library/BH/include/boost/property_map/vector_property_map.hpp:14,
from /home/biocbuild/bbs-3.9-bioc/R/library/BH/include/boost/property_map/property_map.hpp:602,
from RBGL.hpp:17,
from hcs.cpp:1:
/usr/include/c++/7/bits/unique_ptr.h:51:28: note: declared here
template class auto_ptr;
^~~~~~~~
In file included from /home/biocbuild/bbs-3.9-bioc/R/library/BH/include/boost/shared_ptr.hpp:17:0,
from /home/biocbuild/bbs-3.9-bioc/R/library/BH/include/boost/property_map/vector_property_map.hpp:14,
from /home/biocbuild/bbs-3.9-bioc/R/library/BH/include/boost/property_map/property_map.hpp:602,
from RBGL.hpp:17,
from hcs.cpp:1:
/home/biocbuild/bbs-3.9-bioc/R/library/BH/include/boost/smart_ptr/shared_ptr.hpp: In member function ‘boost::shared_ptr& boost::shared_ptr::operator=(std::auto_ptr<_Up>&&)’:
/home/biocbuild/bbs-3.9-bioc/R/library/BH/include/boost/smart_ptr/shared_ptr.hpp:578:38: warning: ‘template class std::auto_ptr’ is deprecated [-Wdeprecated-declarations]
this_type( static_cast< std::auto_ptr && >( r ) ).swap( *this );
^~~~~~~~
In file included from /usr/include/c++/7/memory:80:0,
from /home/biocbuild/bbs-3.9-bioc/R/library/BH/include/boost/config/no_tr1/memory.hpp:21,
from /home/biocbuild/bbs-3.9-bioc/R/library/BH/include/boost/smart_ptr/shared_ptr.hpp:23,
from /home/biocbuild/bbs-3.9-bioc/R/library/BH/include/boost/shared_ptr.hpp:17,
from /home/biocbuild/bbs-3.9-bioc/R/library/BH/include/boost/property_map/vector_property_map.hpp:14,
from /home/biocbuild/bbs-3.9-bioc/R/library/BH/include/boost/property_map/property_map.hpp:602,
from RBGL.hpp:17,
from hcs.cpp:1:
/usr/include/c++/7/bits/unique_ptr.h:51:28: note: declared here
template class auto_ptr;
^~~~~~~~
In file included from /home/biocbuild/bbs-3.9-bioc/R/library/BH/include/boost/scoped_ptr.hpp:13:0,
from /home/biocbuild/bbs-3.9-bioc/R/library/BH/include/boost/graph/adjacency_list.hpp:23,
from RBGL.hpp:38,
from hcs.cpp:1:
/home/biocbuild/bbs-3.9-bioc/R/library/BH/include/boost/smart_ptr/scoped_ptr.hpp: At global scope:
/home/biocbuild/bbs-3.9-bioc/R/library/BH/include/boost/smart_ptr/scoped_ptr.hpp:74:31: warning: ‘template class std::auto_ptr’ is deprecated [-Wdeprecated-declarations]
explicit scoped_ptr( std::auto_ptr p ) BOOST_SP_NOEXCEPT : px( p.release() )
^~~~~~~~
In file included from /usr/include/c++/7/memory:80:0,
from /home/biocbuild/bbs-3.9-bioc/R/library/BH/include/boost/config/no_tr1/memory.hpp:21,
from /home/biocbuild/bbs-3.9-bioc/R/library/BH/include/boost/smart_ptr/shared_ptr.hpp:23,
from /home/biocbuild/bbs-3.9-bioc/R/library/BH/include/boost/shared_ptr.hpp:17,
from /home/biocbuild/bbs-3.9-bioc/R/library/BH/include/boost/property_map/vector_property_map.hpp:14,
from /home/biocbuild/bbs-3.9-bioc/R/library/BH/include/boost/property_map/property_map.hpp:602,
from RBGL.hpp:17,
from hcs.cpp:1:
/usr/include/c++/7/bits/unique_ptr.h:51:28: note: declared here
template class auto_ptr;
^~~~~~~~
In file included from mincut.hpp:4:0,
from hcs.cpp:2:
/home/biocbuild/bbs-3.9-bioc/R/library/BH/include/boost/graph/edge_connectivity.hpp: In function ‘typename boost::graph_traits::edges_size_type boost::min_cut(VertexListGraph&, OutputIterator, OutputIterator) [with VertexListGraph = const R_adjacency_list; OutputIterator = std::back_insert_iterator >]’:
/home/biocbuild/bbs-3.9-bioc/R/library/BH/include/boost/graph/edge_connectivity.hpp:32:42: warning: ‘p’ may be used uninitialized in this function [-Wmaybe-uninitialized]
typename Traits::vertex_descriptor p;
^
g++ -std=gnu++11 -I"/home/biocbuild/bbs-3.9-bioc/R/include" -DNDEBUG -I/home/biocbuild/bbs-3.9-bioc/R/library/BH/include -I"/home/biocbuild/bbs-3.9-bioc/R/library/BH/include" -I/usr/local/include -fpic -g -O2 -Wall -c incrConnComp.cpp -o incrConnComp.o
In file included from /home/biocbuild/bbs-3.9-bioc/R/library/BH/include/boost/smart_ptr/shared_ptr.hpp:28:0,
from /home/biocbuild/bbs-3.9-bioc/R/library/BH/include/boost/shared_ptr.hpp:17,
from /home/biocbuild/bbs-3.9-bioc/R/library/BH/include/boost/property_map/vector_property_map.hpp:14,
from /home/biocbuild/bbs-3.9-bioc/R/library/BH/include/boost/property_map/property_map.hpp:602,
from RBGL.hpp:17,
from incrConnComp.cpp:1:
/home/biocbuild/bbs-3.9-bioc/R/library/BH/include/boost/smart_ptr/detail/shared_count.hpp:355:33: warning: ‘template class std::auto_ptr’ is deprecated [-Wdeprecated-declarations]
explicit shared_count( std::auto_ptr & r ): pi_( new sp_counted_impl_p( r.get() ) )
^~~~~~~~
In file included from /usr/include/c++/7/memory:80:0,
from /home/biocbuild/bbs-3.9-bioc/R/library/BH/include/boost/config/no_tr1/memory.hpp:21,
from /home/biocbuild/bbs-3.9-bioc/R/library/BH/include/boost/smart_ptr/shared_ptr.hpp:23,
from /home/biocbuild/bbs-3.9-bioc/R/library/BH/include/boost/shared_ptr.hpp:17,
from /home/biocbuild/bbs-3.9-bioc/R/library/BH/include/boost/property_map/vector_property_map.hpp:14,
from /home/biocbuild/bbs-3.9-bioc/R/library/BH/include/boost/property_map/property_map.hpp:602,
from RBGL.hpp:17,
from incrConnComp.cpp:1:
/usr/include/c++/7/bits/unique_ptr.h:51:28: note: declared here
template class auto_ptr;
^~~~~~~~
In file included from /home/biocbuild/bbs-3.9-bioc/R/library/BH/include/boost/shared_ptr.hpp:17:0,
from /home/biocbuild/bbs-3.9-bioc/R/library/BH/include/boost/property_map/vector_property_map.hpp:14,
from /home/biocbuild/bbs-3.9-bioc/R/library/BH/include/boost/property_map/property_map.hpp:602,
from RBGL.hpp:17,
from incrConnComp.cpp:1:
/home/biocbuild/bbs-3.9-bioc/R/library/BH/include/boost/smart_ptr/shared_ptr.hpp:256:65: warning: ‘template class std::auto_ptr’ is deprecated [-Wdeprecated-declarations]
template< class T, class R > struct sp_enable_if_auto_ptr< std::auto_ptr< T >, R >
^~~~~~~~
In file included from /usr/include/c++/7/memory:80:0,
from /home/biocbuild/bbs-3.9-bioc/R/library/BH/include/boost/config/no_tr1/memory.hpp:21,
from /home/biocbuild/bbs-3.9-bioc/R/library/BH/include/boost/smart_ptr/shared_ptr.hpp:23,
from /home/biocbuild/bbs-3.9-bioc/R/library/BH/include/boost/shared_ptr.hpp:17,
from /home/biocbuild/bbs-3.9-bioc/R/library/BH/include/boost/property_map/vector_property_map.hpp:14,
from /home/biocbuild/bbs-3.9-bioc/R/library/BH/include/boost/property_map/property_map.hpp:602,
from RBGL.hpp:17,
from incrConnComp.cpp:1:
/usr/include/c++/7/bits/unique_ptr.h:51:28: note: declared here
template class auto_ptr;
^~~~~~~~
In file included from /home/biocbuild/bbs-3.9-bioc/R/library/BH/include/boost/shared_ptr.hpp:17:0,
from /home/biocbuild/bbs-3.9-bioc/R/library/BH/include/boost/property_map/vector_property_map.hpp:14,
from /home/biocbuild/bbs-3.9-bioc/R/library/BH/include/boost/property_map/property_map.hpp:602,
from RBGL.hpp:17,
from incrConnComp.cpp:1:
/home/biocbuild/bbs-3.9-bioc/R/library/BH/include/boost/smart_ptr/shared_ptr.hpp:471:31: warning: ‘template class std::auto_ptr’ is deprecated [-Wdeprecated-declarations]
explicit shared_ptr( std::auto_ptr & r ): px(r.get()), pn()
^~~~~~~~
In file included from /usr/include/c++/7/memory:80:0,
from /home/biocbuild/bbs-3.9-bioc/R/library/BH/include/boost/config/no_tr1/memory.hpp:21,
from /home/biocbuild/bbs-3.9-bioc/R/library/BH/include/boost/smart_ptr/shared_ptr.hpp:23,
from /home/biocbuild/bbs-3.9-bioc/R/library/BH/include/boost/shared_ptr.hpp:17,
from /home/biocbuild/bbs-3.9-bioc/R/library/BH/include/boost/property_map/vector_property_map.hpp:14,
from /home/biocbuild/bbs-3.9-bioc/R/library/BH/include/boost/property_map/property_map.hpp:602,
from RBGL.hpp:17,
from incrConnComp.cpp:1:
/usr/include/c++/7/bits/unique_ptr.h:51:28: note: declared here
template class auto_ptr;
^~~~~~~~
In file included from /home/biocbuild/bbs-3.9-bioc/R/library/BH/include/boost/shared_ptr.hpp:17:0,
from /home/biocbuild/bbs-3.9-bioc/R/library/BH/include/boost/property_map/vector_property_map.hpp:14,
from /home/biocbuild/bbs-3.9-bioc/R/library/BH/include/boost/property_map/property_map.hpp:602,
from RBGL.hpp:17,
from incrConnComp.cpp:1:
/home/biocbuild/bbs-3.9-bioc/R/library/BH/include/boost/smart_ptr/shared_ptr.hpp:484:22: warning: ‘template class std::auto_ptr’ is deprecated [-Wdeprecated-declarations]
shared_ptr( std::auto_ptr && r ): px(r.get()), pn()
^~~~~~~~
In file included from /usr/include/c++/7/memory:80:0,
from /home/biocbuild/bbs-3.9-bioc/R/library/BH/include/boost/config/no_tr1/memory.hpp:21,
from /home/biocbuild/bbs-3.9-bioc/R/library/BH/include/boost/smart_ptr/shared_ptr.hpp:23,
from /home/biocbuild/bbs-3.9-bioc/R/library/BH/include/boost/shared_ptr.hpp:17,
from /home/biocbuild/bbs-3.9-bioc/R/library/BH/include/boost/property_map/vector_property_map.hpp:14,
from /home/biocbuild/bbs-3.9-bioc/R/library/BH/include/boost/property_map/property_map.hpp:602,
from RBGL.hpp:17,
from incrConnComp.cpp:1:
/usr/include/c++/7/bits/unique_ptr.h:51:28: note: declared here
template class auto_ptr;
^~~~~~~~
In file included from /home/biocbuild/bbs-3.9-bioc/R/library/BH/include/boost/shared_ptr.hpp:17:0,
from /home/biocbuild/bbs-3.9-bioc/R/library/BH/include/boost/property_map/vector_property_map.hpp:14,
from /home/biocbuild/bbs-3.9-bioc/R/library/BH/include/boost/property_map/property_map.hpp:602,
from RBGL.hpp:17,
from incrConnComp.cpp:1:
/home/biocbuild/bbs-3.9-bioc/R/library/BH/include/boost/smart_ptr/shared_ptr.hpp:567:34: warning: ‘template class std::auto_ptr’ is deprecated [-Wdeprecated-declarations]
shared_ptr & operator=( std::auto_ptr & r )
^~~~~~~~
In file included from /usr/include/c++/7/memory:80:0,
from /home/biocbuild/bbs-3.9-bioc/R/library/BH/include/boost/config/no_tr1/memory.hpp:21,
from /home/biocbuild/bbs-3.9-bioc/R/library/BH/include/boost/smart_ptr/shared_ptr.hpp:23,
from /home/biocbuild/bbs-3.9-bioc/R/library/BH/include/boost/shared_ptr.hpp:17,
from /home/biocbuild/bbs-3.9-bioc/R/library/BH/include/boost/property_map/vector_property_map.hpp:14,
from /home/biocbuild/bbs-3.9-bioc/R/library/BH/include/boost/property_map/property_map.hpp:602,
from RBGL.hpp:17,
from incrConnComp.cpp:1:
/usr/include/c++/7/bits/unique_ptr.h:51:28: note: declared here
template class auto_ptr;
^~~~~~~~
In file included from /home/biocbuild/bbs-3.9-bioc/R/library/BH/include/boost/shared_ptr.hpp:17:0,
from /home/biocbuild/bbs-3.9-bioc/R/library/BH/include/boost/property_map/vector_property_map.hpp:14,
from /home/biocbuild/bbs-3.9-bioc/R/library/BH/include/boost/property_map/property_map.hpp:602,
from RBGL.hpp:17,
from incrConnComp.cpp:1:
/home/biocbuild/bbs-3.9-bioc/R/library/BH/include/boost/smart_ptr/shared_ptr.hpp:576:34: warning: ‘template class std::auto_ptr’ is deprecated [-Wdeprecated-declarations]
shared_ptr & operator=( std::auto_ptr && r )
^~~~~~~~
In file included from /usr/include/c++/7/memory:80:0,
from /home/biocbuild/bbs-3.9-bioc/R/library/BH/include/boost/config/no_tr1/memory.hpp:21,
from /home/biocbuild/bbs-3.9-bioc/R/library/BH/include/boost/smart_ptr/shared_ptr.hpp:23,
from /home/biocbuild/bbs-3.9-bioc/R/library/BH/include/boost/shared_ptr.hpp:17,
from /home/biocbuild/bbs-3.9-bioc/R/library/BH/include/boost/property_map/vector_property_map.hpp:14,
from /home/biocbuild/bbs-3.9-bioc/R/library/BH/include/boost/property_map/property_map.hpp:602,
from RBGL.hpp:17,
from incrConnComp.cpp:1:
/usr/include/c++/7/bits/unique_ptr.h:51:28: note: declared here
template class auto_ptr;
^~~~~~~~
In file included from /home/biocbuild/bbs-3.9-bioc/R/library/BH/include/boost/shared_ptr.hpp:17:0,
from /home/biocbuild/bbs-3.9-bioc/R/library/BH/include/boost/property_map/vector_property_map.hpp:14,
from /home/biocbuild/bbs-3.9-bioc/R/library/BH/include/boost/property_map/property_map.hpp:602,
from RBGL.hpp:17,
from incrConnComp.cpp:1:
/home/biocbuild/bbs-3.9-bioc/R/library/BH/include/boost/smart_ptr/shared_ptr.hpp: In member function ‘boost::shared_ptr& boost::shared_ptr::operator=(std::auto_ptr<_Up>&&)’:
/home/biocbuild/bbs-3.9-bioc/R/library/BH/include/boost/smart_ptr/shared_ptr.hpp:578:38: warning: ‘template class std::auto_ptr’ is deprecated [-Wdeprecated-declarations]
this_type( static_cast< std::auto_ptr && >( r ) ).swap( *this );
^~~~~~~~
In file included from /usr/include/c++/7/memory:80:0,
from /home/biocbuild/bbs-3.9-bioc/R/library/BH/include/boost/config/no_tr1/memory.hpp:21,
from /home/biocbuild/bbs-3.9-bioc/R/library/BH/include/boost/smart_ptr/shared_ptr.hpp:23,
from /home/biocbuild/bbs-3.9-bioc/R/library/BH/include/boost/shared_ptr.hpp:17,
from /home/biocbuild/bbs-3.9-bioc/R/library/BH/include/boost/property_map/vector_property_map.hpp:14,
from /home/biocbuild/bbs-3.9-bioc/R/library/BH/include/boost/property_map/property_map.hpp:602,
from RBGL.hpp:17,
from incrConnComp.cpp:1:
/usr/include/c++/7/bits/unique_ptr.h:51:28: note: declared here
template class auto_ptr;
^~~~~~~~
In file included from /home/biocbuild/bbs-3.9-bioc/R/library/BH/include/boost/scoped_ptr.hpp:13:0,
from /home/biocbuild/bbs-3.9-bioc/R/library/BH/include/boost/graph/adjacency_list.hpp:23,
from RBGL.hpp:38,
from incrConnComp.cpp:1:
/home/biocbuild/bbs-3.9-bioc/R/library/BH/include/boost/smart_ptr/scoped_ptr.hpp: At global scope:
/home/biocbuild/bbs-3.9-bioc/R/library/BH/include/boost/smart_ptr/scoped_ptr.hpp:74:31: warning: ‘template class std::auto_ptr’ is deprecated [-Wdeprecated-declarations]
explicit scoped_ptr( std::auto_ptr p ) BOOST_SP_NOEXCEPT : px( p.release() )
^~~~~~~~
In file included from /usr/include/c++/7/memory:80:0,
from /home/biocbuild/bbs-3.9-bioc/R/library/BH/include/boost/config/no_tr1/memory.hpp:21,
from /home/biocbuild/bbs-3.9-bioc/R/library/BH/include/boost/smart_ptr/shared_ptr.hpp:23,
from /home/biocbuild/bbs-3.9-bioc/R/library/BH/include/boost/shared_ptr.hpp:17,
from /home/biocbuild/bbs-3.9-bioc/R/library/BH/include/boost/property_map/vector_property_map.hpp:14,
from /home/biocbuild/bbs-3.9-bioc/R/library/BH/include/boost/property_map/property_map.hpp:602,
from RBGL.hpp:17,
from incrConnComp.cpp:1:
/usr/include/c++/7/bits/unique_ptr.h:51:28: note: declared here
template class auto_ptr;
^~~~~~~~
In file included from incrConnComp.cpp:2:0:
incrConnComp.cpp: In function ‘SEXPREC* BGL_incr_comp_internal(SEXP, SEXP, SEXP, E_IC_METHOD)’:
incrConnComp.cpp:74:32: warning: unused variable ‘child_index’ [-Wunused-variable]
BOOST_FOREACH(VertexIndex child_index, components[current_index]) {
^
/home/biocbuild/bbs-3.9-bioc/R/library/BH/include/boost/foreach.hpp:1107:14: note: in definition of macro ‘BOOST_FOREACH’
for (VAR = BOOST_FOREACH_DEREF(COL); !BOOST_FOREACH_ID(_foreach_continue); BOOST_FOREACH_ID(_foreach_continue) = true)
^~~
g++ -std=gnu++11 -I"/home/biocbuild/bbs-3.9-bioc/R/include" -DNDEBUG -I/home/biocbuild/bbs-3.9-bioc/R/library/BH/include -I"/home/biocbuild/bbs-3.9-bioc/R/library/BH/include" -I/usr/local/include -fpic -g -O2 -Wall -c interfaces.cpp -o interfaces.o
In file included from /home/biocbuild/bbs-3.9-bioc/R/library/BH/include/boost/smart_ptr/shared_ptr.hpp:28:0,
from /home/biocbuild/bbs-3.9-bioc/R/library/BH/include/boost/shared_ptr.hpp:17,
from /home/biocbuild/bbs-3.9-bioc/R/library/BH/include/boost/property_map/vector_property_map.hpp:14,
from /home/biocbuild/bbs-3.9-bioc/R/library/BH/include/boost/property_map/property_map.hpp:602,
from RBGL.hpp:17,
from interfaces.cpp:1:
/home/biocbuild/bbs-3.9-bioc/R/library/BH/include/boost/smart_ptr/detail/shared_count.hpp:355:33: warning: ‘template class std::auto_ptr’ is deprecated [-Wdeprecated-declarations]
explicit shared_count( std::auto_ptr & r ): pi_( new sp_counted_impl_p( r.get() ) )
^~~~~~~~
In file included from /usr/include/c++/7/memory:80:0,
from /home/biocbuild/bbs-3.9-bioc/R/library/BH/include/boost/config/no_tr1/memory.hpp:21,
from /home/biocbuild/bbs-3.9-bioc/R/library/BH/include/boost/smart_ptr/shared_ptr.hpp:23,
from /home/biocbuild/bbs-3.9-bioc/R/library/BH/include/boost/shared_ptr.hpp:17,
from /home/biocbuild/bbs-3.9-bioc/R/library/BH/include/boost/property_map/vector_property_map.hpp:14,
from /home/biocbuild/bbs-3.9-bioc/R/library/BH/include/boost/property_map/property_map.hpp:602,
from RBGL.hpp:17,
from interfaces.cpp:1:
/usr/include/c++/7/bits/unique_ptr.h:51:28: note: declared here
template class auto_ptr;
^~~~~~~~
In file included from /home/biocbuild/bbs-3.9-bioc/R/library/BH/include/boost/shared_ptr.hpp:17:0,
from /home/biocbuild/bbs-3.9-bioc/R/library/BH/include/boost/property_map/vector_property_map.hpp:14,
from /home/biocbuild/bbs-3.9-bioc/R/library/BH/include/boost/property_map/property_map.hpp:602,
from RBGL.hpp:17,
from interfaces.cpp:1:
/home/biocbuild/bbs-3.9-bioc/R/library/BH/include/boost/smart_ptr/shared_ptr.hpp:256:65: warning: ‘template class std::auto_ptr’ is deprecated [-Wdeprecated-declarations]
template< class T, class R > struct sp_enable_if_auto_ptr< std::auto_ptr< T >, R >
^~~~~~~~
In file included from /usr/include/c++/7/memory:80:0,
from /home/biocbuild/bbs-3.9-bioc/R/library/BH/include/boost/config/no_tr1/memory.hpp:21,
from /home/biocbuild/bbs-3.9-bioc/R/library/BH/include/boost/smart_ptr/shared_ptr.hpp:23,
from /home/biocbuild/bbs-3.9-bioc/R/library/BH/include/boost/shared_ptr.hpp:17,
from /home/biocbuild/bbs-3.9-bioc/R/library/BH/include/boost/property_map/vector_property_map.hpp:14,
from /home/biocbuild/bbs-3.9-bioc/R/library/BH/include/boost/property_map/property_map.hpp:602,
from RBGL.hpp:17,
from interfaces.cpp:1:
/usr/include/c++/7/bits/unique_ptr.h:51:28: note: declared here
template class auto_ptr;
^~~~~~~~
In file included from /home/biocbuild/bbs-3.9-bioc/R/library/BH/include/boost/shared_ptr.hpp:17:0,
from /home/biocbuild/bbs-3.9-bioc/R/library/BH/include/boost/property_map/vector_property_map.hpp:14,
from /home/biocbuild/bbs-3.9-bioc/R/library/BH/include/boost/property_map/property_map.hpp:602,
from RBGL.hpp:17,
from interfaces.cpp:1:
/home/biocbuild/bbs-3.9-bioc/R/library/BH/include/boost/smart_ptr/shared_ptr.hpp:471:31: warning: ‘template class std::auto_ptr’ is deprecated [-Wdeprecated-declarations]
explicit shared_ptr( std::auto_ptr & r ): px(r.get()), pn()
^~~~~~~~
In file included from /usr/include/c++/7/memory:80:0,
from /home/biocbuild/bbs-3.9-bioc/R/library/BH/include/boost/config/no_tr1/memory.hpp:21,
from /home/biocbuild/bbs-3.9-bioc/R/library/BH/include/boost/smart_ptr/shared_ptr.hpp:23,
from /home/biocbuild/bbs-3.9-bioc/R/library/BH/include/boost/shared_ptr.hpp:17,
from /home/biocbuild/bbs-3.9-bioc/R/library/BH/include/boost/property_map/vector_property_map.hpp:14,
from /home/biocbuild/bbs-3.9-bioc/R/library/BH/include/boost/property_map/property_map.hpp:602,
from RBGL.hpp:17,
from interfaces.cpp:1:
/usr/include/c++/7/bits/unique_ptr.h:51:28: note: declared here
template class auto_ptr;
^~~~~~~~
In file included from /home/biocbuild/bbs-3.9-bioc/R/library/BH/include/boost/shared_ptr.hpp:17:0,
from /home/biocbuild/bbs-3.9-bioc/R/library/BH/include/boost/property_map/vector_property_map.hpp:14,
from /home/biocbuild/bbs-3.9-bioc/R/library/BH/include/boost/property_map/property_map.hpp:602,
from RBGL.hpp:17,
from interfaces.cpp:1:
/home/biocbuild/bbs-3.9-bioc/R/library/BH/include/boost/smart_ptr/shared_ptr.hpp:484:22: warning: ‘template class std::auto_ptr’ is deprecated [-Wdeprecated-declarations]
shared_ptr( std::auto_ptr && r ): px(r.get()), pn()
^~~~~~~~
In file included from /usr/include/c++/7/memory:80:0,
from /home/biocbuild/bbs-3.9-bioc/R/library/BH/include/boost/config/no_tr1/memory.hpp:21,
from /home/biocbuild/bbs-3.9-bioc/R/library/BH/include/boost/smart_ptr/shared_ptr.hpp:23,
from /home/biocbuild/bbs-3.9-bioc/R/library/BH/include/boost/shared_ptr.hpp:17,
from /home/biocbuild/bbs-3.9-bioc/R/library/BH/include/boost/property_map/vector_property_map.hpp:14,
from /home/biocbuild/bbs-3.9-bioc/R/library/BH/include/boost/property_map/property_map.hpp:602,
from RBGL.hpp:17,
from interfaces.cpp:1:
/usr/include/c++/7/bits/unique_ptr.h:51:28: note: declared here
template class auto_ptr;
^~~~~~~~
In file included from /home/biocbuild/bbs-3.9-bioc/R/library/BH/include/boost/shared_ptr.hpp:17:0,
from /home/biocbuild/bbs-3.9-bioc/R/library/BH/include/boost/property_map/vector_property_map.hpp:14,
from /home/biocbuild/bbs-3.9-bioc/R/library/BH/include/boost/property_map/property_map.hpp:602,
from RBGL.hpp:17,
from interfaces.cpp:1:
/home/biocbuild/bbs-3.9-bioc/R/library/BH/include/boost/smart_ptr/shared_ptr.hpp:567:34: warning: ‘template class std::auto_ptr’ is deprecated [-Wdeprecated-declarations]
shared_ptr & operator=( std::auto_ptr & r )
^~~~~~~~
In file included from /usr/include/c++/7/memory:80:0,
from /home/biocbuild/bbs-3.9-bioc/R/library/BH/include/boost/config/no_tr1/memory.hpp:21,
from /home/biocbuild/bbs-3.9-bioc/R/library/BH/include/boost/smart_ptr/shared_ptr.hpp:23,
from /home/biocbuild/bbs-3.9-bioc/R/library/BH/include/boost/shared_ptr.hpp:17,
from /home/biocbuild/bbs-3.9-bioc/R/library/BH/include/boost/property_map/vector_property_map.hpp:14,
from /home/biocbuild/bbs-3.9-bioc/R/library/BH/include/boost/property_map/property_map.hpp:602,
from RBGL.hpp:17,
from interfaces.cpp:1:
/usr/include/c++/7/bits/unique_ptr.h:51:28: note: declared here
template class auto_ptr;
^~~~~~~~
In file included from /home/biocbuild/bbs-3.9-bioc/R/library/BH/include/boost/shared_ptr.hpp:17:0,
from /home/biocbuild/bbs-3.9-bioc/R/library/BH/include/boost/property_map/vector_property_map.hpp:14,
from /home/biocbuild/bbs-3.9-bioc/R/library/BH/include/boost/property_map/property_map.hpp:602,
from RBGL.hpp:17,
from interfaces.cpp:1:
/home/biocbuild/bbs-3.9-bioc/R/library/BH/include/boost/smart_ptr/shared_ptr.hpp:576:34: warning: ‘template class std::auto_ptr’ is deprecated [-Wdeprecated-declarations]
shared_ptr & operator=( std::auto_ptr && r )
^~~~~~~~
In file included from /usr/include/c++/7/memory:80:0,
from /home/biocbuild/bbs-3.9-bioc/R/library/BH/include/boost/config/no_tr1/memory.hpp:21,
from /home/biocbuild/bbs-3.9-bioc/R/library/BH/include/boost/smart_ptr/shared_ptr.hpp:23,
from /home/biocbuild/bbs-3.9-bioc/R/library/BH/include/boost/shared_ptr.hpp:17,
from /home/biocbuild/bbs-3.9-bioc/R/library/BH/include/boost/property_map/vector_property_map.hpp:14,
from /home/biocbuild/bbs-3.9-bioc/R/library/BH/include/boost/property_map/property_map.hpp:602,
from RBGL.hpp:17,
from interfaces.cpp:1:
/usr/include/c++/7/bits/unique_ptr.h:51:28: note: declared here
template class auto_ptr;
^~~~~~~~
In file included from /home/biocbuild/bbs-3.9-bioc/R/library/BH/include/boost/shared_ptr.hpp:17:0,
from /home/biocbuild/bbs-3.9-bioc/R/library/BH/include/boost/property_map/vector_property_map.hpp:14,
from /home/biocbuild/bbs-3.9-bioc/R/library/BH/include/boost/property_map/property_map.hpp:602,
from RBGL.hpp:17,
from interfaces.cpp:1:
/home/biocbuild/bbs-3.9-bioc/R/library/BH/include/boost/smart_ptr/shared_ptr.hpp: In member function ‘boost::shared_ptr& boost::shared_ptr::operator=(std::auto_ptr<_Up>&&)’:
/home/biocbuild/bbs-3.9-bioc/R/library/BH/include/boost/smart_ptr/shared_ptr.hpp:578:38: warning: ‘template class std::auto_ptr’ is deprecated [-Wdeprecated-declarations]
this_type( static_cast< std::auto_ptr && >( r ) ).swap( *this );
^~~~~~~~
In file included from /usr/include/c++/7/memory:80:0,
from /home/biocbuild/bbs-3.9-bioc/R/library/BH/include/boost/config/no_tr1/memory.hpp:21,
from /home/biocbuild/bbs-3.9-bioc/R/library/BH/include/boost/smart_ptr/shared_ptr.hpp:23,
from /home/biocbuild/bbs-3.9-bioc/R/library/BH/include/boost/shared_ptr.hpp:17,
from /home/biocbuild/bbs-3.9-bioc/R/library/BH/include/boost/property_map/vector_property_map.hpp:14,
from /home/biocbuild/bbs-3.9-bioc/R/library/BH/include/boost/property_map/property_map.hpp:602,
from RBGL.hpp:17,
from interfaces.cpp:1:
/usr/include/c++/7/bits/unique_ptr.h:51:28: note: declared here
template class auto_ptr;
^~~~~~~~
In file included from /home/biocbuild/bbs-3.9-bioc/R/library/BH/include/boost/scoped_ptr.hpp:13:0,
from /home/biocbuild/bbs-3.9-bioc/R/library/BH/include/boost/graph/adjacency_list.hpp:23,
from RBGL.hpp:38,
from interfaces.cpp:1:
/home/biocbuild/bbs-3.9-bioc/R/library/BH/include/boost/smart_ptr/scoped_ptr.hpp: At global scope:
/home/biocbuild/bbs-3.9-bioc/R/library/BH/include/boost/smart_ptr/scoped_ptr.hpp:74:31: warning: ‘template class std::auto_ptr’ is deprecated [-Wdeprecated-declarations]
explicit scoped_ptr( std::auto_ptr p ) BOOST_SP_NOEXCEPT : px( p.release() )
^~~~~~~~
In file included from /usr/include/c++/7/memory:80:0,
from /home/biocbuild/bbs-3.9-bioc/R/library/BH/include/boost/config/no_tr1/memory.hpp:21,
from /home/biocbuild/bbs-3.9-bioc/R/library/BH/include/boost/smart_ptr/shared_ptr.hpp:23,
from /home/biocbuild/bbs-3.9-bioc/R/library/BH/include/boost/shared_ptr.hpp:17,
from /home/biocbuild/bbs-3.9-bioc/R/library/BH/include/boost/property_map/vector_property_map.hpp:14,
from /home/biocbuild/bbs-3.9-bioc/R/library/BH/include/boost/property_map/property_map.hpp:602,
from RBGL.hpp:17,
from interfaces.cpp:1:
/usr/include/c++/7/bits/unique_ptr.h:51:28: note: declared here
template class auto_ptr;
^~~~~~~~
interfaces.cpp: In function ‘SEXPREC* BGL_tsort_D(SEXP, SEXP, SEXP)’:
interfaces.cpp:57:60: warning: typedef ‘Edge’ locally defined but not used [-Wunused-local-typedefs]
typedef graph_traits < Graph_dd >::edge_descriptor Edge;
^~~~
interfaces.cpp:61:62: warning: typedef ‘Color’ locally defined but not used [-Wunused-local-typedefs]
typedef property_map::type Color;
^~~~~
interfaces.cpp: In function ‘SEXPREC* BGL_bfs_D(SEXP, SEXP, SEXP, SEXP, SEXP)’:
interfaces.cpp:98:60: warning: typedef ‘Edge’ locally defined but not used [-Wunused-local-typedefs]
typedef graph_traits < Graph_dd >::edge_descriptor Edge;
^~~~
interfaces.cpp:99:62: warning: typedef ‘Vertex’ locally defined but not used [-Wunused-local-typedefs]
typedef graph_traits < Graph_dd >::vertex_descriptor Vertex;
^~~~~~
interfaces.cpp: In function ‘SEXPREC* BGL_dfs_D(SEXP, SEXP, SEXP, SEXP)’:
interfaces.cpp:142:60: warning: typedef ‘Edge’ locally defined but not used [-Wunused-local-typedefs]
typedef graph_traits < Graph_dd >::edge_descriptor Edge;
^~~~
interfaces.cpp:143:62: warning: typedef ‘Vertex’ locally defined but not used [-Wunused-local-typedefs]
typedef graph_traits < Graph_dd >::vertex_descriptor Vertex;
^~~~~~
interfaces.cpp: In function ‘SEXPREC* BGL_connected_components_U(SEXP, SEXP, SEXP, SEXP)’:
interfaces.cpp:198:60: warning: typedef ‘Edge’ locally defined but not used [-Wunused-local-typedefs]
typedef graph_traits < Graph_ud >::edge_descriptor Edge;
^~~~
interfaces.cpp:199:62: warning: typedef ‘Vertex’ locally defined but not used [-Wunused-local-typedefs]
typedef graph_traits < Graph_ud >::vertex_descriptor Vertex;
^~~~~~
interfaces.cpp: In function ‘SEXPREC* BGL_strong_components_D(SEXP, SEXP, SEXP, SEXP)’:
interfaces.cpp:225:60: warning: typedef ‘Edge’ locally defined but not used [-Wunused-local-typedefs]
typedef graph_traits < Graph_dd >::edge_descriptor Edge;
^~~~
interfaces.cpp:226:62: warning: typedef ‘Vertex’ locally defined but not used [-Wunused-local-typedefs]
typedef graph_traits < Graph_dd >::vertex_descriptor Vertex;
^~~~~~
interfaces.cpp: In function ‘SEXPREC* BGL_biconnected_components_U(SEXP, SEXP, SEXP, SEXP)’:
interfaces.cpp:252:60: warning: typedef ‘Edge’ locally defined but not used [-Wunused-local-typedefs]
typedef graph_traits < Graph_ud >::edge_descriptor Edge;
^~~~
interfaces.cpp:253:62: warning: typedef ‘Vertex’ locally defined but not used [-Wunused-local-typedefs]
typedef graph_traits < Graph_ud >::vertex_descriptor Vertex;
^~~~~~
interfaces.cpp: In function ‘SEXPREC* BGL_articulation_points_U(SEXP, SEXP, SEXP, SEXP)’:
interfaces.cpp:295:60: warning: typedef ‘Edge’ locally defined but not used [-Wunused-local-typedefs]
typedef graph_traits < Graph_ud >::edge_descriptor Edge;
^~~~
interfaces.cpp: In function ‘SEXPREC* BGL_edge_connectivity_U(SEXP, SEXP, SEXP, SEXP)’:
interfaces.cpp:320:62: warning: typedef ‘Vertex’ locally defined but not used [-Wunused-local-typedefs]
typedef graph_traits < Graph_ud >::vertex_descriptor Vertex;
^~~~~~
interfaces.cpp: In function ‘SEXPREC* BGL_sequential_vertex_coloring(SEXP, SEXP, SEXP)’:
interfaces.cpp:360:60: warning: typedef ‘Edge’ locally defined but not used [-Wunused-local-typedefs]
typedef graph_traits < Graph_ud >::edge_descriptor Edge;
^~~~
interfaces.cpp:361:62: warning: typedef ‘Vertex’ locally defined but not used [-Wunused-local-typedefs]
typedef graph_traits < Graph_ud >::vertex_descriptor Vertex;
^~~~~~
In file included from interfaces.cpp:7:0:
/home/biocbuild/bbs-3.9-bioc/R/library/BH/include/boost/graph/edge_connectivity.hpp: In function ‘typename boost::graph_traits::degree_size_type boost::edge_connectivity(VertexListGraph&, OutputIterator) [with VertexListGraph = R_adjacency_list; OutputIterator = std::back_insert_iterator > >]’:
/home/biocbuild/bbs-3.9-bioc/R/library/BH/include/boost/graph/edge_connectivity.hpp:32:42: warning: ‘p’ may be used uninitialized in this function [-Wmaybe-uninitialized]
typename Traits::vertex_descriptor p;
^
g++ -std=gnu++11 -I"/home/biocbuild/bbs-3.9-bioc/R/include" -DNDEBUG -I/home/biocbuild/bbs-3.9-bioc/R/library/BH/include -I"/home/biocbuild/bbs-3.9-bioc/R/library/BH/include" -I/usr/local/include -fpic -g -O2 -Wall -c minST.cpp -o minST.o
In file included from /home/biocbuild/bbs-3.9-bioc/R/library/BH/include/boost/smart_ptr/shared_ptr.hpp:28:0,
from /home/biocbuild/bbs-3.9-bioc/R/library/BH/include/boost/shared_ptr.hpp:17,
from /home/biocbuild/bbs-3.9-bioc/R/library/BH/include/boost/property_map/vector_property_map.hpp:14,
from /home/biocbuild/bbs-3.9-bioc/R/library/BH/include/boost/property_map/property_map.hpp:602,
from RBGL.hpp:17,
from minST.cpp:1:
/home/biocbuild/bbs-3.9-bioc/R/library/BH/include/boost/smart_ptr/detail/shared_count.hpp:355:33: warning: ‘template class std::auto_ptr’ is deprecated [-Wdeprecated-declarations]
explicit shared_count( std::auto_ptr & r ): pi_( new sp_counted_impl_p( r.get() ) )
^~~~~~~~
In file included from /usr/include/c++/7/memory:80:0,
from /home/biocbuild/bbs-3.9-bioc/R/library/BH/include/boost/config/no_tr1/memory.hpp:21,
from /home/biocbuild/bbs-3.9-bioc/R/library/BH/include/boost/smart_ptr/shared_ptr.hpp:23,
from /home/biocbuild/bbs-3.9-bioc/R/library/BH/include/boost/shared_ptr.hpp:17,
from /home/biocbuild/bbs-3.9-bioc/R/library/BH/include/boost/property_map/vector_property_map.hpp:14,
from /home/biocbuild/bbs-3.9-bioc/R/library/BH/include/boost/property_map/property_map.hpp:602,
from RBGL.hpp:17,
from minST.cpp:1:
/usr/include/c++/7/bits/unique_ptr.h:51:28: note: declared here
template class auto_ptr;
^~~~~~~~
In file included from /home/biocbuild/bbs-3.9-bioc/R/library/BH/include/boost/shared_ptr.hpp:17:0,
from /home/biocbuild/bbs-3.9-bioc/R/library/BH/include/boost/property_map/vector_property_map.hpp:14,
from /home/biocbuild/bbs-3.9-bioc/R/library/BH/include/boost/property_map/property_map.hpp:602,
from RBGL.hpp:17,
from minST.cpp:1:
/home/biocbuild/bbs-3.9-bioc/R/library/BH/include/boost/smart_ptr/shared_ptr.hpp:256:65: warning: ‘template class std::auto_ptr’ is deprecated [-Wdeprecated-declarations]
template< class T, class R > struct sp_enable_if_auto_ptr< std::auto_ptr< T >, R >
^~~~~~~~
In file included from /usr/include/c++/7/memory:80:0,
from /home/biocbuild/bbs-3.9-bioc/R/library/BH/include/boost/config/no_tr1/memory.hpp:21,
from /home/biocbuild/bbs-3.9-bioc/R/library/BH/include/boost/smart_ptr/shared_ptr.hpp:23,
from /home/biocbuild/bbs-3.9-bioc/R/library/BH/include/boost/shared_ptr.hpp:17,
from /home/biocbuild/bbs-3.9-bioc/R/library/BH/include/boost/property_map/vector_property_map.hpp:14,
from /home/biocbuild/bbs-3.9-bioc/R/library/BH/include/boost/property_map/property_map.hpp:602,
from RBGL.hpp:17,
from minST.cpp:1:
/usr/include/c++/7/bits/unique_ptr.h:51:28: note: declared here
template class auto_ptr;
^~~~~~~~
In file included from /home/biocbuild/bbs-3.9-bioc/R/library/BH/include/boost/shared_ptr.hpp:17:0,
from /home/biocbuild/bbs-3.9-bioc/R/library/BH/include/boost/property_map/vector_property_map.hpp:14,
from /home/biocbuild/bbs-3.9-bioc/R/library/BH/include/boost/property_map/property_map.hpp:602,
from RBGL.hpp:17,
from minST.cpp:1:
/home/biocbuild/bbs-3.9-bioc/R/library/BH/include/boost/smart_ptr/shared_ptr.hpp:471:31: warning: ‘template class std::auto_ptr’ is deprecated [-Wdeprecated-declarations]
explicit shared_ptr( std::auto_ptr & r ): px(r.get()), pn()
^~~~~~~~
In file included from /usr/include/c++/7/memory:80:0,
from /home/biocbuild/bbs-3.9-bioc/R/library/BH/include/boost/config/no_tr1/memory.hpp:21,
from /home/biocbuild/bbs-3.9-bioc/R/library/BH/include/boost/smart_ptr/shared_ptr.hpp:23,
from /home/biocbuild/bbs-3.9-bioc/R/library/BH/include/boost/shared_ptr.hpp:17,
from /home/biocbuild/bbs-3.9-bioc/R/library/BH/include/boost/property_map/vector_property_map.hpp:14,
from /home/biocbuild/bbs-3.9-bioc/R/library/BH/include/boost/property_map/property_map.hpp:602,
from RBGL.hpp:17,
from minST.cpp:1:
/usr/include/c++/7/bits/unique_ptr.h:51:28: note: declared here
template class auto_ptr;
^~~~~~~~
In file included from /home/biocbuild/bbs-3.9-bioc/R/library/BH/include/boost/shared_ptr.hpp:17:0,
from /home/biocbuild/bbs-3.9-bioc/R/library/BH/include/boost/property_map/vector_property_map.hpp:14,
from /home/biocbuild/bbs-3.9-bioc/R/library/BH/include/boost/property_map/property_map.hpp:602,
from RBGL.hpp:17,
from minST.cpp:1:
/home/biocbuild/bbs-3.9-bioc/R/library/BH/include/boost/smart_ptr/shared_ptr.hpp:484:22: warning: ‘template class std::auto_ptr’ is deprecated [-Wdeprecated-declarations]
shared_ptr( std::auto_ptr && r ): px(r.get()), pn()
^~~~~~~~
In file included from /usr/include/c++/7/memory:80:0,
from /home/biocbuild/bbs-3.9-bioc/R/library/BH/include/boost/config/no_tr1/memory.hpp:21,
from /home/biocbuild/bbs-3.9-bioc/R/library/BH/include/boost/smart_ptr/shared_ptr.hpp:23,
from /home/biocbuild/bbs-3.9-bioc/R/library/BH/include/boost/shared_ptr.hpp:17,
from /home/biocbuild/bbs-3.9-bioc/R/library/BH/include/boost/property_map/vector_property_map.hpp:14,
from /home/biocbuild/bbs-3.9-bioc/R/library/BH/include/boost/property_map/property_map.hpp:602,
from RBGL.hpp:17,
from minST.cpp:1:
/usr/include/c++/7/bits/unique_ptr.h:51:28: note: declared here
template class auto_ptr;
^~~~~~~~
In file included from /home/biocbuild/bbs-3.9-bioc/R/library/BH/include/boost/shared_ptr.hpp:17:0,
from /home/biocbuild/bbs-3.9-bioc/R/library/BH/include/boost/property_map/vector_property_map.hpp:14,
from /home/biocbuild/bbs-3.9-bioc/R/library/BH/include/boost/property_map/property_map.hpp:602,
from RBGL.hpp:17,
from minST.cpp:1:
/home/biocbuild/bbs-3.9-bioc/R/library/BH/include/boost/smart_ptr/shared_ptr.hpp:567:34: warning: ‘template class std::auto_ptr’ is deprecated [-Wdeprecated-declarations]
shared_ptr & operator=( std::auto_ptr & r )
^~~~~~~~
In file included from /usr/include/c++/7/memory:80:0,
from /home/biocbuild/bbs-3.9-bioc/R/library/BH/include/boost/config/no_tr1/memory.hpp:21,
from /home/biocbuild/bbs-3.9-bioc/R/library/BH/include/boost/smart_ptr/shared_ptr.hpp:23,
from /home/biocbuild/bbs-3.9-bioc/R/library/BH/include/boost/shared_ptr.hpp:17,
from /home/biocbuild/bbs-3.9-bioc/R/library/BH/include/boost/property_map/vector_property_map.hpp:14,
from /home/biocbuild/bbs-3.9-bioc/R/library/BH/include/boost/property_map/property_map.hpp:602,
from RBGL.hpp:17,
from minST.cpp:1:
/usr/include/c++/7/bits/unique_ptr.h:51:28: note: declared here
template class auto_ptr;
^~~~~~~~
In file included from /home/biocbuild/bbs-3.9-bioc/R/library/BH/include/boost/shared_ptr.hpp:17:0,
from /home/biocbuild/bbs-3.9-bioc/R/library/BH/include/boost/property_map/vector_property_map.hpp:14,
from /home/biocbuild/bbs-3.9-bioc/R/library/BH/include/boost/property_map/property_map.hpp:602,
from RBGL.hpp:17,
from minST.cpp:1:
/home/biocbuild/bbs-3.9-bioc/R/library/BH/include/boost/smart_ptr/shared_ptr.hpp:576:34: warning: ‘template class std::auto_ptr’ is deprecated [-Wdeprecated-declarations]
shared_ptr & operator=( std::auto_ptr && r )
^~~~~~~~
In file included from /usr/include/c++/7/memory:80:0,
from /home/biocbuild/bbs-3.9-bioc/R/library/BH/include/boost/config/no_tr1/memory.hpp:21,
from /home/biocbuild/bbs-3.9-bioc/R/library/BH/include/boost/smart_ptr/shared_ptr.hpp:23,
from /home/biocbuild/bbs-3.9-bioc/R/library/BH/include/boost/shared_ptr.hpp:17,
from /home/biocbuild/bbs-3.9-bioc/R/library/BH/include/boost/property_map/vector_property_map.hpp:14,
from /home/biocbuild/bbs-3.9-bioc/R/library/BH/include/boost/property_map/property_map.hpp:602,
from RBGL.hpp:17,
from minST.cpp:1:
/usr/include/c++/7/bits/unique_ptr.h:51:28: note: declared here
template class auto_ptr;
^~~~~~~~
In file included from /home/biocbuild/bbs-3.9-bioc/R/library/BH/include/boost/shared_ptr.hpp:17:0,
from /home/biocbuild/bbs-3.9-bioc/R/library/BH/include/boost/property_map/vector_property_map.hpp:14,
from /home/biocbuild/bbs-3.9-bioc/R/library/BH/include/boost/property_map/property_map.hpp:602,
from RBGL.hpp:17,
from minST.cpp:1:
/home/biocbuild/bbs-3.9-bioc/R/library/BH/include/boost/smart_ptr/shared_ptr.hpp: In member function ‘boost::shared_ptr& boost::shared_ptr::operator=(std::auto_ptr<_Up>&&)’:
/home/biocbuild/bbs-3.9-bioc/R/library/BH/include/boost/smart_ptr/shared_ptr.hpp:578:38: warning: ‘template class std::auto_ptr’ is deprecated [-Wdeprecated-declarations]
this_type( static_cast< std::auto_ptr && >( r ) ).swap( *this );
^~~~~~~~
In file included from /usr/include/c++/7/memory:80:0,
from /home/biocbuild/bbs-3.9-bioc/R/library/BH/include/boost/config/no_tr1/memory.hpp:21,
from /home/biocbuild/bbs-3.9-bioc/R/library/BH/include/boost/smart_ptr/shared_ptr.hpp:23,
from /home/biocbuild/bbs-3.9-bioc/R/library/BH/include/boost/shared_ptr.hpp:17,
from /home/biocbuild/bbs-3.9-bioc/R/library/BH/include/boost/property_map/vector_property_map.hpp:14,
from /home/biocbuild/bbs-3.9-bioc/R/library/BH/include/boost/property_map/property_map.hpp:602,
from RBGL.hpp:17,
from minST.cpp:1:
/usr/include/c++/7/bits/unique_ptr.h:51:28: note: declared here
template class auto_ptr;
^~~~~~~~
In file included from /home/biocbuild/bbs-3.9-bioc/R/library/BH/include/boost/scoped_ptr.hpp:13:0,
from /home/biocbuild/bbs-3.9-bioc/R/library/BH/include/boost/graph/adjacency_list.hpp:23,
from RBGL.hpp:38,
from minST.cpp:1:
/home/biocbuild/bbs-3.9-bioc/R/library/BH/include/boost/smart_ptr/scoped_ptr.hpp: At global scope:
/home/biocbuild/bbs-3.9-bioc/R/library/BH/include/boost/smart_ptr/scoped_ptr.hpp:74:31: warning: ‘template class std::auto_ptr’ is deprecated [-Wdeprecated-declarations]
explicit scoped_ptr( std::auto_ptr p ) BOOST_SP_NOEXCEPT : px( p.release() )
^~~~~~~~
In file included from /usr/include/c++/7/memory:80:0,
from /home/biocbuild/bbs-3.9-bioc/R/library/BH/include/boost/config/no_tr1/memory.hpp:21,
from /home/biocbuild/bbs-3.9-bioc/R/library/BH/include/boost/smart_ptr/shared_ptr.hpp:23,
from /home/biocbuild/bbs-3.9-bioc/R/library/BH/include/boost/shared_ptr.hpp:17,
from /home/biocbuild/bbs-3.9-bioc/R/library/BH/include/boost/property_map/vector_property_map.hpp:14,
from /home/biocbuild/bbs-3.9-bioc/R/library/BH/include/boost/property_map/property_map.hpp:602,
from RBGL.hpp:17,
from minST.cpp:1:
/usr/include/c++/7/bits/unique_ptr.h:51:28: note: declared here
template class auto_ptr;
^~~~~~~~
minST.cpp: In function ‘SEXPREC* BGL_KMST_D(SEXP, SEXP, SEXP, SEXP)’:
minST.cpp:14:62: warning: typedef ‘Vertex’ locally defined but not used [-Wunused-local-typedefs]
typedef graph_traits < Graph_dd >::vertex_descriptor Vertex;
^~~~~~
minST.cpp: In function ‘SEXPREC* BGL_KMST_U(SEXP, SEXP, SEXP, SEXP)’:
minST.cpp:48:62: warning: typedef ‘Vertex’ locally defined but not used [-Wunused-local-typedefs]
typedef graph_traits < Graph_ud >::vertex_descriptor Vertex;
^~~~~~
minST.cpp: In function ‘SEXPREC* BGL_PRIM_U(SEXP, SEXP, SEXP, SEXP)’:
minST.cpp:81:60: warning: typedef ‘Edge’ locally defined but not used [-Wunused-local-typedefs]
typedef graph_traits < Graph_ud >::edge_descriptor Edge;
^~~~
In file included from /home/biocbuild/bbs-3.9-bioc/R/library/BH/include/boost/graph/detail/adjacency_list.hpp:34:0,
from /home/biocbuild/bbs-3.9-bioc/R/library/BH/include/boost/graph/adjacency_list.hpp:223,
from RBGL.hpp:38,
from minST.cpp:1:
/home/biocbuild/bbs-3.9-bioc/R/library/BH/include/boost/graph/detail/adj_list_edge_iterator.hpp: In function ‘void boost::detail::kruskal_mst_impl(const Graph&, OutputIterator, Rank, Parent, Weight) [with Graph = R_adjacency_list; OutputIterator = std::back_insert_iterator > >; Rank = boost::iterator_property_map<__gnu_cxx::__normal_iterator >, boost::vec_adj_list_vertex_id_map, long unsigned int>, long unsigned int, long unsigned int&>; Parent = boost::iterator_property_map<__gnu_cxx::__normal_iterator >, boost::vec_adj_list_vertex_id_map, long unsigned int>, long unsigned int, long unsigned int&>; Weight = boost::adj_list_edge_property_map, boost::edge_weight_t>]’:
/home/biocbuild/bbs-3.9-bioc/R/library/BH/include/boost/graph/detail/adj_list_edge_iterator.hpp:70:9: warning: ‘*((void*)& ei +48)’ may be used uninitialized in this function [-Wmaybe-uninitialized]
if (edges BOOST_GRAPH_MEMBER first == edges BOOST_GRAPH_MEMBER second)
^~
In file included from minST.cpp:2:0:
/home/biocbuild/bbs-3.9-bioc/R/library/BH/include/boost/graph/kruskal_min_spanning_tree.hpp:78:51: note: ‘*((void*)& ei +48)’ was declared here
typename graph_traits::edge_iterator ei, eiend;
^~
In file included from /home/biocbuild/bbs-3.9-bioc/R/library/BH/include/boost/graph/adjacency_list.hpp:33:0,
from RBGL.hpp:38,
from minST.cpp:1:
/home/biocbuild/bbs-3.9-bioc/R/library/BH/include/boost/graph/detail/edge.hpp:27:34: warning: ‘*((void*)(& ei)+32).boost::detail::out_edge_iter<__gnu_cxx::__normal_iterator >*, std::vector