| Back to Multiple platform build/check report for BioC 3.9 |
|
This page was generated on 2019-10-16 12:44:49 -0400 (Wed, 16 Oct 2019).
| Package 1315/1741 | Hostname | OS / Arch | INSTALL | BUILD | CHECK | BUILD BIN | ||||||
| RBGL 1.60.0 Bioconductor Package Maintainer
| malbec2 | Linux (Ubuntu 18.04.2 LTS) / x86_64 | OK | OK | OK | |||||||
| tokay2 | Windows Server 2012 R2 Standard / x64 | OK | OK | OK | OK | |||||||
| celaya2 | OS X 10.11.6 El Capitan / x86_64 | OK | OK | [ OK ] | OK |
| Package: RBGL |
| Version: 1.60.0 |
| Command: /Library/Frameworks/R.framework/Versions/Current/Resources/bin/R CMD check --install=check:RBGL.install-out.txt --library=/Library/Frameworks/R.framework/Versions/Current/Resources/library --no-vignettes --timings RBGL_1.60.0.tar.gz |
| StartedAt: 2019-10-16 06:00:43 -0400 (Wed, 16 Oct 2019) |
| EndedAt: 2019-10-16 06:01:44 -0400 (Wed, 16 Oct 2019) |
| EllapsedTime: 60.9 seconds |
| RetCode: 0 |
| Status: OK |
| CheckDir: RBGL.Rcheck |
| Warnings: 0 |
############################################################################## ############################################################################## ### ### Running command: ### ### /Library/Frameworks/R.framework/Versions/Current/Resources/bin/R CMD check --install=check:RBGL.install-out.txt --library=/Library/Frameworks/R.framework/Versions/Current/Resources/library --no-vignettes --timings RBGL_1.60.0.tar.gz ### ############################################################################## ############################################################################## * using log directory ‘/Users/biocbuild/bbs-3.9-bioc/meat/RBGL.Rcheck’ * using R version 3.6.1 (2019-07-05) * using platform: x86_64-apple-darwin15.6.0 (64-bit) * using session charset: UTF-8 * using option ‘--no-vignettes’ * checking for file ‘RBGL/DESCRIPTION’ ... OK * this is package ‘RBGL’ version ‘1.60.0’ * checking package namespace information ... OK * checking package dependencies ... OK * checking if this is a source package ... OK * checking if there is a namespace ... OK * checking for hidden files and directories ... OK * checking for portable file names ... OK * checking for sufficient/correct file permissions ... OK * checking whether package ‘RBGL’ can be installed ... OK * checking installed package size ... OK * checking package directory ... OK * checking ‘build’ directory ... OK * checking DESCRIPTION meta-information ... NOTE Package listed in more than one of Depends, Imports, Suggests, Enhances: ‘methods’ A package should be listed in only one of these fields. * checking top-level files ... OK * checking for left-over files ... OK * checking index information ... OK * checking package subdirectories ... OK * checking R files for non-ASCII characters ... OK * checking R files for syntax errors ... OK * checking whether the package can be loaded ... OK * checking whether the package can be loaded with stated dependencies ... OK * checking whether the package can be unloaded cleanly ... OK * checking whether the namespace can be loaded with stated dependencies ... OK * checking whether the namespace can be unloaded cleanly ... OK * checking dependencies in R code ... OK * checking S3 generic/method consistency ... OK * checking replacement functions ... OK * checking foreign function calls ... OK * checking R code for possible problems ... OK * checking Rd files ... OK * checking Rd metadata ... OK * checking Rd cross-references ... OK * checking for missing documentation entries ... OK * checking for code/documentation mismatches ... OK * checking Rd \usage sections ... OK * checking Rd contents ... OK * checking for unstated dependencies in examples ... OK * checking contents of ‘data’ directory ... OK * checking data for non-ASCII characters ... OK * checking data for ASCII and uncompressed saves ... OK * checking line endings in shell scripts ... OK * checking line endings in C/C++/Fortran sources/headers ... OK * checking line endings in Makefiles ... OK * checking compilation flags in Makevars ... OK * checking for GNU extensions in Makefiles ... OK * checking for portable use of $(BLAS_LIBS) and $(LAPACK_LIBS) ... OK * checking compiled code ... NOTE Note: information on .o files is not available File ‘/Library/Frameworks/R.framework/Versions/3.6/Resources/library/RBGL/libs/RBGL.so’: Found ‘_abort’, possibly from ‘abort’ (C) Compiled code should not call entry points which might terminate R nor write to stdout/stderr instead of to the console, nor use Fortran I/O nor system RNGs. The detected symbols are linked into the code but might come from libraries and not actually be called. See ‘Writing portable packages’ in the ‘Writing R Extensions’ manual. * checking sizes of PDF files under ‘inst/doc’ ... OK * checking installed files from ‘inst/doc’ ... OK * checking files in ‘vignettes’ ... OK * checking examples ... OK * checking for unstated dependencies in ‘tests’ ... OK * checking tests ... Running ‘runTests.R’ OK * checking for unstated dependencies in vignettes ... OK * checking package vignettes in ‘inst/doc’ ... OK * checking running R code from vignettes ... SKIPPED * checking re-building of vignette outputs ... SKIPPED * checking PDF version of manual ... OK * DONE Status: 2 NOTEs See ‘/Users/biocbuild/bbs-3.9-bioc/meat/RBGL.Rcheck/00check.log’ for details.
RBGL.Rcheck/00install.out
##############################################################################
##############################################################################
###
### Running command:
###
### /Library/Frameworks/R.framework/Versions/Current/Resources/bin/R CMD INSTALL RBGL
###
##############################################################################
##############################################################################
* installing to library ‘/Library/Frameworks/R.framework/Versions/3.6/Resources/library’
* installing *source* package ‘RBGL’ ...
** using staged installation
checking R package BH ... yes
configure: creating ./config.status
config.status: creating src/Makevars
** libs
clang++ -std=gnu++11 -I"/Library/Frameworks/R.framework/Resources/include" -DNDEBUG -I/Library/Frameworks/R.framework/Versions/3.6/Resources/library/BH/include -I"/Library/Frameworks/R.framework/Versions/3.6/Resources/library/BH/include" -isysroot /Library/Developer/CommandLineTools/SDKs/MacOSX.sdk -I/usr/local/include -fPIC -Wall -g -O2 -c bbc.cpp -o bbc.o
clang++ -std=gnu++11 -I"/Library/Frameworks/R.framework/Resources/include" -DNDEBUG -I/Library/Frameworks/R.framework/Versions/3.6/Resources/library/BH/include -I"/Library/Frameworks/R.framework/Versions/3.6/Resources/library/BH/include" -isysroot /Library/Developer/CommandLineTools/SDKs/MacOSX.sdk -I/usr/local/include -fPIC -Wall -g -O2 -c cliques.cpp -o cliques.o
clang++ -std=gnu++11 -I"/Library/Frameworks/R.framework/Resources/include" -DNDEBUG -I/Library/Frameworks/R.framework/Versions/3.6/Resources/library/BH/include -I"/Library/Frameworks/R.framework/Versions/3.6/Resources/library/BH/include" -isysroot /Library/Developer/CommandLineTools/SDKs/MacOSX.sdk -I/usr/local/include -fPIC -Wall -g -O2 -c clusteringCoef.cpp -o clusteringCoef.o
clang++ -std=gnu++11 -I"/Library/Frameworks/R.framework/Resources/include" -DNDEBUG -I/Library/Frameworks/R.framework/Versions/3.6/Resources/library/BH/include -I"/Library/Frameworks/R.framework/Versions/3.6/Resources/library/BH/include" -isysroot /Library/Developer/CommandLineTools/SDKs/MacOSX.sdk -I/usr/local/include -fPIC -Wall -g -O2 -c dominatorTree.cpp -o dominatorTree.o
clang++ -std=gnu++11 -I"/Library/Frameworks/R.framework/Resources/include" -DNDEBUG -I/Library/Frameworks/R.framework/Versions/3.6/Resources/library/BH/include -I"/Library/Frameworks/R.framework/Versions/3.6/Resources/library/BH/include" -isysroot /Library/Developer/CommandLineTools/SDKs/MacOSX.sdk -I/usr/local/include -fPIC -Wall -g -O2 -c edmonds_optimum_branching.cpp -o edmonds_optimum_branching.o
In file included from edmonds_optimum_branching.cpp:3:
In file included from ./edmonds_optimum_branching.hpp:94:
./edmonds_optimum_branching_impl.hpp:520:71: warning: unused typedef 'EdgeIter' [-Wunused-local-typedef]
typedef typename graph_traits::edge_iterator EdgeIter;
^
./edmonds_optimum_branching_impl.hpp:521:71: warning: unused typedef 'weight_t' [-Wunused-local-typedef]
typedef typename property_traits::value_type weight_t;
^
2 warnings generated.
clang++ -std=gnu++11 -I"/Library/Frameworks/R.framework/Resources/include" -DNDEBUG -I/Library/Frameworks/R.framework/Versions/3.6/Resources/library/BH/include -I"/Library/Frameworks/R.framework/Versions/3.6/Resources/library/BH/include" -isysroot /Library/Developer/CommandLineTools/SDKs/MacOSX.sdk -I/usr/local/include -fPIC -Wall -g -O2 -c hcs.cpp -o hcs.o
clang++ -std=gnu++11 -I"/Library/Frameworks/R.framework/Resources/include" -DNDEBUG -I/Library/Frameworks/R.framework/Versions/3.6/Resources/library/BH/include -I"/Library/Frameworks/R.framework/Versions/3.6/Resources/library/BH/include" -isysroot /Library/Developer/CommandLineTools/SDKs/MacOSX.sdk -I/usr/local/include -fPIC -Wall -g -O2 -c incrConnComp.cpp -o incrConnComp.o
incrConnComp.cpp:74:32: warning: unused variable 'child_index' [-Wunused-variable]
BOOST_FOREACH(VertexIndex child_index, components[current_index]) {
^
1 warning generated.
clang++ -std=gnu++11 -I"/Library/Frameworks/R.framework/Resources/include" -DNDEBUG -I/Library/Frameworks/R.framework/Versions/3.6/Resources/library/BH/include -I"/Library/Frameworks/R.framework/Versions/3.6/Resources/library/BH/include" -isysroot /Library/Developer/CommandLineTools/SDKs/MacOSX.sdk -I/usr/local/include -fPIC -Wall -g -O2 -c interfaces.cpp -o interfaces.o
interfaces.cpp:57:60: warning: unused typedef 'Edge' [-Wunused-local-typedef]
typedef graph_traits < Graph_dd >::edge_descriptor Edge;
^
interfaces.cpp:61:62: warning: unused typedef 'Color' [-Wunused-local-typedef]
typedef property_map::type Color;
^
interfaces.cpp:99:62: warning: unused typedef 'Vertex' [-Wunused-local-typedef]
typedef graph_traits < Graph_dd >::vertex_descriptor Vertex;
^
interfaces.cpp:98:60: warning: unused typedef 'Edge' [-Wunused-local-typedef]
typedef graph_traits < Graph_dd >::edge_descriptor Edge;
^
interfaces.cpp:143:62: warning: unused typedef 'Vertex' [-Wunused-local-typedef]
typedef graph_traits < Graph_dd >::vertex_descriptor Vertex;
^
interfaces.cpp:142:60: warning: unused typedef 'Edge' [-Wunused-local-typedef]
typedef graph_traits < Graph_dd >::edge_descriptor Edge;
^
interfaces.cpp:198:60: warning: unused typedef 'Edge' [-Wunused-local-typedef]
typedef graph_traits < Graph_ud >::edge_descriptor Edge;
^
interfaces.cpp:199:62: warning: unused typedef 'Vertex' [-Wunused-local-typedef]
typedef graph_traits < Graph_ud >::vertex_descriptor Vertex;
^
interfaces.cpp:225:60: warning: unused typedef 'Edge' [-Wunused-local-typedef]
typedef graph_traits < Graph_dd >::edge_descriptor Edge;
^
interfaces.cpp:226:62: warning: unused typedef 'Vertex' [-Wunused-local-typedef]
typedef graph_traits < Graph_dd >::vertex_descriptor Vertex;
^
interfaces.cpp:252:60: warning: unused typedef 'Edge' [-Wunused-local-typedef]
typedef graph_traits < Graph_ud >::edge_descriptor Edge;
^
interfaces.cpp:253:62: warning: unused typedef 'Vertex' [-Wunused-local-typedef]
typedef graph_traits < Graph_ud >::vertex_descriptor Vertex;
^
interfaces.cpp:295:60: warning: unused typedef 'Edge' [-Wunused-local-typedef]
typedef graph_traits < Graph_ud >::edge_descriptor Edge;
^
interfaces.cpp:320:62: warning: unused typedef 'Vertex' [-Wunused-local-typedef]
typedef graph_traits < Graph_ud >::vertex_descriptor Vertex;
^
interfaces.cpp:361:62: warning: unused typedef 'Vertex' [-Wunused-local-typedef]
typedef graph_traits < Graph_ud >::vertex_descriptor Vertex;
^
interfaces.cpp:360:60: warning: unused typedef 'Edge' [-Wunused-local-typedef]
typedef graph_traits < Graph_ud >::edge_descriptor Edge;
^
16 warnings generated.
clang++ -std=gnu++11 -I"/Library/Frameworks/R.framework/Resources/include" -DNDEBUG -I/Library/Frameworks/R.framework/Versions/3.6/Resources/library/BH/include -I"/Library/Frameworks/R.framework/Versions/3.6/Resources/library/BH/include" -isysroot /Library/Developer/CommandLineTools/SDKs/MacOSX.sdk -I/usr/local/include -fPIC -Wall -g -O2 -c minST.cpp -o minST.o
minST.cpp:14:62: warning: unused typedef 'Vertex' [-Wunused-local-typedef]
typedef graph_traits < Graph_dd >::vertex_descriptor Vertex;
^
minST.cpp:48:62: warning: unused typedef 'Vertex' [-Wunused-local-typedef]
typedef graph_traits < Graph_ud >::vertex_descriptor Vertex;
^
minST.cpp:81:60: warning: unused typedef 'Edge' [-Wunused-local-typedef]
typedef graph_traits < Graph_ud >::edge_descriptor Edge;
^
3 warnings generated.
clang++ -std=gnu++11 -I"/Library/Frameworks/R.framework/Resources/include" -DNDEBUG -I/Library/Frameworks/R.framework/Versions/3.6/Resources/library/BH/include -I"/Library/Frameworks/R.framework/Versions/3.6/Resources/library/BH/include" -isysroot /Library/Developer/CommandLineTools/SDKs/MacOSX.sdk -I/usr/local/include -fPIC -Wall -g -O2 -c mincut.cpp -o mincut.o
clang++ -std=gnu++11 -I"/Library/Frameworks/R.framework/Resources/include" -DNDEBUG -I/Library/Frameworks/R.framework/Versions/3.6/Resources/library/BH/include -I"/Library/Frameworks/R.framework/Versions/3.6/Resources/library/BH/include" -isysroot /Library/Developer/CommandLineTools/SDKs/MacOSX.sdk -I/usr/local/include -fPIC -Wall -g -O2 -c ordering.cpp -o ordering.o
ordering.cpp:182:48: warning: unused variable 'id' [-Wunused-variable]
property_map::type id = get(vertex_index, g);
^
ordering.cpp:133:53: warning: unused typedef 'Vertex' [-Wunused-local-typedef]
typedef graph_traits::vertex_descriptor Vertex;
^
ordering.cpp:176:53: warning: unused typedef 'Vertex' [-Wunused-local-typedef]
typedef graph_traits::vertex_descriptor Vertex;
^
ordering.cpp:232:47: warning: unused typedef 'Pair' [-Wunused-local-typedef]
typedef std::pair Pair;
^
4 warnings generated.
clang++ -std=gnu++11 -I"/Library/Frameworks/R.framework/Resources/include" -DNDEBUG -I/Library/Frameworks/R.framework/Versions/3.6/Resources/library/BH/include -I"/Library/Frameworks/R.framework/Versions/3.6/Resources/library/BH/include" -isysroot /Library/Developer/CommandLineTools/SDKs/MacOSX.sdk -I/usr/local/include -fPIC -Wall -g -O2 -c planar.cpp -o planar.o
planar.cpp:225:34: warning: unused variable 'oi_end' [-Wunused-variable]
Vertex_Vec_t::iterator oi, oi_end = ordering.end();
^
planar.cpp:429:36: warning: unused variable 'ki_end' [-Wunused-variable]
Edge_Vec_t::iterator ki, ki_end = kuratowski_edges.end();
^
planar.cpp:461:6: warning: unused variable 'i' [-Wunused-variable]
int i, j = 0;
^
3 warnings generated.
clang++ -std=gnu++11 -I"/Library/Frameworks/R.framework/Resources/include" -DNDEBUG -I/Library/Frameworks/R.framework/Versions/3.6/Resources/library/BH/include -I"/Library/Frameworks/R.framework/Versions/3.6/Resources/library/BH/include" -isysroot /Library/Developer/CommandLineTools/SDKs/MacOSX.sdk -I/usr/local/include -fPIC -Wall -g -O2 -c registerSigHandlers.cpp -o registerSigHandlers.o
clang++ -std=gnu++11 -I"/Library/Frameworks/R.framework/Resources/include" -DNDEBUG -I/Library/Frameworks/R.framework/Versions/3.6/Resources/library/BH/include -I"/Library/Frameworks/R.framework/Versions/3.6/Resources/library/BH/include" -isysroot /Library/Developer/CommandLineTools/SDKs/MacOSX.sdk -I/usr/local/include -fPIC -Wall -g -O2 -c shortestPath.cpp -o shortestPath.o
shortestPath.cpp:17:60: warning: unused typedef 'Edge' [-Wunused-local-typedef]
typedef graph_traits < Graph_dd >::edge_descriptor Edge;
^
shortestPath.cpp:136:60: warning: unused typedef 'Edge' [-Wunused-local-typedef]
typedef graph_traits < Graph_dd >::edge_descriptor Edge;
^
shortestPath.cpp:177:81: warning: unused typedef 'Graph' [-Wunused-local-typedef]
property< edge_weight_t, double, property< edge_weight2_t, double > > > Graph;
^
shortestPath.cpp:180:39: warning: unused typedef 'Edge' [-Wunused-local-typedef]
typedef std::pair < int, int >Edge;
^
4 warnings generated.
clang++ -std=gnu++11 -I"/Library/Frameworks/R.framework/Resources/include" -DNDEBUG -I/Library/Frameworks/R.framework/Versions/3.6/Resources/library/BH/include -I"/Library/Frameworks/R.framework/Versions/3.6/Resources/library/BH/include" -isysroot /Library/Developer/CommandLineTools/SDKs/MacOSX.sdk -I/usr/local/include -fPIC -Wall -g -O2 -c sna.cpp -o sna.o
sna.cpp:161:9: warning: unused variable 'res_cap' [-Wunused-variable]
res_cap = get(edge_residual_capacity, flow_g);
^
1 warning generated.
clang++ -std=gnu++11 -I"/Library/Frameworks/R.framework/Resources/include" -DNDEBUG -I/Library/Frameworks/R.framework/Versions/3.6/Resources/library/BH/include -I"/Library/Frameworks/R.framework/Versions/3.6/Resources/library/BH/include" -isysroot /Library/Developer/CommandLineTools/SDKs/MacOSX.sdk -I/usr/local/include -fPIC -Wall -g -O2 -c transitive_closure.cpp -o transitive_closure.o
clang++ -std=gnu++11 -I"/Library/Frameworks/R.framework/Resources/include" -DNDEBUG -I/Library/Frameworks/R.framework/Versions/3.6/Resources/library/BH/include -I"/Library/Frameworks/R.framework/Versions/3.6/Resources/library/BH/include" -isysroot /Library/Developer/CommandLineTools/SDKs/MacOSX.sdk -I/usr/local/include -fPIC -Wall -g -O2 -c wavefront.cpp -o wavefront.o
clang++ -std=gnu++11 -dynamiclib -Wl,-headerpad_max_install_names -undefined dynamic_lookup -single_module -multiply_defined suppress -L/Library/Frameworks/R.framework/Resources/lib -L/usr/local/lib -o RBGL.so bbc.o cliques.o clusteringCoef.o dominatorTree.o edmonds_optimum_branching.o hcs.o incrConnComp.o interfaces.o minST.o mincut.o ordering.o planar.o registerSigHandlers.o shortestPath.o sna.o transitive_closure.o wavefront.o -F/Library/Frameworks/R.framework/.. -framework R -Wl,-framework -Wl,CoreFoundation
installing to /Library/Frameworks/R.framework/Versions/3.6/Resources/library/00LOCK-RBGL/00new/RBGL/libs
** R
** data
** inst
** byte-compile and prepare package for lazy loading
** help
*** installing help indices
** building package indices
** installing vignettes
‘RBGL.Rnw’
** testing if installed package can be loaded from temporary location
** checking absolute paths in shared objects and dynamic libraries
** testing if installed package can be loaded from final location
** testing if installed package keeps a record of temporary installation path
* DONE (RBGL)
RBGL.Rcheck/tests/runTests.Rout
R version 3.6.1 (2019-07-05) -- "Action of the Toes"
Copyright (C) 2019 The R Foundation for Statistical Computing
Platform: x86_64-apple-darwin15.6.0 (64-bit)
R is free software and comes with ABSOLUTELY NO WARRANTY.
You are welcome to redistribute it under certain conditions.
Type 'license()' or 'licence()' for distribution details.
R is a collaborative project with many contributors.
Type 'contributors()' for more information and
'citation()' on how to cite R or R packages in publications.
Type 'demo()' for some demos, 'help()' for on-line help, or
'help.start()' for an HTML browser interface to help.
Type 'q()' to quit R.
> BiocGenerics:::testPackage("RBGL")
Attaching package: 'BiocGenerics'
The following objects are masked from 'package:parallel':
clusterApply, clusterApplyLB, clusterCall, clusterEvalQ,
clusterExport, clusterMap, parApply, parCapply, parLapply,
parLapplyLB, parRapply, parSapply, parSapplyLB
The following objects are masked from 'package:stats':
IQR, mad, sd, var, xtabs
The following objects are masked from 'package:base':
Filter, Find, Map, Position, Reduce, anyDuplicated, append,
as.data.frame, basename, cbind, colnames, dirname, do.call,
duplicated, eval, evalq, get, grep, grepl, intersect, is.unsorted,
lapply, mapply, match, mget, order, paste, pmax, pmax.int, pmin,
pmin.int, rank, rbind, rownames, sapply, setdiff, sort, table,
tapply, union, unique, unsplit, which, which.max, which.min
RUNIT TEST PROTOCOL -- Wed Oct 16 06:01:34 2019
***********************************************
Number of test functions: 1
Number of errors: 0
Number of failures: 0
1 Test Suite :
RBGL RUnit Tests - 1 test function, 0 errors, 0 failures
Number of test functions: 1
Number of errors: 0
Number of failures: 0
>
> proc.time()
user system elapsed
1.208 0.210 1.368
RBGL.Rcheck/RBGL-Ex.timings
| name | user | system | elapsed | |
| FileDep | 0.615 | 0.072 | 0.690 | |
| astarSearch | 0.081 | 0.001 | 0.083 | |
| bandwidth | 0.012 | 0.001 | 0.013 | |
| bellman.ford.sp | 0.074 | 0.002 | 0.077 | |
| bfs | 0.014 | 0.001 | 0.017 | |
| biConnComp | 0.006 | 0.001 | 0.008 | |
| boyerMyrvoldPlanarityTest | 0.011 | 0.001 | 0.014 | |
| chrobakPayneStraightLineDrawing | 0.053 | 0.002 | 0.056 | |
| clusteringCoef | 0.012 | 0.000 | 0.013 | |
| clusteringCoefAppr | 0.010 | 0.001 | 0.012 | |
| coloring | 0.007 | 0.000 | 0.008 | |
| connectedComp | 0.018 | 0.001 | 0.020 | |
| dag.sp | 0.019 | 0.002 | 0.021 | |
| dijkstra.sp | 0.019 | 0.002 | 0.023 | |
| dominatorTree | 0.006 | 0.000 | 0.007 | |
| edgeConn | 0.007 | 0.001 | 0.009 | |
| edmondsMaxCardinalityMatching | 0.015 | 0.002 | 0.017 | |
| edmondsOptimumBranching | 0.009 | 0.001 | 0.010 | |
| extractPath | 0.005 | 0.002 | 0.007 | |
| floyd.warshall.all.pairs.sp | 0.009 | 0.001 | 0.010 | |
| gprofile | 0.005 | 0.001 | 0.006 | |
| graphGenerator | 0.001 | 0.001 | 0.001 | |
| highlyConnSG | 0.011 | 0.001 | 0.012 | |
| incrConnComp | 0.008 | 0.002 | 0.012 | |
| is.triangulated | 0.014 | 0.001 | 0.017 | |
| isKuratowskiSubgraph | 0.011 | 0.002 | 0.013 | |
| isStraightLineDrawing | 0.007 | 0.001 | 0.008 | |
| isomorphism | 0.014 | 0.001 | 0.015 | |
| johnson.all.pairs.sp | 0.009 | 0.001 | 0.011 | |
| kCliques | 0.015 | 0.002 | 0.017 | |
| kCores | 0.040 | 0.003 | 0.044 | |
| lambdaSets | 0.008 | 0.001 | 0.009 | |
| layout | 0.000 | 0.001 | 0.001 | |
| makeBiconnectedPlanar | 0.007 | 0.001 | 0.008 | |
| makeConnected | 0.006 | 0.001 | 0.006 | |
| makeMaximalPlanar | 0.006 | 0.000 | 0.007 | |
| maxClique | 0.017 | 0.002 | 0.019 | |
| maxFlow | 0.013 | 0.001 | 0.014 | |
| minCut | 0.008 | 0.000 | 0.008 | |
| mstree.kruskal | 0.028 | 0.002 | 0.030 | |
| mstree.prim | 0.009 | 0.001 | 0.010 | |
| ordering | 0.020 | 0.002 | 0.024 | |
| planarCanonicalOrdering | 0.007 | 0.000 | 0.009 | |
| planarFaceTraversal | 0.007 | 0.001 | 0.008 | |
| removeSelfLoops | 0.012 | 0.000 | 0.014 | |
| separates | 0.015 | 0.001 | 0.016 | |
| sp.between | 0.036 | 0.005 | 0.040 | |
| strongComp | 0.014 | 0.001 | 0.016 | |
| transClosure | 0.011 | 0.001 | 0.012 | |
| transitivity | 0.007 | 0.001 | 0.008 | |
| tsort | 0.006 | 0.003 | 0.008 | |
| wavefront | 0.009 | 0.000 | 0.009 | |