| Back to Multiple platform build/check report for BioC 3.9 |
|
This page was generated on 2019-10-16 13:04:27 -0400 (Wed, 16 Oct 2019).
| Package 1248/1741 | Hostname | OS / Arch | INSTALL | BUILD | CHECK | BUILD BIN | ||||||
| PrInCE 1.0.1 Michael Skinnider
| malbec2 | Linux (Ubuntu 18.04.2 LTS) / x86_64 | OK | OK | OK | |||||||
| tokay2 | Windows Server 2012 R2 Standard / x64 | OK | OK | OK | OK | |||||||
| celaya2 | OS X 10.11.6 El Capitan / x86_64 | OK | OK | [ OK ] | OK |
| Package: PrInCE |
| Version: 1.0.1 |
| Command: /Library/Frameworks/R.framework/Versions/Current/Resources/bin/R CMD check --install=check:PrInCE.install-out.txt --library=/Library/Frameworks/R.framework/Versions/Current/Resources/library --no-vignettes --timings PrInCE_1.0.1.tar.gz |
| StartedAt: 2019-10-16 05:43:54 -0400 (Wed, 16 Oct 2019) |
| EndedAt: 2019-10-16 05:48:54 -0400 (Wed, 16 Oct 2019) |
| EllapsedTime: 300.0 seconds |
| RetCode: 0 |
| Status: OK |
| CheckDir: PrInCE.Rcheck |
| Warnings: 0 |
##############################################################################
##############################################################################
###
### Running command:
###
### /Library/Frameworks/R.framework/Versions/Current/Resources/bin/R CMD check --install=check:PrInCE.install-out.txt --library=/Library/Frameworks/R.framework/Versions/Current/Resources/library --no-vignettes --timings PrInCE_1.0.1.tar.gz
###
##############################################################################
##############################################################################
* using log directory ‘/Users/biocbuild/bbs-3.9-bioc/meat/PrInCE.Rcheck’
* using R version 3.6.1 (2019-07-05)
* using platform: x86_64-apple-darwin15.6.0 (64-bit)
* using session charset: UTF-8
* using option ‘--no-vignettes’
* checking for file ‘PrInCE/DESCRIPTION’ ... OK
* this is package ‘PrInCE’ version ‘1.0.1’
* package encoding: UTF-8
* checking package namespace information ... OK
* checking package dependencies ... OK
* checking if this is a source package ... OK
* checking if there is a namespace ... OK
* checking for hidden files and directories ... OK
* checking for portable file names ... OK
* checking for sufficient/correct file permissions ... OK
* checking whether package ‘PrInCE’ can be installed ... OK
* checking installed package size ... OK
* checking package directory ... OK
* checking ‘build’ directory ... OK
* checking DESCRIPTION meta-information ... OK
* checking top-level files ... OK
* checking for left-over files ... OK
* checking index information ... OK
* checking package subdirectories ... OK
* checking R files for non-ASCII characters ... OK
* checking R files for syntax errors ... OK
* checking whether the package can be loaded ... OK
* checking whether the package can be loaded with stated dependencies ... OK
* checking whether the package can be unloaded cleanly ... OK
* checking whether the namespace can be loaded with stated dependencies ... OK
* checking whether the namespace can be unloaded cleanly ... OK
* checking dependencies in R code ... OK
* checking S3 generic/method consistency ... OK
* checking replacement functions ... OK
* checking foreign function calls ... OK
* checking R code for possible problems ... OK
* checking Rd files ... OK
* checking Rd metadata ... OK
* checking Rd cross-references ... OK
* checking for missing documentation entries ... OK
* checking for code/documentation mismatches ... OK
* checking Rd \usage sections ... OK
* checking Rd contents ... OK
* checking for unstated dependencies in examples ... OK
* checking contents of ‘data’ directory ... OK
* checking data for non-ASCII characters ... OK
* checking data for ASCII and uncompressed saves ... OK
* checking files in ‘vignettes’ ... OK
* checking examples ... OK
Examples with CPU or elapsed time > 5s
user system elapsed
calculate_precision 9.034 0.749 9.786
predict_interactions 8.696 0.714 9.411
predict_ensemble 8.099 0.779 8.880
PrInCE 7.901 0.689 8.593
threshold_precision 7.543 0.591 8.138
* checking for unstated dependencies in vignettes ... OK
* checking package vignettes in ‘inst/doc’ ... OK
* checking running R code from vignettes ... SKIPPED
* checking re-building of vignette outputs ... SKIPPED
* checking PDF version of manual ... OK
* DONE
Status: OK
PrInCE.Rcheck/00install.out
############################################################################## ############################################################################## ### ### Running command: ### ### /Library/Frameworks/R.framework/Versions/Current/Resources/bin/R CMD INSTALL PrInCE ### ############################################################################## ############################################################################## * installing to library ‘/Library/Frameworks/R.framework/Versions/3.6/Resources/library’ * installing *source* package ‘PrInCE’ ... ** using staged installation ** R ** data ** inst ** byte-compile and prepare package for lazy loading ** help Loading required namespace: PrInCE Registered S3 method overwritten by 'xts': method from as.zoo.xts zoo Registered S3 method overwritten by 'quantmod': method from as.zoo.data.frame zoo Registered S3 methods overwritten by 'forecast': method from fitted.fracdiff fracdiff residuals.fracdiff fracdiff *** installing help indices ** building package indices ** installing vignettes ** testing if installed package can be loaded from temporary location ** testing if installed package can be loaded from final location ** testing if installed package keeps a record of temporary installation path * DONE (PrInCE)
PrInCE.Rcheck/PrInCE-Ex.timings
| name | user | system | elapsed | |
| PrInCE | 7.901 | 0.689 | 8.593 | |
| adjacency_matrix_from_data_frame | 0.002 | 0.001 | 0.002 | |
| adjacency_matrix_from_list | 2.098 | 0.083 | 2.181 | |
| build_gaussians | 1.158 | 0.059 | 1.217 | |
| calculate_precision | 9.034 | 0.749 | 9.786 | |
| check_gaussians | 0.182 | 0.010 | 0.192 | |
| choose_gaussians | 0.424 | 0.007 | 0.432 | |
| clean_profile | 0.080 | 0.004 | 0.083 | |
| clean_profiles | 0.072 | 0.003 | 0.075 | |
| co_apex | 0.204 | 0.006 | 0.210 | |
| detect_complexes | 0.180 | 0.008 | 0.189 | |
| filter_profiles | 0.588 | 0.044 | 0.633 | |
| fit_curve | 0.316 | 0.007 | 0.324 | |
| fit_gaussians | 0.280 | 0.004 | 0.286 | |
| impute_neighbors | 0.075 | 0.003 | 0.077 | |
| is_unweighted | 1.971 | 0.055 | 2.028 | |
| is_weighted | 2.033 | 0.019 | 2.054 | |
| make_initial_conditions | 0.083 | 0.003 | 0.086 | |
| make_labels | 2.037 | 0.015 | 2.052 | |
| match_matrix_dimensions | 3.527 | 0.057 | 3.585 | |
| predict_ensemble | 8.099 | 0.779 | 8.880 | |
| predict_interactions | 8.696 | 0.714 | 9.411 | |
| threshold_precision | 7.543 | 0.591 | 8.138 | |