| Back to Multiple platform build/check report for BioC 3.9 |
|
This page was generated on 2019-10-16 12:09:30 -0400 (Wed, 16 Oct 2019).
| Package 1202/1741 | Hostname | OS / Arch | INSTALL | BUILD | CHECK | BUILD BIN | ||||||
| PharmacoGx 1.14.2 Benjamin Haibe-Kains
| malbec2 | Linux (Ubuntu 18.04.2 LTS) / x86_64 | OK | OK | [ OK ] | |||||||
| tokay2 | Windows Server 2012 R2 Standard / x64 | OK | OK | OK | OK | |||||||
| celaya2 | OS X 10.11.6 El Capitan / x86_64 | OK | OK | TIMEOUT | OK |
| Package: PharmacoGx |
| Version: 1.14.2 |
| Command: /home/biocbuild/bbs-3.9-bioc/R/bin/R CMD check --install=check:PharmacoGx.install-out.txt --library=/home/biocbuild/bbs-3.9-bioc/R/library --no-vignettes --timings PharmacoGx_1.14.2.tar.gz |
| StartedAt: 2019-10-16 03:53:06 -0400 (Wed, 16 Oct 2019) |
| EndedAt: 2019-10-16 04:16:06 -0400 (Wed, 16 Oct 2019) |
| EllapsedTime: 1380.4 seconds |
| RetCode: 0 |
| Status: OK |
| CheckDir: PharmacoGx.Rcheck |
| Warnings: 0 |
##############################################################################
##############################################################################
###
### Running command:
###
### /home/biocbuild/bbs-3.9-bioc/R/bin/R CMD check --install=check:PharmacoGx.install-out.txt --library=/home/biocbuild/bbs-3.9-bioc/R/library --no-vignettes --timings PharmacoGx_1.14.2.tar.gz
###
##############################################################################
##############################################################################
* using log directory ‘/home/biocbuild/bbs-3.9-bioc/meat/PharmacoGx.Rcheck’
* using R version 3.6.1 (2019-07-05)
* using platform: x86_64-pc-linux-gnu (64-bit)
* using session charset: UTF-8
* using option ‘--no-vignettes’
* checking for file ‘PharmacoGx/DESCRIPTION’ ... OK
* checking extension type ... Package
* this is package ‘PharmacoGx’ version ‘1.14.2’
* package encoding: UTF-8
* checking package namespace information ... OK
* checking package dependencies ... OK
* checking if this is a source package ... OK
* checking if there is a namespace ... OK
* checking for hidden files and directories ... OK
* checking for portable file names ... OK
* checking for sufficient/correct file permissions ... OK
* checking whether package ‘PharmacoGx’ can be installed ... OK
* checking installed package size ... OK
* checking package directory ... OK
* checking ‘build’ directory ... OK
* checking DESCRIPTION meta-information ... OK
* checking top-level files ... OK
* checking for left-over files ... OK
* checking index information ... OK
* checking package subdirectories ... OK
* checking R files for non-ASCII characters ... OK
* checking R files for syntax errors ... OK
* checking whether the package can be loaded ... OK
* checking whether the package can be loaded with stated dependencies ... OK
* checking whether the package can be unloaded cleanly ... OK
* checking whether the namespace can be loaded with stated dependencies ... OK
* checking whether the namespace can be unloaded cleanly ... OK
* checking dependencies in R code ... OK
* checking S3 generic/method consistency ... OK
* checking replacement functions ... OK
* checking foreign function calls ... OK
* checking R code for possible problems ... OK
* checking Rd files ... OK
* checking Rd metadata ... OK
* checking Rd cross-references ... OK
* checking for missing documentation entries ... OK
* checking for code/documentation mismatches ... OK
* checking Rd \usage sections ... OK
* checking Rd contents ... OK
* checking for unstated dependencies in examples ... OK
* checking contents of ‘data’ directory ... OK
* checking data for non-ASCII characters ... NOTE
Note: found 2251 marked UTF-8 strings
* checking data for ASCII and uncompressed saves ... OK
* checking files in ‘vignettes’ ... OK
* checking examples ... OK
Examples with CPU or elapsed time > 5s
user system elapsed
computeICn 3.569 1.680 4.936
mcc 4.022 1.021 4.856
* checking for unstated dependencies in ‘tests’ ... OK
* checking tests ...
Running ‘testthat.R’
OK
* checking for unstated dependencies in vignettes ... OK
* checking package vignettes in ‘inst/doc’ ... OK
* checking running R code from vignettes ... SKIPPED
* checking re-building of vignette outputs ... SKIPPED
* checking PDF version of manual ... OK
* DONE
Status: 1 NOTE
See
‘/home/biocbuild/bbs-3.9-bioc/meat/PharmacoGx.Rcheck/00check.log’
for details.
PharmacoGx.Rcheck/00install.out
############################################################################## ############################################################################## ### ### Running command: ### ### /home/biocbuild/bbs-3.9-bioc/R/bin/R CMD INSTALL PharmacoGx ### ############################################################################## ############################################################################## * installing to library ‘/home/biocbuild/bbs-3.9-bioc/R/library’ * installing *source* package ‘PharmacoGx’ ... ** using staged installation ** R ** data ** inst ** byte-compile and prepare package for lazy loading ** help *** installing help indices ** building package indices ** installing vignettes ** testing if installed package can be loaded from temporary location ** testing if installed package can be loaded from final location ** testing if installed package keeps a record of temporary installation path * DONE (PharmacoGx)
PharmacoGx.Rcheck/tests/testthat.Rout
R version 3.6.1 (2019-07-05) -- "Action of the Toes"
Copyright (C) 2019 The R Foundation for Statistical Computing
Platform: x86_64-pc-linux-gnu (64-bit)
R is free software and comes with ABSOLUTELY NO WARRANTY.
You are welcome to redistribute it under certain conditions.
Type 'license()' or 'licence()' for distribution details.
R is a collaborative project with many contributors.
Type 'contributors()' for more information and
'citation()' on how to cite R or R packages in publications.
Type 'demo()' for some demos, 'help()' for on-line help, or
'help.start()' for an HTML browser interface to help.
Type 'q()' to quit R.
> Sys.unsetenv("R_TESTS")
>
> library(testthat)
> library(PharmacoGx)
>
> test_check("PharmacoGx")
[1] NA 3
[1] 1 2 Inf
[1] NA 3
[1] 1 2 Inf
|
| | 0%
|
|======================================================================| 100%
|
| | 0%
|
|======================================================================| 100%
[1] "Model did not converge"
0 1
8 1
[1] "Model did not converge"
0 1
8 1
[1] "Model did not converge"
0 1
8 1
[1] "Model did not converge"
0 1
8 1
[1] "Model did not converge"
0 1
8 1
[1] "Model did not converge"
0 1
8 1
[1] "Model did not converge"
0 1
8 1
[1] "Model did not converge"
0 1
8 1
[1] "Model did not converge"
0 1
8 1
[1] "Model did not converge"
0 1
8 1
[1] "Model did not converge"
0 1
8 1
[1] "Model did not converge"
0 1
8 1
[1] "Model did not converge"
0 1
8 1
[1] "Model did not converge"
0 1
8 1
[1] "Model did not converge"
0 1
8 1
[1] "Model did not converge"
0 1
8 1
[1] "Model did not converge"
0 1
8 1
[1] "Model did not converge"
0 1
8 1
[1] "Model did not converge"
0 1
8 1
[1] "Model did not converge"
0 1
8 1
[1] "Model did not converge"
0 1
8 1
[1] "Model did not converge"
0 1
8 1
[1] "Model did not converge"
0 1
8 1
[1] "Model did not converge"
0 1
8 1
[1] "Model did not converge"
0 1
8 1
[1] "Model did not converge"
0 1
2 7
[1] "Model did not converge"
0 1
2 7
[1] "Model did not converge"
0 1
2 7
[1] "Model did not converge"
0 1
2 7
[1] "Model did not converge"
0 1
2 7
[1] "Model did not converge"
0 1
2 7
[1] "Model did not converge"
0 1
2 7
[1] "Model did not converge"
0 1
2 7
[1] "Model did not converge"
0 1
2 7
[1] "Model did not converge"
0 1
2 7
[1] "Model did not converge"
0 1
2 7
[1] "Model did not converge"
0 1
2 7
[1] "Model did not converge"
0 1
2 7
[1] "Model did not converge"
0 1
2 7
[1] "Model did not converge"
0 1
6 3
[1] "Model did not converge"
0 1
6 3
[1] "Model did not converge"
0 1
6 3
[1] "Model did not converge"
0 1
6 3
[1] "Model did not converge"
0 1
6 3
[1] "Model did not converge"
0 1
6 3
[1] "Model did not converge"
0 1
6 3
[1] "Model did not converge"
0 1
6 3
[1] "Model did not converge"
0 1
6 3
[1] "Model did not converge"
0 1
6 3
[1] "Model did not converge"
0 1
6 3
[1] "Model did not converge"
0 1
6 3
[1] "Model did not converge"
0 1
6 3
[1] "Model did not converge"
0 1
6 3
[1] "Model did not converge"
0 1
6 3
[1] "Model did not converge"
0 1
6 3
[1] "Model did not converge"
0 1
6 3
[1] "Model did not converge"
0 1
6 3
[1] "Model did not converge"
0 1
6 3
[1] "Model did not converge"
0 1
6 3
[1] "Model did not converge"
0 1
6 3
[1] "Model did not converge"
0 1
6 3
[1] "Model did not converge"
0 1
6 3
[1] "Model did not converge"
0 1
6 3
[1] "Model did not converge"
0 1
6 3
[1] "Model did not converge"
0 1
8 1
[1] "Model did not converge"
0 1
8 1
[1] "Model did not converge"
0 1
8 1
[1] "Model did not converge"
0 1
8 1
[1] "Model did not converge"
0 1
8 1
[1] "Model did not converge"
0 1
8 1
[1] "Model did not converge"
0 1
8 1
[1] "Model did not converge"
0 1
8 1
[1] "Model did not converge"
0 1
8 1
[1] "Model did not converge"
0 1
8 1
[1] "Model did not converge"
0 1
8 1
[1] "Model did not converge"
0 1
8 1
[1] "Model did not converge"
0 1
8 1
[1] "Model did not converge"
0 1
8 1
[1] "Model did not converge"
0 1
8 1
[1] "Model did not converge"
0 1
8 1
[1] "Model did not converge"
0 1
8 1
[1] "Model did not converge"
0 1
8 1
[1] "Model did not converge"
0 1
8 1
[1] "Model did not converge"
0 1
8 1
[1] "Model did not converge"
0 1
8 1
[1] "Model did not converge"
0 1
8 1
[1] "Model did not converge"
0 1
8 1
[1] "Model did not converge"
0 1
8 1
[1] "Model did not converge"
0 1
8 1
[1] "Model did not converge"
0 1
3 6
[1] "Model did not converge"
0 1
3 6
[1] "Model did not converge"
0 1
3 6
[1] "Model did not converge"
0 1
3 6
[1] "Model did not converge"
0 1
3 6
[1] "Model did not converge"
0 1
3 6
[1] "Model did not converge"
0 1
3 6
[1] "Model did not converge"
0 1
3 6
[1] "Model did not converge"
0 1
3 6
[1] "Model did not converge"
0 1
3 6
[1] "Model did not converge"
0 1
1 8
[1] "Model did not converge"
0 1
1 8
[1] "Model did not converge"
0 1
1 8
[1] "Model did not converge"
0 1
1 8
[1] "Model did not converge"
0 1
1 8
[1] "Model did not converge"
0 1
1 8
[1] "Model did not converge"
0 1
1 8
[1] "Model did not converge"
0 1
1 8
[1] "Model did not converge"
0 1
1 8
[1] "Model did not converge"
0 1
1 8
[1] "Model did not converge"
0 1
1 8
[1] "Model did not converge"
0 1
1 8
[1] "Model did not converge"
0 1
1 8
[1] "Model did not converge"
0 1
1 8
[1] "Model did not converge"
0 1
1 8
[1] "Model did not converge"
0 1
1 8
[1] "Model did not converge"
0 1
1 8
[1] "Model did not converge"
0 1
1 8
[1] "Model did not converge"
0 1
8 1
[1] "Model did not converge"
0 1
8 1
[1] "Model did not converge"
0 1
8 1
[1] "Model did not converge"
0 1
8 1
[1] "Model did not converge"
0 1
8 1
[1] "Model did not converge"
0 1
8 1
[1] "Model did not converge"
0 1
8 1
[1] "Model did not converge"
0 1
8 1
[1] "Model did not converge"
0 1
8 1
[1] "Model did not converge"
0 1
8 1
[1] "Model did not converge"
0 1
8 1
[1] "Model did not converge"
0 1
8 1
[1] "Model did not converge"
0 1
8 1
[1] "Model did not converge"
0 1
8 1
[1] "Model did not converge"
0 1
8 1
[1] "Model did not converge"
0 1
8 1
[1] "Model did not converge"
0 1
8 1
[1] "Model did not converge"
0 1
8 1
[1] "Model did not converge"
0 1
8 1
[1] "Model did not converge"
0 1
8 1
[1] "Model did not converge"
0 1
1 8
[1] "Model did not converge"
0 1
1 8
[1] "Model did not converge"
0 1
1 8
[1] "Model did not converge"
0 1
1 8
[1] "Model did not converge"
0 1
1 8
[1] "Model did not converge"
0 1
1 8
[1] "Model did not converge"
0 1
1 8
[1] "Model did not converge"
0 1
1 8
[1] "Model did not converge"
0 1
1 8
[1] "Model did not converge"
0 1
1 8
[1] "Model did not converge"
0 1
1 8
[1] "Model did not converge"
0 1
1 8
[1] "Model did not converge"
0 1
1 8
[1] "Model did not converge"
0 1
1 8
[1] "Model did not converge"
0 1
1 8
[1] "Model did not converge"
0 1
1 8
[1] "Model did not converge"
0 1
1 8
[1] "Model did not converge"
0 1
1 8
[1] "Model did not converge"
0 1
7 2
[1] "Model did not converge"
0 1
7 2
[1] "Model did not converge"
0 1
7 2
[1] "Model did not converge"
0 1
7 2
[1] "Model did not converge"
0 1
7 2
[1] "Model did not converge"
0 1
7 2
[1] "Model did not converge"
0 1
7 2
[1] "Model did not converge"
0 1
7 2
[1] "Model did not converge"
0 1
7 2
[1] "Model did not converge"
0 1
7 2
[1] "Model did not converge"
0 1
7 2
[1] "Model did not converge"
0 1
7 2
[1] "Model did not converge"
0 1
7 2
[1] "Model did not converge"
0 1
7 2
[1] "Model did not converge"
0 1
7 2
[1] "Model did not converge"
0 1
7 2
[1] "Model did not converge"
0 1
7 2
[1] "Model did not converge"
0 1
7 2
[1] "Model did not converge"
0 1
7 2
[1] "Model did not converge"
0 1
7 2
[1] "Model did not converge"
0 1
7 2
[1] "Model did not converge"
0 1
7 2
[1] "Model did not converge"
0 1
7 2
[1] "Model did not converge"
0 1
7 2
[1] "Model did not converge"
0 1
7 2
[1] "Model did not converge"
0 1
7 2
[1] "Model did not converge"
0 1
7 2
[1] "Model did not converge"
0 1
7 2
[1] "Model did not converge"
0 1
7 2
[1] "Model did not converge"
0 1
7 2
[1] "Model did not converge"
0 1
7 2
[1] "Model did not converge"
0 1
7 2
[1] "Model did not converge"
0 1
7 2
[1] "Model did not converge"
0 1
7 2
[1] "Model did not converge"
0 1
7 2
[1] "Model did not converge"
0 1
7 2
[1] "Model did not converge"
0 1
7 2
[1] "Model did not converge"
0 1
7 2
[1] "Model did not converge"
0 1
7 2
[1] "Model did not converge"
0 1
7 2
[1] "Model did not converge"
0 1
7 2
[1] "Model did not converge"
0 1
7 2
[1] "Model did not converge"
0 1
7 2
[1] "Model did not converge"
0 1
7 2
[1] "Model did not converge"
0 1
7 2
[1] "Model did not converge"
0 1
7 2
[1] "Model did not converge"
0 1
7 2
[1] "Model did not converge"
0 1
7 2
[1] "Model did not converge"
0 1
7 2
[1] "Model did not converge"
0 1
7 2
[1] "Model did not converge"
0 1
6 3
[1] "Model did not converge"
0 1
6 3
[1] "Model did not converge"
0 1
6 3
[1] "Model did not converge"
0 1
6 3
[1] "Model did not converge"
0 1
6 3
[1] "Model did not converge"
0 1
6 3
[1] "Model did not converge"
0 1
6 3
[1] "Model did not converge"
0 1
6 3
[1] "Model did not converge"
0 1
6 3
[1] "Model did not converge"
0 1
6 3
[1] "Model did not converge"
0 1
6 3
[1] "Model did not converge"
0 1
6 3
[1] "Model did not converge"
0 1
6 3
[1] "Model did not converge"
0 1
6 3
[1] "Model did not converge"
0 1
3 6
[1] "Model did not converge"
0 1
3 6
[1] "Model did not converge"
0 1
3 6
[1] "Model did not converge"
0 1
3 6
[1] "Model did not converge"
0 1
3 6
[1] "Model did not converge"
0 1
3 6
[1] "Model did not converge"
0 1
3 6
[1] "Model did not converge"
0 1
3 6
[1] "Model did not converge"
0 1
3 6
[1] "Model did not converge"
0 1
3 6
[1] "Model did not converge"
0 1
3 6
[1] "Model did not converge"
0 1
3 6
[1] "Model did not converge"
0 1
3 6
[1] "Model did not converge"
0 1
3 6
[1] "Model did not converge"
0 1
4 5
[1] "Model did not converge"
0 1
4 5
[1] "Model did not converge"
0 1
4 5
[1] "Model did not converge"
0 1
4 5
[1] "Model did not converge"
0 1
4 5
[1] "Model did not converge"
0 1
4 5
[1] "Model did not converge"
0 1
4 5
[1] "Model did not converge"
0 1
4 5
[1] "Model did not converge"
0 1
4 5
[1] "Model did not converge"
0 1
4 5
[1] "Model did not converge"
0 1
4 5
[1] "Model did not converge"
0 1
4 5
[1] "Model did not converge"
0 1
4 5
[1] "Model did not converge"
0 1
4 5
[1] "Model did not converge"
0 1
4 5
[1] "Model did not converge"
0 1
4 5
[1] "Model did not converge"
0 1
4 5
[1] "Model did not converge"
0 1
4 5
[1] "Model did not converge"
0 1
5 4
[1] "Model did not converge"
0 1
5 4
[1] "Model did not converge"
0 1
5 4
[1] "Model did not converge"
0 1
5 4
[1] "Model did not converge"
0 1
5 4
[1] "Model did not converge"
0 1
5 4
[1] "Model did not converge"
0 1
5 4
[1] "Model did not converge"
0 1
5 4
[1] "Model did not converge"
0 1
5 4
[1] "Model did not converge"
0 1
5 4
[1] "Model did not converge"
0 1
5 4
[1] "Model did not converge"
0 1
5 4
[1] "Model did not converge"
0 1
5 4
[1] "Model did not converge"
0 1
5 4
[1] "Model did not converge"
0 1
8 1
[1] "Model did not converge"
0 1
8 1
[1] "Model did not converge"
0 1
8 1
[1] "Model did not converge"
0 1
8 1
[1] "Model did not converge"
0 1
8 1
[1] "Model did not converge"
0 1
8 1
[1] "Model did not converge"
0 1
8 1
[1] "Model did not converge"
0 1
8 1
[1] "Model did not converge"
0 1
8 1
[1] "Model did not converge"
0 1
8 1
[1] "Model did not converge"
0 1
8 1
[1] "Model did not converge"
0 1
8 1
[1] "Model did not converge"
0 1
8 1
[1] "Model did not converge"
0 1
8 1
[1] "Model did not converge"
0 1
8 1
[1] "Model did not converge"
0 1
8 1
[1] "Model did not converge"
0 1
8 1
[1] "Model did not converge"
0 1
8 1
[1] "Model did not converge"
0 1
8 1
[1] "Model did not converge"
0 1
8 1
[1] "Model did not converge"
0 1
8 1
[1] "Model did not converge"
0 1
8 1
[1] "Model did not converge"
0 1
8 1
[1] "Model did not converge"
0 1
8 1
[1] "Model did not converge"
0 1
8 1
[1] "Model did not converge"
0 1
8 1
[1] "Model did not converge"
0 1
8 1
[1] "Model did not converge"
0 1
8 1
[1] "Model did not converge"
0 1
8 1
[1] "Model did not converge"
0 1
8 1
[1] "Model did not converge"
0 1
8 1
[1] "Model did not converge"
0 1
8 1
[1] "Model did not converge"
0 1
8 1
[1] "Model did not converge"
0 1
8 1
[1] "Model did not converge"
0 1
8 1
[1] "Model did not converge"
0 1
8 1
[1] "Model did not converge"
0 1
8 1
[1] "Model did not converge"
0 1
8 1
[1] "Model did not converge"
0 1
8 1
[1] "Model did not converge"
0 1
8 1
[1] "Model did not converge"
0 1
8 1
[1] "Model did not converge"
0 1
8 1
[1] "Model did not converge"
0 1
8 1
[1] "Model did not converge"
0 1
8 1
[1] "Model did not converge"
0 1
8 1
[1] "Model did not converge"
0 1
7 2
[1] "Model did not converge"
0 1
7 2
[1] "Model did not converge"
0 1
7 2
[1] "Model did not converge"
0 1
7 2
[1] "Model did not converge"
0 1
7 2
[1] "Model did not converge"
0 1
7 2
[1] "Model did not converge"
0 1
7 2
[1] "Model did not converge"
0 1
7 2
[1] "Model did not converge"
0 1
7 2
[1] "Model did not converge"
0 1
7 2
[1] "Model did not converge"
0 1
7 2
[1] "Model did not converge"
0 1
7 2
[1] "Model did not converge"
0 1
7 2
[1] "Model did not converge"
0 1
7 2
[1] "Model did not converge"
0 1
2 7
[1] "Model did not converge"
0 1
2 7
[1] "Model did not converge"
0 1
2 7
[1] "Model did not converge"
0 1
2 7
[1] "Model did not converge"
0 1
2 7
[1] "Model did not converge"
0 1
2 7
[1] "Model did not converge"
0 1
2 7
[1] "Model did not converge"
0 1
2 7
[1] "Model did not converge"
0 1
2 7
[1] "Model did not converge"
0 1
2 7
[1] "Model did not converge"
0 1
2 7
[1] "Model did not converge"
0 1
2 7
[1] "Model did not converge"
0 1
2 7
[1] "Model did not converge"
0 1
2 7
[1] "Model did not converge"
0 1
2 7
[1] "Model did not converge"
0 1
2 7
[1] "Model did not converge"
0 1
2 7
[1] "Model did not converge"
0 1
2 7
[1] "Model did not converge"
0 1
7 2
[1] "Model did not converge"
0 1
7 2
[1] "Model did not converge"
0 1
7 2
[1] "Model did not converge"
0 1
7 2
[1] "Model did not converge"
0 1
7 2
[1] "Model did not converge"
0 1
7 2
[1] "Model did not converge"
0 1
7 2
[1] "Model did not converge"
0 1
7 2
[1] "Model did not converge"
0 1
7 2
[1] "Model did not converge"
0 1
7 2
[1] "Model did not converge"
0 1
7 2
[1] "Model did not converge"
0 1
7 2
[1] "Model did not converge"
0 1
7 2
[1] "Model did not converge"
0 1
7 2
[1] "Model did not converge"
0 1
7 2
[1] "Model did not converge"
0 1
7 2
[1] "Model did not converge"
0 1
7 2
[1] "Model did not converge"
0 1
7 2
[1] "Model did not converge"
0 1
7 2
[1] "Model did not converge"
0 1
7 2
[1] "Model did not converge"
0 1
7 2
[1] "Model did not converge"
0 1
7 2
[1] "Model did not converge"
0 1
7 2
[1] "Model did not converge"
0 1
7 2
[1] "Model did not converge"
0 1
7 2
[1] "Model did not converge"
0 1
2 7
[1] "Model did not converge"
0 1
2 7
[1] "Model did not converge"
0 1
2 7
[1] "Model did not converge"
0 1
2 7
[1] "Model did not converge"
0 1
2 7
[1] "Model did not converge"
0 1
2 7
[1] "Model did not converge"
0 1
2 7
[1] "Model did not converge"
0 1
2 7
[1] "Model did not converge"
0 1
2 7
[1] "Model did not converge"
0 1
4 5
[1] "Model did not converge"
0 1
4 5
[1] "Model did not converge"
0 1
4 5
[1] "Model did not converge"
0 1
4 5
[1] "Model did not converge"
0 1
4 5
[1] "Model did not converge"
0 1
4 5
[1] "Model did not converge"
0 1
4 5
[1] "Model did not converge"
0 1
4 5
[1] "Model did not converge"
0 1
4 5
[1] "Model did not converge"
0 1
4 5
[1] "Model did not converge"
0 1
4 5
[1] "Model did not converge"
0 1
4 5
[1] "Model did not converge"
0 1
4 5
[1] "Model did not converge"
0 1
4 5
[1] "Model did not converge"
0 1
4 5
[1] "Model did not converge"
0 1
4 5
[1] "Model did not converge"
0 1
4 5
[1] "Model did not converge"
0 1
4 5
[1] "Model did not converge"
0 1
5 4
[1] "Model did not converge"
0 1
5 4
[1] "Model did not converge"
0 1
5 4
[1] "Model did not converge"
0 1
5 4
[1] "Model did not converge"
0 1
5 4
[1] "Model did not converge"
0 1
5 4
[1] "Model did not converge"
0 1
5 4
[1] "Model did not converge"
0 1
5 4
[1] "Model did not converge"
0 1
5 4
[1] "Model did not converge"
0 1
5 4
[1] "Model did not converge"
0 1
5 4
[1] "Model did not converge"
0 1
5 4
[1] "Model did not converge"
0 1
5 4
[1] "Model did not converge"
0 1
5 4
[1] "Model did not converge"
0 1
5 4
[1] "Model did not converge"
0 1
5 4
[1] "Model did not converge"
0 1
5 4
[1] "Model did not converge"
0 1
5 4
[1] "Model did not converge"
0 1
5 4
[1] "Model did not converge"
0 1
5 4
[1] "Model did not converge"
0 1
8 1
[1] "Model did not converge"
0 1
8 1
[1] "Model did not converge"
0 1
8 1
[1] "Model did not converge"
0 1
8 1
[1] "Model did not converge"
0 1
8 1
[1] "Model did not converge"
0 1
8 1
[1] "Model did not converge"
0 1
8 1
[1] "Model did not converge"
0 1
8 1
[1] "Model did not converge"
0 1
8 1
[1] "Model did not converge"
0 1
8 1
[1] "Model did not converge"
0 1
8 1
[1] "Model did not converge"
0 1
8 1
[1] "Model did not converge"
0 1
8 1
[1] "Model did not converge"
0 1
8 1
[1] "Model did not converge"
0 1
8 1
[1] "Model did not converge"
0 1
8 1
[1] "Model did not converge"
0 1
8 1
[1] "Model did not converge"
0 1
8 1
[1] "Model did not converge"
0 1
8 1
[1] "Model did not converge"
0 1
8 1
[1] "Model did not converge"
0 1
1 8
[1] "Model did not converge"
0 1
1 8
[1] "Model did not converge"
0 1
1 8
[1] "Model did not converge"
0 1
1 8
[1] "Model did not converge"
0 1
1 8
[1] "Model did not converge"
0 1
1 8
[1] "Model did not converge"
0 1
1 8
[1] "Model did not converge"
0 1
1 8
[1] "Model did not converge"
0 1
1 8
[1] "Model did not converge"
0 1
1 8
[1] "Model did not converge"
0 1
1 8
[1] "Model did not converge"
0 1
1 8
[1] "Model did not converge"
0 1
1 8
[1] "Model did not converge"
0 1
1 8
[1] "Model did not converge"
0 1
1 8
[1] "Model did not converge"
0 1
1 8
[1] "Model did not converge"
0 1
1 8
[1] "Model did not converge"
0 1
1 8
[1] "Model did not converge"
0 1
1 8
[1] "Model did not converge"
0 1
1 8
[1] "Model did not converge"
0 1
3 6
[1] "Model did not converge"
0 1
3 6
[1] "Model did not converge"
0 1
3 6
[1] "Model did not converge"
0 1
3 6
[1] "Model did not converge"
0 1
3 6
[1] "Model did not converge"
0 1
3 6
[1] "Model did not converge"
0 1
3 6
[1] "Model did not converge"
0 1
3 6
[1] "Model did not converge"
0 1
3 6
[1] "Model did not converge"
0 1
3 6
[1] "Model did not converge"
0 1
3 6
[1] "Model did not converge"
0 1
3 6
[1] "Model did not converge"
0 1
3 6
[1] "Model did not converge"
0 1
3 6
[1] "Model did not converge"
0 1
8 1
[1] "Model did not converge"
0 1
8 1
[1] "Model did not converge"
0 1
8 1
[1] "Model did not converge"
0 1
8 1
[1] "Model did not converge"
0 1
8 1
[1] "Model did not converge"
0 1
8 1
[1] "Model did not converge"
0 1
8 1
[1] "Model did not converge"
0 1
8 1
[1] "Model did not converge"
0 1
8 1
[1] "Model did not converge"
0 1
8 1
[1] "Model did not converge"
0 1
8 1
[1] "Model did not converge"
0 1
8 1
[1] "Model did not converge"
0 1
8 1
[1] "Model did not converge"
0 1
8 1
[1] "Model did not converge"
0 1
8 1
[1] "Model did not converge"
0 1
8 1
[1] "Model did not converge"
0 1
8 1
[1] "Model did not converge"
0 1
8 1
[1] "Model did not converge"
0 1
8 1
[1] "Model did not converge"
0 1
8 1
[1] "Model did not converge"
0 1
6 3
[1] "Model did not converge"
0 1
6 3
[1] "Model did not converge"
0 1
6 3
[1] "Model did not converge"
0 1
6 3
[1] "Model did not converge"
0 1
6 3
[1] "Model did not converge"
0 1
6 3
[1] "Model did not converge"
0 1
6 3
[1] "Model did not converge"
0 1
6 3
[1] "Model did not converge"
0 1
6 3
[1] "Model did not converge"
0 1
6 3
[1] "Model did not converge"
0 1
6 3
[1] "Model did not converge"
0 1
6 3
[1] "Model did not converge"
0 1
6 3
[1] "Model did not converge"
0 1
6 3
[1] "Model did not converge"
0 1
6 3
[1] "Model did not converge"
0 1
6 3
[1] "Model did not converge"
0 1
6 3
[1] "Model did not converge"
0 1
6 3
[1] "Model did not converge"
0 1
6 3
[1] "Model did not converge"
0 1
6 3
[1] "Model did not converge"
0 1
4 5
[1] "Model did not converge"
0 1
4 5
[1] "Model did not converge"
0 1
4 5
[1] "Model did not converge"
0 1
4 5
[1] "Model did not converge"
0 1
5 4
[1] "Model did not converge"
0 1
5 4
[1] "Model did not converge"
0 1
5 4
[1] "Model did not converge"
0 1
5 4
[1] "Model did not converge"
0 1
5 4
[1] "Model did not converge"
0 1
5 4
[1] "Model did not converge"
0 1
5 4
[1] "Model did not converge"
0 1
5 4
[1] "Model did not converge"
0 1
5 4
[1] "Model did not converge"
0 1
5 4
[1] "Model did not converge"
0 1
5 4
[1] "Model did not converge"
0 1
5 4
[1] "Model did not converge"
0 1
5 4
[1] "Model did not converge"
0 1
5 4
[1] "Model did not converge"
0 1
5 4
[1] "Model did not converge"
0 1
5 4
[1] "Model did not converge"
0 1
5 4
[1] "Model did not converge"
0 1
5 4
[1] "Model did not converge"
0 1
5 4
[1] "Model did not converge"
0 1
5 4
[1] "Model did not converge"
0 1
5 4
[1] "Model did not converge"
0 1
5 4
[1] "Model did not converge"
0 1
5 4
[1] "Model did not converge"
0 1
5 4
[1] "Model did not converge"
0 1
5 4
[1] "Model did not converge"
0 1
5 4
[1] "Model did not converge"
0 1
5 4
[1] "Model did not converge"
0 1
5 4
[1] "Model did not converge"
0 1
5 4
[1] "Model did not converge"
0 1
5 4
[1] "Model did not converge"
0 1
5 4
[1] "Model did not converge"
0 1
5 4
[1] "Model did not converge"
0 1
5 4
[1] "Model did not converge"
0 1
5 4
[1] "Model did not converge"
0 1
8 1
[1] "Model did not converge"
0 1
8 1
[1] "Model did not converge"
0 1
8 1
[1] "Model did not converge"
0 1
8 1
[1] "Model did not converge"
0 1
8 1
[1] "Model did not converge"
0 1
8 1
[1] "Model did not converge"
0 1
8 1
[1] "Model did not converge"
0 1
8 1
[1] "Model did not converge"
0 1
8 1
[1] "Model did not converge"
0 1
8 1
[1] "Model did not converge"
0 1
8 1
[1] "Model did not converge"
0 1
8 1
[1] "Model did not converge"
0 1
8 1
[1] "Model did not converge"
0 1
8 1
[1] "Model did not converge"
0 1
8 1
[1] "Model did not converge"
0 1
8 1
[1] "Model did not converge"
0 1
8 1
[1] "Model did not converge"
0 1
8 1
[1] "Model did not converge"
0 1
8 1
[1] "Model did not converge"
0 1
8 1
[1] "Model did not converge"
0 1
8 1
[1] "Model did not converge"
0 1
8 1
[1] "Model did not converge"
0 1
8 1
[1] "Model did not converge"
0 1
8 1
[1] "Model did not converge"
0 1
8 1
[1] "Model did not converge"
0 1
8 1
[1] "Model did not converge"
0 1
8 1
[1] "Model did not converge"
0 1
8 1
[1] "Model did not converge"
0 1
8 1
[1] "Model did not converge"
0 1
8 1
[1] "Model did not converge"
0 1
8 1
[1] "Model did not converge"
0 1
8 1
[1] "Model did not converge"
0 1
8 1
[1] "Model did not converge"
0 1
8 1
[1] "Model did not converge"
0 1
8 1
[1] "Model did not converge"
0 1
8 1
[1] "Model did not converge"
0 1
8 1
[1] "Model did not converge"
0 1
8 1
[1] "Model did not converge"
0 1
8 1
[1] "Model did not converge"
0 1
8 1
[1] "Model did not converge"
0 1
8 1
[1] "Model did not converge"
0 1
8 1
[1] "Model did not converge"
0 1
8 1
[1] "Model did not converge"
0 1
8 1
[1] "Model did not converge"
0 1
8 1
[1] "Model did not converge"
0 1
8 1
[1] "Model did not converge"
0 1
8 1
[1] "Model did not converge"
0 1
8 1
[1] "Model did not converge"
0 1
8 1
[1] "Model did not converge"
0 1
8 1
[1] "Model did not converge"
0 1
7 2
[1] "Model did not converge"
0 1
7 2
[1] "Model did not converge"
0 1
7 2
[1] "Model did not converge"
0 1
7 2
[1] "Model did not converge"
0 1
7 2
[1] "Model did not converge"
0 1
7 2
[1] "Model did not converge"
0 1
7 2
[1] "Model did not converge"
0 1
7 2
[1] "Model did not converge"
0 1
7 2
[1] "Model did not converge"
0 1
7 2
[1] "Model did not converge"
0 1
7 2
[1] "Model did not converge"
0 1
7 2
[1] "Model did not converge"
0 1
7 2
[1] "Model did not converge"
0 1
7 2
[1] "Model did not converge"
0 1
7 2
[1] "Model did not converge"
0 1
7 2
[1] "Model did not converge"
0 1
7 2
[1] "Model did not converge"
0 1
7 2
[1] "Model did not converge"
0 1
7 2
[1] "Model did not converge"
0 1
7 2
[1] "Model did not converge"
0 1
7 2
[1] "Model did not converge"
0 1
7 2
[1] "Model did not converge"
0 1
7 2
[1] "Model did not converge"
0 1
7 2
[1] "Model did not converge"
0 1
7 2
[1] "Model did not converge"
0 1
5 4
[1] "Model did not converge"
0 1
5 4
[1] "Model did not converge"
0 1
5 4
[1] "Model did not converge"
0 1
5 4
[1] "Model did not converge"
0 1
5 4
[1] "Model did not converge"
0 1
5 4
[1] "Model did not converge"
0 1
5 4
[1] "Model did not converge"
0 1
5 4
[1] "Model did not converge"
0 1
5 4
[1] "Model did not converge"
0 1
5 4
[1] "Model did not converge"
0 1
5 4
[1] "Model did not converge"
0 1
5 4
[1] "Model did not converge"
0 1
5 4
[1] "Model did not converge"
0 1
5 4
[1] "Model did not converge"
0 1
5 4
[1] "Model did not converge"
0 1
5 4
[1] "Model did not converge"
0 1
5 4
[1] "Model did not converge"
0 1
5 4
[1] "Model did not converge"
0 1
5 4
[1] "Model did not converge"
0 1
5 4
[1] "Model did not converge"
0 1
8 1
[1] "Model did not converge"
0 1
8 1
[1] "Model did not converge"
0 1
8 1
[1] "Model did not converge"
0 1
8 1
[1] "Model did not converge"
0 1
8 1
[1] "Model did not converge"
0 1
8 1
[1] "Model did not converge"
0 1
8 1
[1] "Model did not converge"
0 1
8 1
[1] "Model did not converge"
0 1
8 1
[1] "Model did not converge"
0 1
8 1
[1] "Model did not converge"
0 1
8 1
[1] "Model did not converge"
0 1
8 1
[1] "Model did not converge"
0 1
8 1
[1] "Model did not converge"
0 1
8 1
[1] "Model did not converge"
0 1
8 1
[1] "Model did not converge"
0 1
8 1
[1] "Model did not converge"
0 1
8 1
[1] "Model did not converge"
0 1
8 1
[1] "Model did not converge"
0 1
8 1
[1] "Model did not converge"
0 1
8 1
[1] "Model did not converge"
0 1
8 1
[1] "Model did not converge"
0 1
8 1
[1] "Model did not converge"
0 1
8 1
[1] "Model did not converge"
0 1
8 1
[1] "Model did not converge"
0 1
8 1
[1] "Model did not converge"
0 1
7 2
[1] "Model did not converge"
0 1
7 2
[1] "Model did not converge"
0 1
7 2
[1] "Model did not converge"
0 1
7 2
[1] "Model did not converge"
0 1
7 2
[1] "Model did not converge"
0 1
7 2
[1] "Model did not converge"
0 1
7 2
[1] "Model did not converge"
0 1
7 2
[1] "Model did not converge"
0 1
7 2
[1] "Model did not converge"
0 1
7 2
[1] "Model did not converge"
0 1
7 2
[1] "Model did not converge"
0 1
7 2
[1] "Model did not converge"
0 1
7 2
[1] "Model did not converge"
0 1
7 2
[1] "Model did not converge"
0 1
7 2
[1] "Model did not converge"
0 1
7 2
[1] "Model did not converge"
0 1
7 2
[1] "Model did not converge"
0 1
7 2
[1] "Model did not converge"
0 1
7 2
[1] "Model did not converge"
0 1
7 2
[1] "Model did not converge"
0 1
7 2
[1] "Model did not converge"
0 1
7 2
[1] "Model did not converge"
0 1
7 2
[1] "Model did not converge"
0 1
7 2
[1] "Model did not converge"
0 1
7 2
|
| | 0%
|
|======================================================================| 100%
[1] 1 1 -1
[1] 0
[1] 0
[,1] [,2] [,3]
lower_bounds 0 0 0
upper_bounds 1 1 -1
|
| | 0%
|
|======================================================================| 100%
|
| | 0%
|
|======================================================================| 100%
|
| | 0%
|
|======================================================================| 100%
|
| | 0%
|
|======================================================================| 100%
|
| | 0%
|
|======================================================================| 100%
|
| | 0%
|
|======================================================================| 100%
|
| | 0%
|
|======================================================================| 100%
══ testthat results ═══════════════════════════════════════════════════════════
[ OK: 132 | SKIPPED: 0 | WARNINGS: 10 | FAILED: 0 ]
>
> proc.time()
user system elapsed
171.227 41.832 1181.125
PharmacoGx.Rcheck/PharmacoGx-Ex.timings
| name | user | system | elapsed | |
| LogLogisticRegression | 2.094 | 0.829 | 2.712 | |
| PharmacoSet | 0.003 | 0.000 | 0.002 | |
| amcc | 1.771 | 0.501 | 2.130 | |
| availablePSets | 0.000 | 0.000 | 0.001 | |
| cellInfo-set | 0.661 | 0.008 | 0.670 | |
| cellInfo | 0.820 | 0.049 | 0.869 | |
| cellNames-set | 0.779 | 0.006 | 0.783 | |
| cellNames | 1.149 | 0.003 | 1.154 | |
| checkPSetStructure | 1.280 | 0.000 | 1.334 | |
| computeABC | 2.144 | 1.203 | 3.013 | |
| computeAUC | 1.599 | 0.897 | 2.273 | |
| computeAmax | 1.720 | 0.827 | 2.326 | |
| computeICn | 3.569 | 1.680 | 4.936 | |
| computeSlope | 0.000 | 0.000 | 0.001 | |
| connectivityScore | 0.055 | 0.003 | 0.057 | |
| cosinePerm | 0.056 | 0.001 | 0.055 | |
| dateCreated | 0.721 | 0.000 | 0.720 | |
| downloadPSet | 0.001 | 0.000 | 0.000 | |
| downloadPertSig | 0 | 0 | 0 | |
| drugDoseResponseCurve | 0 | 0 | 0 | |
| drugInfo-set | 0.691 | 0.000 | 0.692 | |
| drugInfo | 0.943 | 0.000 | 0.994 | |
| drugNames-set | 1.04 | 0.00 | 1.04 | |
| drugNames | 1.111 | 0.000 | 1.111 | |
| drugPerturbationSig | 3.651 | 0.265 | 3.875 | |
| drugSensitivitySig | 1.514 | 0.194 | 1.672 | |
| fNames | 0.712 | 0.009 | 0.720 | |
| featureInfo-set | 0.703 | 0.008 | 0.712 | |
| featureInfo | 0.965 | 0.000 | 0.965 | |
| filterNoisyCurves | 0.843 | 0.102 | 0.914 | |
| gwc | 0.779 | 0.000 | 0.809 | |
| intersectList | 0.000 | 0.000 | 0.001 | |
| intersectPSet | 1.389 | 0.012 | 1.466 | |
| mDataNames | 1.364 | 0.000 | 1.364 | |
| mcc | 4.022 | 1.021 | 4.856 | |
| molecularProfiles-set | 0.735 | 0.001 | 0.736 | |
| molecularProfiles | 1.104 | 0.171 | 1.272 | |
| pSetName | 0.75 | 0.00 | 0.75 | |
| pertNumber-set | 0.729 | 0.000 | 0.729 | |
| pertNumber | 0.75 | 0.00 | 0.75 | |
| phenoInfo-set | 0.775 | 0.000 | 0.775 | |
| phenoInfo | 1.508 | 0.064 | 1.571 | |
| sensNumber-set | 1.040 | 0.008 | 1.049 | |
| sensNumber | 1.298 | 0.062 | 1.468 | |
| sensitivityInfo-set | 0.949 | 0.001 | 0.950 | |
| sensitivityInfo | 1.615 | 0.184 | 1.793 | |
| sensitivityMeasures | 1.059 | 0.009 | 1.069 | |
| sensitivityProfiles-set | 1.084 | 0.000 | 1.084 | |
| sensitivityProfiles | 1.730 | 0.216 | 1.942 | |
| show-PharmacoSet-method | 0.765 | 0.006 | 0.771 | |
| show-PharmacoSig-method | 1.714 | 0.184 | 1.878 | |
| showSigAnnot | 1.642 | 0.198 | 1.807 | |
| subsetTo | 1.524 | 0.029 | 1.554 | |
| summarizeMolecularProfiles | 0.130 | 0.003 | 0.133 | |
| summarizeSensitivityProfiles | 0.082 | 0.000 | 0.083 | |
| symSetDiffList | 0.001 | 0.000 | 0.001 | |
| unionList | 0.000 | 0.000 | 0.001 | |