| Back to Multiple platform build/check report for BioC 3.9 |
|
This page was generated on 2019-03-11 11:26:44 -0400 (Mon, 11 Mar 2019).
| Package 1071/1676 | Hostname | OS / Arch | INSTALL | BUILD | CHECK | BUILD BIN | ||||||
| NGScopy 1.17.1 Xiaobei Zhao
| malbec2 | Linux (Ubuntu 18.04.1 LTS) / x86_64 | OK | OK | OK | |||||||
| tokay2 | Windows Server 2012 R2 Standard / x64 | OK | OK | OK | [ OK ] | |||||||
| merida2 | OS X 10.11.6 El Capitan / x86_64 | OK | OK | OK | OK | |||||||
| celaya2 | OS X 10.11.6 El Capitan / x86_64 | OK | OK | OK | OK |
| Package: NGScopy |
| Version: 1.17.1 |
| Command: rm -rf NGScopy.buildbin-libdir && mkdir NGScopy.buildbin-libdir && C:\Users\biocbuild\bbs-3.9-bioc\R\bin\R.exe CMD INSTALL --merge-multiarch --build --library=NGScopy.buildbin-libdir NGScopy_1.17.1.tar.gz |
| StartedAt: 2019-03-11 08:42:07 -0400 (Mon, 11 Mar 2019) |
| EndedAt: 2019-03-11 08:42:51 -0400 (Mon, 11 Mar 2019) |
| EllapsedTime: 44.0 seconds |
| RetCode: 0 |
| Status: OK |
| PackageFile: NGScopy_1.17.1.zip |
| PackageFileSize: 2.243 MiB |
##############################################################################
##############################################################################
###
### Running command:
###
### rm -rf NGScopy.buildbin-libdir && mkdir NGScopy.buildbin-libdir && C:\Users\biocbuild\bbs-3.9-bioc\R\bin\R.exe CMD INSTALL --merge-multiarch --build --library=NGScopy.buildbin-libdir NGScopy_1.17.1.tar.gz
###
##############################################################################
##############################################################################
install for i386
* installing *source* package 'NGScopy' ...
** R
** inst
** byte-compile and prepare package for lazy loading
** help
*** installing help indices
converting help for package 'NGScopy'
finding HTML links ... done
NGScopy-class html
NGScopy-package html
df.to.gr html
help_segmtype html
ngscopy_cmdline_example html
ngscopy_unittest html
parse_segmtype html
read_regions html
** building package indices
** installing vignettes
** testing if installed package can be loaded
install for x64
* installing *source* package 'NGScopy' ...
** testing if installed package can be loaded
* MD5 sums
packaged installation of 'NGScopy' as NGScopy_1.17.1.zip
* DONE (NGScopy)