| Back to Multiple platform build/check report for BioC 3.9 |
|
This page was generated on 2019-04-09 13:30:19 -0400 (Tue, 09 Apr 2019).
| Package 1083/1703 | Hostname | OS / Arch | INSTALL | BUILD | CHECK | BUILD BIN | ||||||
Xiaobei Zhao
| malbec2 | Linux (Ubuntu 18.04.2 LTS) / x86_64 | ERROR | ERROR | skipped | |||||||
| tokay2 | Windows Server 2012 R2 Standard / x64 | ERROR | ERROR | skipped | skipped | |||||||
| celaya2 | OS X 10.11.6 El Capitan / x86_64 | ERROR | ERROR | skipped | skipped | |||||||
| merida2 | OS X 10.11.6 El Capitan / x86_64 | [ ERROR ] | ERROR | skipped | skipped |
| Package: NGScopy |
| Version: 1.17.2 |
| Command: /Library/Frameworks/R.framework/Versions/Current/Resources/bin/R CMD INSTALL NGScopy |
| StartedAt: 2019-04-08 18:36:26 -0400 (Mon, 08 Apr 2019) |
| EndedAt: 2019-04-08 18:37:16 -0400 (Mon, 08 Apr 2019) |
| EllapsedTime: 49.7 seconds |
| RetCode: 1 |
| Status: ERROR |
##############################################################################
##############################################################################
###
### Running command:
###
### /Library/Frameworks/R.framework/Versions/Current/Resources/bin/R CMD INSTALL NGScopy
###
##############################################################################
##############################################################################
* installing to library ‘/Library/Frameworks/R.framework/Versions/3.6/Resources/library’
* installing *source* package ‘NGScopy’ ...
** R
Error in .install_package_code_files(".", instdir) :
files in '/Users/biocbuild/bbs-3.9-bioc/meat/NGScopy/R' missing from 'Collate' field:
zzz.R
ERROR: unable to collate and parse R files for package ‘NGScopy’
* removing ‘/Library/Frameworks/R.framework/Versions/3.6/Resources/library/NGScopy’
* restoring previous ‘/Library/Frameworks/R.framework/Versions/3.6/Resources/library/NGScopy’