| Back to Multiple platform build/check report for BioC 3.9 | 
 | 
This page was generated on 2019-10-16 12:52:10 -0400 (Wed, 16 Oct 2019).
| Package 1058/1741 | Hostname | OS / Arch | INSTALL | BUILD | CHECK | BUILD BIN | ||||||
| MSstats 3.16.2 Meena Choi 
 | malbec2 | Linux (Ubuntu 18.04.2 LTS) / x86_64 | OK | OK | WARNINGS |  | ||||||
| tokay2 | Windows Server 2012 R2 Standard / x64 | OK | OK | WARNINGS | OK |  | ||||||
| celaya2 | OS X 10.11.6 El Capitan / x86_64 | [ OK ] | OK | WARNINGS | OK |  | 
| Package: MSstats | 
| Version: 3.16.2 | 
| Command: /Library/Frameworks/R.framework/Versions/Current/Resources/bin/R CMD INSTALL MSstats | 
| StartedAt: 2019-10-15 18:42:02 -0400 (Tue, 15 Oct 2019) | 
| EndedAt: 2019-10-15 18:42:29 -0400 (Tue, 15 Oct 2019) | 
| EllapsedTime: 26.7 seconds | 
| RetCode: 0 | 
| Status: OK | 
############################################################################## ############################################################################## ### ### Running command: ### ### /Library/Frameworks/R.framework/Versions/Current/Resources/bin/R CMD INSTALL MSstats ### ############################################################################## ############################################################################## * installing to library ‘/Library/Frameworks/R.framework/Versions/3.6/Resources/library’ * installing *source* package ‘MSstats’ ... ** using staged installation ** R ** data *** moving datasets to lazyload DB ** inst ** byte-compile and prepare package for lazy loading Warning: replacing previous import ‘MASS::select’ by ‘dplyr::select’ when loading ‘MSstats’ ** help *** installing help indices ** building package indices ** installing vignettes ** testing if installed package can be loaded from temporary location Warning: replacing previous import ‘MASS::select’ by ‘dplyr::select’ when loading ‘MSstats’ ** testing if installed package can be loaded from final location Warning: replacing previous import ‘MASS::select’ by ‘dplyr::select’ when loading ‘MSstats’ ** testing if installed package keeps a record of temporary installation path * DONE (MSstats)