| Back to Multiple platform build/check report for BioC 3.9 |
|
This page was generated on 2019-04-09 13:37:40 -0400 (Tue, 09 Apr 2019).
| Package 1030/1703 | Hostname | OS / Arch | INSTALL | BUILD | CHECK | BUILD BIN | ||||||
| MPRAnalyze 1.1.1 Tal Ashuach
| malbec2 | Linux (Ubuntu 18.04.2 LTS) / x86_64 | OK | OK | OK | |||||||
| tokay2 | Windows Server 2012 R2 Standard / x64 | OK | OK | OK | OK | |||||||
| celaya2 | OS X 10.11.6 El Capitan / x86_64 | OK | OK | OK | OK | |||||||
| merida2 | OS X 10.11.6 El Capitan / x86_64 | OK | OK | [ OK ] | OK |
| Package: MPRAnalyze |
| Version: 1.1.1 |
| Command: /Library/Frameworks/R.framework/Versions/Current/Resources/bin/R CMD check --install=check:MPRAnalyze.install-out.txt --library=/Library/Frameworks/R.framework/Versions/Current/Resources/library --no-vignettes --timings MPRAnalyze_1.1.1.tar.gz |
| StartedAt: 2019-04-09 02:21:39 -0400 (Tue, 09 Apr 2019) |
| EndedAt: 2019-04-09 02:25:04 -0400 (Tue, 09 Apr 2019) |
| EllapsedTime: 204.8 seconds |
| RetCode: 0 |
| Status: OK |
| CheckDir: MPRAnalyze.Rcheck |
| Warnings: 0 |
##############################################################################
##############################################################################
###
### Running command:
###
### /Library/Frameworks/R.framework/Versions/Current/Resources/bin/R CMD check --install=check:MPRAnalyze.install-out.txt --library=/Library/Frameworks/R.framework/Versions/Current/Resources/library --no-vignettes --timings MPRAnalyze_1.1.1.tar.gz
###
##############################################################################
##############################################################################
* using log directory ‘/Users/biocbuild/bbs-3.9-bioc/meat/MPRAnalyze.Rcheck’
* using R Under development (unstable) (2018-11-27 r75683)
* using platform: x86_64-apple-darwin15.6.0 (64-bit)
* using session charset: UTF-8
* using option ‘--no-vignettes’
* checking for file ‘MPRAnalyze/DESCRIPTION’ ... OK
* checking extension type ... Package
* this is package ‘MPRAnalyze’ version ‘1.1.1’
* package encoding: UTF-8
* checking package namespace information ... OK
* checking package dependencies ... OK
* checking if this is a source package ... OK
* checking if there is a namespace ... OK
* checking for hidden files and directories ... OK
* checking for portable file names ... OK
* checking for sufficient/correct file permissions ... OK
* checking whether package ‘MPRAnalyze’ can be installed ... OK
* checking installed package size ... OK
* checking package directory ... OK
* checking ‘build’ directory ... OK
* checking DESCRIPTION meta-information ... OK
* checking top-level files ... OK
* checking for left-over files ... OK
* checking index information ... OK
* checking package subdirectories ... OK
* checking R files for non-ASCII characters ... OK
* checking R files for syntax errors ... OK
* checking whether the package can be loaded ... OK
* checking whether the package can be loaded with stated dependencies ... OK
* checking whether the package can be unloaded cleanly ... OK
* checking whether the namespace can be loaded with stated dependencies ... OK
* checking whether the namespace can be unloaded cleanly ... OK
* checking dependencies in R code ... OK
* checking S3 generic/method consistency ... OK
* checking replacement functions ... OK
* checking foreign function calls ... OK
* checking R code for possible problems ... OK
* checking Rd files ... OK
* checking Rd metadata ... OK
* checking Rd cross-references ... OK
* checking for missing documentation entries ... OK
* checking for code/documentation mismatches ... OK
* checking Rd \usage sections ... OK
* checking Rd contents ... OK
* checking for unstated dependencies in examples ... OK
* checking contents of ‘data’ directory ... OK
* checking data for non-ASCII characters ... OK
* checking data for ASCII and uncompressed saves ... OK
* checking files in ‘vignettes’ ... OK
* checking examples ... OK
Examples with CPU or elapsed time > 5s
user system elapsed
getAlpha 11.595 0.206 11.939
analyzeComparative 10.789 0.291 11.189
testLrt 5.669 0.118 5.859
testCoefficient 5.453 0.091 5.593
setModel 5.241 0.081 5.370
* checking for unstated dependencies in vignettes ... OK
* checking package vignettes in ‘inst/doc’ ... OK
* checking running R code from vignettes ... SKIPPED
* checking re-building of vignette outputs ... SKIPPED
* checking PDF version of manual ... OK
* DONE
Status: OK
MPRAnalyze.Rcheck/00install.out
############################################################################## ############################################################################## ### ### Running command: ### ### /Library/Frameworks/R.framework/Versions/Current/Resources/bin/R CMD INSTALL MPRAnalyze ### ############################################################################## ############################################################################## * installing to library ‘/Library/Frameworks/R.framework/Versions/3.6/Resources/library’ * installing *source* package ‘MPRAnalyze’ ... ** R ** data ** byte-compile and prepare package for lazy loading ** help *** installing help indices ** building package indices ** installing vignettes ** testing if installed package can be loaded * DONE (MPRAnalyze)
MPRAnalyze.Rcheck/MPRAnalyze-Ex.timings
| name | user | system | elapsed | |
| MpraObject | 0.026 | 0.002 | 0.028 | |
| analyzeComparative | 10.789 | 0.291 | 11.189 | |
| analyzeQuantification | 4.179 | 0.100 | 4.315 | |
| estimateDepthFactors | 0.013 | 0.000 | 0.013 | |
| extractModelParameters | 2.357 | 0.031 | 2.398 | |
| getAlpha | 11.595 | 0.206 | 11.939 | |
| getDistrParam | 2.565 | 0.075 | 2.664 | |
| getFits_DNA | 2.604 | 0.030 | 2.665 | |
| getFits_RNA | 2.705 | 0.032 | 2.771 | |
| setDepthFactors | 0.01 | 0.00 | 0.01 | |
| setModel | 5.241 | 0.081 | 5.370 | |
| simulateMPRA | 0.118 | 0.020 | 0.138 | |
| testCoefficient | 5.453 | 0.091 | 5.593 | |
| testEmpirical | 4.593 | 0.066 | 4.720 | |
| testLrt | 5.669 | 0.118 | 5.859 | |