| Back to Multiple platform build/check report for BioC 3.9 |
|
This page was generated on 2019-10-16 12:42:32 -0400 (Wed, 16 Oct 2019).
| Package 1048/1741 | Hostname | OS / Arch | INSTALL | BUILD | CHECK | BUILD BIN | ||||||
| MPRAnalyze 1.2.0 Tal Ashuach
| malbec2 | Linux (Ubuntu 18.04.2 LTS) / x86_64 | OK | OK | OK | |||||||
| tokay2 | Windows Server 2012 R2 Standard / x64 | OK | OK | [ OK ] | OK | |||||||
| celaya2 | OS X 10.11.6 El Capitan / x86_64 | OK | OK | OK | OK |
| Package: MPRAnalyze |
| Version: 1.2.0 |
| Command: C:\Users\biocbuild\bbs-3.9-bioc\R\bin\R.exe CMD check --force-multiarch --install=check:MPRAnalyze.install-out.txt --library=C:\Users\biocbuild\bbs-3.9-bioc\R\library --no-vignettes --timings MPRAnalyze_1.2.0.tar.gz |
| StartedAt: 2019-10-16 05:24:06 -0400 (Wed, 16 Oct 2019) |
| EndedAt: 2019-10-16 05:28:31 -0400 (Wed, 16 Oct 2019) |
| EllapsedTime: 265.5 seconds |
| RetCode: 0 |
| Status: OK |
| CheckDir: MPRAnalyze.Rcheck |
| Warnings: 0 |
##############################################################################
##############################################################################
###
### Running command:
###
### C:\Users\biocbuild\bbs-3.9-bioc\R\bin\R.exe CMD check --force-multiarch --install=check:MPRAnalyze.install-out.txt --library=C:\Users\biocbuild\bbs-3.9-bioc\R\library --no-vignettes --timings MPRAnalyze_1.2.0.tar.gz
###
##############################################################################
##############################################################################
* using log directory 'C:/Users/biocbuild/bbs-3.9-bioc/meat/MPRAnalyze.Rcheck'
* using R version 3.6.1 (2019-07-05)
* using platform: x86_64-w64-mingw32 (64-bit)
* using session charset: ISO8859-1
* using option '--no-vignettes'
* checking for file 'MPRAnalyze/DESCRIPTION' ... OK
* checking extension type ... Package
* this is package 'MPRAnalyze' version '1.2.0'
* package encoding: UTF-8
* checking package namespace information ... OK
* checking package dependencies ... OK
* checking if this is a source package ... OK
* checking if there is a namespace ... OK
* checking for hidden files and directories ... OK
* checking for portable file names ... OK
* checking whether package 'MPRAnalyze' can be installed ... OK
* checking installed package size ... OK
* checking package directory ... OK
* checking 'build' directory ... OK
* checking DESCRIPTION meta-information ... OK
* checking top-level files ... OK
* checking for left-over files ... OK
* checking index information ... OK
* checking package subdirectories ... OK
* checking R files for non-ASCII characters ... OK
* checking R files for syntax errors ... OK
* loading checks for arch 'i386'
** checking whether the package can be loaded ... OK
** checking whether the package can be loaded with stated dependencies ... OK
** checking whether the package can be unloaded cleanly ... OK
** checking whether the namespace can be loaded with stated dependencies ... OK
** checking whether the namespace can be unloaded cleanly ... OK
* loading checks for arch 'x64'
** checking whether the package can be loaded ... OK
** checking whether the package can be loaded with stated dependencies ... OK
** checking whether the package can be unloaded cleanly ... OK
** checking whether the namespace can be loaded with stated dependencies ... OK
** checking whether the namespace can be unloaded cleanly ... OK
* checking dependencies in R code ... OK
* checking S3 generic/method consistency ... OK
* checking replacement functions ... OK
* checking foreign function calls ... OK
* checking R code for possible problems ... OK
* checking Rd files ... OK
* checking Rd metadata ... OK
* checking Rd cross-references ... OK
* checking for missing documentation entries ... OK
* checking for code/documentation mismatches ... OK
* checking Rd \usage sections ... OK
* checking Rd contents ... OK
* checking for unstated dependencies in examples ... OK
* checking contents of 'data' directory ... OK
* checking data for non-ASCII characters ... OK
* checking data for ASCII and uncompressed saves ... OK
* checking files in 'vignettes' ... OK
* checking examples ...
** running examples for arch 'i386' ... OK
Examples with CPU or elapsed time > 5s
user system elapsed
getAlpha 9.49 0.01 9.50
analyzeComparative 7.19 0.17 7.36
** running examples for arch 'x64' ... OK
Examples with CPU or elapsed time > 5s
user system elapsed
analyzeComparative 10.22 0.06 10.28
getAlpha 8.44 0.00 8.44
* checking for unstated dependencies in vignettes ... OK
* checking package vignettes in 'inst/doc' ... OK
* checking running R code from vignettes ... SKIPPED
* checking re-building of vignette outputs ... SKIPPED
* checking PDF version of manual ... OK
* DONE
Status: OK
MPRAnalyze.Rcheck/00install.out
##############################################################################
##############################################################################
###
### Running command:
###
### C:\cygwin\bin\curl.exe -O https://malbec2.bioconductor.org/BBS/3.9/bioc/src/contrib/MPRAnalyze_1.2.0.tar.gz && rm -rf MPRAnalyze.buildbin-libdir && mkdir MPRAnalyze.buildbin-libdir && C:\Users\biocbuild\bbs-3.9-bioc\R\bin\R.exe CMD INSTALL --merge-multiarch --build --library=MPRAnalyze.buildbin-libdir MPRAnalyze_1.2.0.tar.gz && C:\Users\biocbuild\bbs-3.9-bioc\R\bin\R.exe CMD INSTALL MPRAnalyze_1.2.0.zip && rm MPRAnalyze_1.2.0.tar.gz MPRAnalyze_1.2.0.zip
###
##############################################################################
##############################################################################
% Total % Received % Xferd Average Speed Time Time Time Current
Dload Upload Total Spent Left Speed
0 0 0 0 0 0 0 0 --:--:-- --:--:-- --:--:-- 0
100 47270 100 47270 0 0 821k 0 --:--:-- --:--:-- --:--:-- 923k
install for i386
* installing *source* package 'MPRAnalyze' ...
** using staged installation
** R
** data
** byte-compile and prepare package for lazy loading
** help
*** installing help indices
converting help for package 'MPRAnalyze'
finding HTML links ... done
ChrEpi html
MpraObject html
analyzeComparative html
analyzeQuantification html
estimateDepthFactors html
extractModelParameters html
getAlpha html
getDistrParam html
getFits_DNA html
getFits_RNA html
setDepthFactors html
setModel html
simulateMPRA html
testCoefficient html
testEmpirical html
testLrt html
** building package indices
** installing vignettes
** testing if installed package can be loaded from temporary location
** testing if installed package can be loaded from final location
** testing if installed package keeps a record of temporary installation path
install for x64
* installing *source* package 'MPRAnalyze' ...
** testing if installed package can be loaded
* MD5 sums
packaged installation of 'MPRAnalyze' as MPRAnalyze_1.2.0.zip
* DONE (MPRAnalyze)
* installing to library 'C:/Users/biocbuild/bbs-3.9-bioc/R/library'
package 'MPRAnalyze' successfully unpacked and MD5 sums checked
|
MPRAnalyze.Rcheck/examples_i386/MPRAnalyze-Ex.timings
|
MPRAnalyze.Rcheck/examples_x64/MPRAnalyze-Ex.timings
|