| Back to Multiple platform build/check report for BioC 3.9 |
|
This page was generated on 2019-10-16 12:33:43 -0400 (Wed, 16 Oct 2019).
| Package 758/1741 | Hostname | OS / Arch | INSTALL | BUILD | CHECK | BUILD BIN | ||||||
| HilbertCurve 1.14.0 Zuguang Gu
| malbec2 | Linux (Ubuntu 18.04.2 LTS) / x86_64 | OK | OK | OK | |||||||
| tokay2 | Windows Server 2012 R2 Standard / x64 | [ OK ] | OK | OK | OK | |||||||
| celaya2 | OS X 10.11.6 El Capitan / x86_64 | OK | OK | OK | OK |
| Package: HilbertCurve |
| Version: 1.14.0 |
| Command: C:\cygwin\bin\curl.exe -O https://malbec2.bioconductor.org/BBS/3.9/bioc/src/contrib/HilbertCurve_1.14.0.tar.gz && rm -rf HilbertCurve.buildbin-libdir && mkdir HilbertCurve.buildbin-libdir && C:\Users\biocbuild\bbs-3.9-bioc\R\bin\R.exe CMD INSTALL --merge-multiarch --build --library=HilbertCurve.buildbin-libdir HilbertCurve_1.14.0.tar.gz && C:\Users\biocbuild\bbs-3.9-bioc\R\bin\R.exe CMD INSTALL HilbertCurve_1.14.0.zip && rm HilbertCurve_1.14.0.tar.gz HilbertCurve_1.14.0.zip |
| StartedAt: 2019-10-15 19:59:56 -0400 (Tue, 15 Oct 2019) |
| EndedAt: 2019-10-15 20:00:53 -0400 (Tue, 15 Oct 2019) |
| EllapsedTime: 57.5 seconds |
| RetCode: 0 |
| Status: OK |
##############################################################################
##############################################################################
###
### Running command:
###
### C:\cygwin\bin\curl.exe -O https://malbec2.bioconductor.org/BBS/3.9/bioc/src/contrib/HilbertCurve_1.14.0.tar.gz && rm -rf HilbertCurve.buildbin-libdir && mkdir HilbertCurve.buildbin-libdir && C:\Users\biocbuild\bbs-3.9-bioc\R\bin\R.exe CMD INSTALL --merge-multiarch --build --library=HilbertCurve.buildbin-libdir HilbertCurve_1.14.0.tar.gz && C:\Users\biocbuild\bbs-3.9-bioc\R\bin\R.exe CMD INSTALL HilbertCurve_1.14.0.zip && rm HilbertCurve_1.14.0.tar.gz HilbertCurve_1.14.0.zip
###
##############################################################################
##############################################################################
% Total % Received % Xferd Average Speed Time Time Time Current
Dload Upload Total Spent Left Speed
0 0 0 0 0 0 0 0 --:--:-- --:--:-- --:--:-- 0
100 4234k 100 4234k 0 0 40.1M 0 --:--:-- --:--:-- --:--:-- 43.0M
install for i386
* installing *source* package 'HilbertCurve' ...
** using staged installation
** R
** inst
** byte-compile and prepare package for lazy loading
** help
*** installing help indices
converting help for package 'HilbertCurve'
finding HTML links ... done
GenomicHilbertCurve-class html
GenomicHilbertCurve html
HilbertCurve-class html
HilbertCurve html
default_overlay html
hc_centered_text-HilbertCurve-method html
hc_layer-GenomicHilbertCurve-method html
hc_layer-HilbertCurve-method html
hc_layer-dispatch html
hc_level-HilbertCurve-method html
hc_map-GenomicHilbertCurve-method html
hc_normal_points-HilbertCurve-method html
hc_offset-HilbertCurve-method html
hc_png-HilbertCurve-method html
hc_points-GenomicHilbertCurve-method html
hc_points-HilbertCurve-method html
hc_points-dispatch html
hc_polygon-GenomicHilbertCurve-method html
hc_polygon-HilbertCurve-method html
hc_polygon-dispatch html
hc_rect-GenomicHilbertCurve-method html
hc_rect-HilbertCurve-method html
hc_rect-dispatch html
hc_segmented_points-HilbertCurve-method
html
hc_segments-GenomicHilbertCurve-method
html
hc_segments-HilbertCurve-method html
hc_segments-dispatch html
hc_text-GenomicHilbertCurve-method html
hc_text-HilbertCurve-method html
hc_text-dispatch html
is_white html
show-HilbertCurve-method html
unzoom-HilbertCurve-method html
zoom-HilbertCurve-method html
** building package indices
** installing vignettes
'HilbertCurve.Rmd'
** testing if installed package can be loaded from temporary location
** testing if installed package can be loaded from final location
** testing if installed package keeps a record of temporary installation path
install for x64
* installing *source* package 'HilbertCurve' ...
** testing if installed package can be loaded
* MD5 sums
packaged installation of 'HilbertCurve' as HilbertCurve_1.14.0.zip
* DONE (HilbertCurve)
* installing to library 'C:/Users/biocbuild/bbs-3.9-bioc/R/library'
package 'HilbertCurve' successfully unpacked and MD5 sums checked