| Back to Multiple platform build/check report for BioC 3.9 |
|
This page was generated on 2019-10-16 12:07:12 -0400 (Wed, 16 Oct 2019).
| Package 758/1741 | Hostname | OS / Arch | INSTALL | BUILD | CHECK | BUILD BIN | ||||||
| HilbertCurve 1.14.0 Zuguang Gu
| malbec2 | Linux (Ubuntu 18.04.2 LTS) / x86_64 | OK | OK | [ OK ] | |||||||
| tokay2 | Windows Server 2012 R2 Standard / x64 | OK | OK | OK | OK | |||||||
| celaya2 | OS X 10.11.6 El Capitan / x86_64 | OK | OK | OK | OK |
| Package: HilbertCurve |
| Version: 1.14.0 |
| Command: /home/biocbuild/bbs-3.9-bioc/R/bin/R CMD check --install=check:HilbertCurve.install-out.txt --library=/home/biocbuild/bbs-3.9-bioc/R/library --no-vignettes --timings HilbertCurve_1.14.0.tar.gz |
| StartedAt: 2019-10-16 02:21:07 -0400 (Wed, 16 Oct 2019) |
| EndedAt: 2019-10-16 02:23:39 -0400 (Wed, 16 Oct 2019) |
| EllapsedTime: 151.4 seconds |
| RetCode: 0 |
| Status: OK |
| CheckDir: HilbertCurve.Rcheck |
| Warnings: 0 |
##############################################################################
##############################################################################
###
### Running command:
###
### /home/biocbuild/bbs-3.9-bioc/R/bin/R CMD check --install=check:HilbertCurve.install-out.txt --library=/home/biocbuild/bbs-3.9-bioc/R/library --no-vignettes --timings HilbertCurve_1.14.0.tar.gz
###
##############################################################################
##############################################################################
* using log directory ‘/home/biocbuild/bbs-3.9-bioc/meat/HilbertCurve.Rcheck’
* using R version 3.6.1 (2019-07-05)
* using platform: x86_64-pc-linux-gnu (64-bit)
* using session charset: UTF-8
* using option ‘--no-vignettes’
* checking for file ‘HilbertCurve/DESCRIPTION’ ... OK
* checking extension type ... Package
* this is package ‘HilbertCurve’ version ‘1.14.0’
* checking package namespace information ... OK
* checking package dependencies ... OK
* checking if this is a source package ... OK
* checking if there is a namespace ... OK
* checking for hidden files and directories ... OK
* checking for portable file names ... OK
* checking for sufficient/correct file permissions ... OK
* checking whether package ‘HilbertCurve’ can be installed ... OK
* checking installed package size ... OK
* checking package directory ... OK
* checking ‘build’ directory ... OK
* checking DESCRIPTION meta-information ... OK
* checking top-level files ... OK
* checking for left-over files ... OK
* checking index information ... OK
* checking package subdirectories ... OK
* checking R files for non-ASCII characters ... OK
* checking R files for syntax errors ... OK
* checking whether the package can be loaded ... OK
* checking whether the package can be loaded with stated dependencies ... OK
* checking whether the package can be unloaded cleanly ... OK
* checking whether the namespace can be loaded with stated dependencies ... OK
* checking whether the namespace can be unloaded cleanly ... OK
* checking dependencies in R code ... OK
* checking S3 generic/method consistency ... OK
* checking replacement functions ... OK
* checking foreign function calls ... OK
* checking R code for possible problems ... OK
* checking Rd files ... OK
* checking Rd metadata ... OK
* checking Rd cross-references ... OK
* checking for missing documentation entries ... OK
* checking for code/documentation mismatches ... OK
* checking Rd \usage sections ... OK
* checking Rd contents ... OK
* checking for unstated dependencies in examples ... OK
* checking installed files from ‘inst/doc’ ... OK
* checking files in ‘vignettes’ ... OK
* checking examples ... OK
Examples with CPU or elapsed time > 5s
user system elapsed
hc_layer-HilbertCurve-method 11.416 0.148 11.566
hc_layer-GenomicHilbertCurve-method 10.817 0.160 11.013
GenomicHilbertCurve 9.647 0.052 10.460
* checking for unstated dependencies in ‘tests’ ... OK
* checking tests ...
Running ‘test-all.R’
OK
* checking for unstated dependencies in vignettes ... OK
* checking package vignettes in ‘inst/doc’ ... OK
* checking running R code from vignettes ... SKIPPED
* checking re-building of vignette outputs ... SKIPPED
* checking PDF version of manual ... OK
* DONE
Status: OK
HilbertCurve.Rcheck/00install.out
############################################################################## ############################################################################## ### ### Running command: ### ### /home/biocbuild/bbs-3.9-bioc/R/bin/R CMD INSTALL HilbertCurve ### ############################################################################## ############################################################################## * installing to library ‘/home/biocbuild/bbs-3.9-bioc/R/library’ * installing *source* package ‘HilbertCurve’ ... ** using staged installation ** R ** inst ** byte-compile and prepare package for lazy loading ** help *** installing help indices ** building package indices ** installing vignettes ‘HilbertCurve.Rmd’ ** testing if installed package can be loaded from temporary location ** testing if installed package can be loaded from final location ** testing if installed package keeps a record of temporary installation path * DONE (HilbertCurve)
HilbertCurve.Rcheck/tests/test-all.Rout
R version 3.6.1 (2019-07-05) -- "Action of the Toes"
Copyright (C) 2019 The R Foundation for Statistical Computing
Platform: x86_64-pc-linux-gnu (64-bit)
R is free software and comes with ABSOLUTELY NO WARRANTY.
You are welcome to redistribute it under certain conditions.
Type 'license()' or 'licence()' for distribution details.
R is a collaborative project with many contributors.
Type 'contributors()' for more information and
'citation()' on how to cite R or R packages in publications.
Type 'demo()' for some demos, 'help()' for on-line help, or
'help.start()' for an HTML browser interface to help.
Type 'q()' to quit R.
> library(testthat)
> suppressWarnings(suppressPackageStartupMessages(library(HilbertCurve)))
>
> test_check("HilbertCurve")
══ testthat results ═══════════════════════════════════════════════════════════
[ OK: 8 | SKIPPED: 0 | WARNINGS: 0 | FAILED: 0 ]
>
> proc.time()
user system elapsed
4.665 0.182 4.833
HilbertCurve.Rcheck/HilbertCurve-Ex.timings
| name | user | system | elapsed | |
| GenomicHilbertCurve-class | 0 | 0 | 0 | |
| GenomicHilbertCurve | 9.647 | 0.052 | 10.460 | |
| HilbertCurve-class | 0.001 | 0.000 | 0.000 | |
| HilbertCurve | 0.504 | 0.032 | 0.536 | |
| default_overlay | 0.001 | 0.000 | 0.000 | |
| hc_centered_text-HilbertCurve-method | 0.148 | 0.004 | 0.154 | |
| hc_layer-GenomicHilbertCurve-method | 10.817 | 0.160 | 11.013 | |
| hc_layer-HilbertCurve-method | 11.416 | 0.148 | 11.566 | |
| hc_layer-dispatch | 0.000 | 0.000 | 0.001 | |
| hc_level-HilbertCurve-method | 0.024 | 0.000 | 0.025 | |
| hc_map-GenomicHilbertCurve-method | 3.352 | 0.012 | 3.364 | |
| hc_normal_points-HilbertCurve-method | 0 | 0 | 0 | |
| hc_offset-HilbertCurve-method | 0.018 | 0.004 | 0.021 | |
| hc_png-HilbertCurve-method | 3.866 | 0.032 | 3.898 | |
| hc_points-GenomicHilbertCurve-method | 0.304 | 0.000 | 0.303 | |
| hc_points-HilbertCurve-method | 0.817 | 0.012 | 0.900 | |
| hc_points-dispatch | 0 | 0 | 0 | |
| hc_polygon-GenomicHilbertCurve-method | 0.568 | 0.000 | 0.568 | |
| hc_polygon-HilbertCurve-method | 0.133 | 0.004 | 0.137 | |
| hc_polygon-dispatch | 0 | 0 | 0 | |
| hc_rect-GenomicHilbertCurve-method | 0.389 | 0.000 | 0.389 | |
| hc_rect-HilbertCurve-method | 0.114 | 0.000 | 0.114 | |
| hc_rect-dispatch | 0.001 | 0.000 | 0.000 | |
| hc_segmented_points-HilbertCurve-method | 0.001 | 0.000 | 0.000 | |
| hc_segments-GenomicHilbertCurve-method | 0.686 | 0.000 | 0.686 | |
| hc_segments-HilbertCurve-method | 0.154 | 0.000 | 0.154 | |
| hc_segments-dispatch | 0 | 0 | 0 | |
| hc_text-GenomicHilbertCurve-method | 0.338 | 0.000 | 0.338 | |
| hc_text-HilbertCurve-method | 0.093 | 0.004 | 0.097 | |
| hc_text-dispatch | 0 | 0 | 0 | |
| is_white | 0.001 | 0.000 | 0.000 | |
| show-HilbertCurve-method | 0.012 | 0.000 | 0.012 | |
| unzoom-HilbertCurve-method | 0.011 | 0.000 | 0.011 | |
| zoom-HilbertCurve-method | 0.012 | 0.000 | 0.011 | |