| Back to Multiple platform build/check report for BioC 3.9 |
|
This page was generated on 2019-04-08 12:34:00 -0400 (Mon, 08 Apr 2019).
| Package 535/1703 | Hostname | OS / Arch | INSTALL | BUILD | CHECK | BUILD BIN | ||||||
| FELLA 1.3.1 Sergio Picart-Armada
| malbec2 | Linux (Ubuntu 18.04.2 LTS) / x86_64 | OK | ERROR | skipped | |||||||
| tokay2 | Windows Server 2012 R2 Standard / x64 | OK | OK | OK | OK | |||||||
| celaya2 | OS X 10.11.6 El Capitan / x86_64 | OK | OK | OK | OK | |||||||
| merida2 | OS X 10.11.6 El Capitan / x86_64 | OK | OK | [ OK ] | OK |
| Package: FELLA |
| Version: 1.3.1 |
| Command: /Library/Frameworks/R.framework/Versions/Current/Resources/bin/R CMD check --install=check:FELLA.install-out.txt --library=/Library/Frameworks/R.framework/Versions/Current/Resources/library --no-vignettes --timings FELLA_1.3.1.tar.gz |
| StartedAt: 2019-04-08 00:54:53 -0400 (Mon, 08 Apr 2019) |
| EndedAt: 2019-04-08 00:58:14 -0400 (Mon, 08 Apr 2019) |
| EllapsedTime: 201.1 seconds |
| RetCode: 0 |
| Status: OK |
| CheckDir: FELLA.Rcheck |
| Warnings: 0 |
############################################################################## ############################################################################## ### ### Running command: ### ### /Library/Frameworks/R.framework/Versions/Current/Resources/bin/R CMD check --install=check:FELLA.install-out.txt --library=/Library/Frameworks/R.framework/Versions/Current/Resources/library --no-vignettes --timings FELLA_1.3.1.tar.gz ### ############################################################################## ############################################################################## * using log directory ‘/Users/biocbuild/bbs-3.9-bioc/meat/FELLA.Rcheck’ * using R Under development (unstable) (2018-11-27 r75683) * using platform: x86_64-apple-darwin15.6.0 (64-bit) * using session charset: UTF-8 * using option ‘--no-vignettes’ * checking for file ‘FELLA/DESCRIPTION’ ... OK * checking extension type ... Package * this is package ‘FELLA’ version ‘1.3.1’ * checking package namespace information ... OK * checking package dependencies ... OK * checking if this is a source package ... OK * checking if there is a namespace ... OK * checking for hidden files and directories ... OK * checking for portable file names ... OK * checking for sufficient/correct file permissions ... OK * checking whether package ‘FELLA’ can be installed ... OK * checking installed package size ... OK * checking package directory ... OK * checking ‘build’ directory ... OK * checking DESCRIPTION meta-information ... OK * checking top-level files ... OK * checking for left-over files ... OK * checking index information ... OK * checking package subdirectories ... OK * checking R files for non-ASCII characters ... OK * checking R files for syntax errors ... OK * checking whether the package can be loaded ... OK * checking whether the package can be loaded with stated dependencies ... OK * checking whether the package can be unloaded cleanly ... OK * checking whether the namespace can be loaded with stated dependencies ... OK * checking whether the namespace can be unloaded cleanly ... OK * checking dependencies in R code ... OK * checking S3 generic/method consistency ... OK * checking replacement functions ... OK * checking foreign function calls ... OK * checking R code for possible problems ... OK * checking Rd files ... OK * checking Rd metadata ... OK * checking Rd cross-references ... OK * checking for missing documentation entries ... OK * checking for code/documentation mismatches ... OK * checking Rd \usage sections ... OK * checking Rd contents ... OK * checking for unstated dependencies in examples ... OK * checking contents of ‘data’ directory ... OK * checking data for non-ASCII characters ... OK * checking data for ASCII and uncompressed saves ... OK * checking sizes of PDF files under ‘inst/doc’ ... OK * checking files in ‘vignettes’ ... OK * checking examples ... OK * checking for unstated dependencies in ‘tests’ ... OK * checking tests ... Running ‘testthat.R’ OK * checking for unstated dependencies in vignettes ... OK * checking package vignettes in ‘inst/doc’ ... OK * checking running R code from vignettes ... SKIPPED * checking re-building of vignette outputs ... SKIPPED * checking PDF version of manual ... OK * DONE Status: OK
FELLA.Rcheck/00install.out
############################################################################## ############################################################################## ### ### Running command: ### ### /Library/Frameworks/R.framework/Versions/Current/Resources/bin/R CMD INSTALL FELLA ### ############################################################################## ############################################################################## * installing to library ‘/Library/Frameworks/R.framework/Versions/3.6/Resources/library’ * installing *source* package ‘FELLA’ ... ** R ** data ** inst ** byte-compile and prepare package for lazy loading ** help *** installing help indices ** building package indices ** installing vignettes ** testing if installed package can be loaded * DONE (FELLA)
FELLA.Rcheck/tests/testthat.Rout
R Under development (unstable) (2018-11-27 r75683) -- "Unsuffered Consequences"
Copyright (C) 2018 The R Foundation for Statistical Computing
Platform: x86_64-apple-darwin15.6.0 (64-bit)
R is free software and comes with ABSOLUTELY NO WARRANTY.
You are welcome to redistribute it under certain conditions.
Type 'license()' or 'licence()' for distribution details.
R is a collaborative project with many contributors.
Type 'contributors()' for more information and
'citation()' on how to cite R or R packages in publications.
Type 'demo()' for some demos, 'help()' for on-line help, or
'help.start()' for an HTML browser interface to help.
Type 'q()' to quit R.
> library(testthat)
> library(FELLA)
>
> test_check("FELLA")
|
| | 0%
|
|============== | 20%
|
|============================ | 40%
|
|========================================== | 60%
|
|======================================================== | 80%
|
|======================================================================| 100%
|
| | 0%
|
|======= | 10%
|
|============== | 20%
|
|===================== | 30%
|
|============================ | 40%
|
|=================================== | 50%
|
|========================================== | 60%
|
|================================================= | 70%
|
|======================================================== | 80%
|
|=============================================================== | 90%
|
|======================================================================| 100%
|
| | 0%
|
|======= | 10%
|
|============== | 20%
|
|===================== | 30%
|
|============================ | 40%
|
|=================================== | 50%
|
|========================================== | 60%
|
|================================================= | 70%
|
|======================================================== | 80%
|
|=============================================================== | 90%
|
|======================================================================| 100%
|
| | 0%
|
|======= | 10%
|
|============== | 20%
|
|===================== | 30%
|
|============================ | 40%
|
|=================================== | 50%
|
|========================================== | 60%
|
|================================================= | 70%
|
|======================================================== | 80%
|
|=============================================================== | 90%
|
|======================================================================| 100%
══ testthat results ═══════════════════════════════════════════════════════════
OK: 168 SKIPPED: 0 FAILED: 0
>
> proc.time()
user system elapsed
22.272 3.739 55.408
FELLA.Rcheck/FELLA-Ex.timings
| name | user | system | elapsed | |
| FELLA | 0.477 | 0.052 | 0.549 | |
| FELLA.sample | 0.021 | 0.001 | 0.024 | |
| checkArguments | 0.003 | 0.000 | 0.003 | |
| data-funs | 3.227 | 0.154 | 3.420 | |
| enrich-funs | 3.366 | 0.125 | 3.518 | |
| export-funs | 0.266 | 0.006 | 0.273 | |
| getBackground | 2.187 | 0.042 | 2.240 | |
| getCom | 0.019 | 0.002 | 0.021 | |
| getExcluded | 0.023 | 0.002 | 0.024 | |
| getGraph | 0.018 | 0.001 | 0.020 | |
| getInfo | 0.019 | 0.002 | 0.020 | |
| getInput | 0.023 | 0.002 | 0.025 | |
| getMatrix | 0.021 | 0.001 | 0.022 | |
| getName | 0.018 | 0.001 | 0.020 | |
| getPscores | 0.060 | 0.008 | 0.067 | |
| getPvaluesSize | 0.030 | 0.002 | 0.032 | |
| getStatus | 0.019 | 0.001 | 0.020 | |
| getSums | 0.355 | 0.008 | 0.364 | |
| getValid | 0.039 | 0.003 | 0.043 | |
| infere.con2ec | 0.004 | 0.001 | 0.004 | |
| input.sample | 0.002 | 0.001 | 0.003 | |
| is.FELLA.DATA | 0.018 | 0.001 | 0.018 | |
| is.FELLA.USER | 0.038 | 0.003 | 0.040 | |
| largestcc | 0.022 | 0.001 | 0.023 | |
| launchApp | 0 | 0 | 0 | |
| listApprox | 0 | 0 | 0 | |
| listCategories | 0.000 | 0.000 | 0.001 | |
| listInternalDatabases | 0.001 | 0.000 | 0.001 | |
| listMethods | 0.001 | 0.000 | 0.001 | |
| mytriangle | 0.022 | 0.001 | 0.022 | |
| plotBipartite | 0.084 | 0.003 | 0.090 | |
| plotLegend | 0.036 | 0.002 | 0.038 | |
| sanitise | 0.001 | 0.001 | 0.001 | |