| Back to Multiple platform build/check report for BioC 3.9 |
|
This page was generated on 2019-09-17 13:21:41 -0400 (Tue, 17 Sep 2019).
| Package 544/1741 | Hostname | OS / Arch | INSTALL | BUILD | CHECK | BUILD BIN | ||||||
| FELLA 1.4.1 Sergio Picart-Armada
| malbec2 | Linux (Ubuntu 18.04.2 LTS) / x86_64 | OK | OK | OK | |||||||
| tokay2 | Windows Server 2012 R2 Standard / x64 | OK | OK | OK | OK | |||||||
| celaya2 | OS X 10.11.6 El Capitan / x86_64 | OK | OK | [ OK ] | OK |
| Package: FELLA |
| Version: 1.4.1 |
| Command: /Library/Frameworks/R.framework/Versions/Current/Resources/bin/R CMD check --install=check:FELLA.install-out.txt --library=/Library/Frameworks/R.framework/Versions/Current/Resources/library --no-vignettes --timings FELLA_1.4.1.tar.gz |
| StartedAt: 2019-09-17 02:34:09 -0400 (Tue, 17 Sep 2019) |
| EndedAt: 2019-09-17 02:38:09 -0400 (Tue, 17 Sep 2019) |
| EllapsedTime: 240.5 seconds |
| RetCode: 0 |
| Status: OK |
| CheckDir: FELLA.Rcheck |
| Warnings: 0 |
############################################################################## ############################################################################## ### ### Running command: ### ### /Library/Frameworks/R.framework/Versions/Current/Resources/bin/R CMD check --install=check:FELLA.install-out.txt --library=/Library/Frameworks/R.framework/Versions/Current/Resources/library --no-vignettes --timings FELLA_1.4.1.tar.gz ### ############################################################################## ############################################################################## * using log directory ‘/Users/biocbuild/bbs-3.9-bioc/meat/FELLA.Rcheck’ * using R version 3.6.1 (2019-07-05) * using platform: x86_64-apple-darwin15.6.0 (64-bit) * using session charset: UTF-8 * using option ‘--no-vignettes’ * checking for file ‘FELLA/DESCRIPTION’ ... OK * checking extension type ... Package * this is package ‘FELLA’ version ‘1.4.1’ * checking package namespace information ... OK * checking package dependencies ... OK * checking if this is a source package ... OK * checking if there is a namespace ... OK * checking for hidden files and directories ... OK * checking for portable file names ... OK * checking for sufficient/correct file permissions ... OK * checking whether package ‘FELLA’ can be installed ... OK * checking installed package size ... OK * checking package directory ... OK * checking ‘build’ directory ... OK * checking DESCRIPTION meta-information ... OK * checking top-level files ... OK * checking for left-over files ... OK * checking index information ... OK * checking package subdirectories ... OK * checking R files for non-ASCII characters ... OK * checking R files for syntax errors ... OK * checking whether the package can be loaded ... OK * checking whether the package can be loaded with stated dependencies ... OK * checking whether the package can be unloaded cleanly ... OK * checking whether the namespace can be loaded with stated dependencies ... OK * checking whether the namespace can be unloaded cleanly ... OK * checking dependencies in R code ... OK * checking S3 generic/method consistency ... OK * checking replacement functions ... OK * checking foreign function calls ... OK * checking R code for possible problems ... OK * checking Rd files ... OK * checking Rd metadata ... OK * checking Rd cross-references ... OK * checking for missing documentation entries ... OK * checking for code/documentation mismatches ... OK * checking Rd \usage sections ... OK * checking Rd contents ... OK * checking for unstated dependencies in examples ... OK * checking contents of ‘data’ directory ... OK * checking data for non-ASCII characters ... OK * checking data for ASCII and uncompressed saves ... OK * checking sizes of PDF files under ‘inst/doc’ ... OK * checking files in ‘vignettes’ ... OK * checking examples ... OK * checking for unstated dependencies in ‘tests’ ... OK * checking tests ... Running ‘testthat.R’ OK * checking for unstated dependencies in vignettes ... OK * checking package vignettes in ‘inst/doc’ ... OK * checking running R code from vignettes ... SKIPPED * checking re-building of vignette outputs ... SKIPPED * checking PDF version of manual ... OK * DONE Status: OK
FELLA.Rcheck/00install.out
############################################################################## ############################################################################## ### ### Running command: ### ### /Library/Frameworks/R.framework/Versions/Current/Resources/bin/R CMD INSTALL FELLA ### ############################################################################## ############################################################################## * installing to library ‘/Library/Frameworks/R.framework/Versions/3.6/Resources/library’ * installing *source* package ‘FELLA’ ... ** using staged installation ** R ** data ** inst ** byte-compile and prepare package for lazy loading ** help *** installing help indices ** building package indices ** installing vignettes ** testing if installed package can be loaded from temporary location ** testing if installed package can be loaded from final location ** testing if installed package keeps a record of temporary installation path * DONE (FELLA)
FELLA.Rcheck/tests/testthat.Rout
R version 3.6.1 (2019-07-05) -- "Action of the Toes"
Copyright (C) 2019 The R Foundation for Statistical Computing
Platform: x86_64-apple-darwin15.6.0 (64-bit)
R is free software and comes with ABSOLUTELY NO WARRANTY.
You are welcome to redistribute it under certain conditions.
Type 'license()' or 'licence()' for distribution details.
R is a collaborative project with many contributors.
Type 'contributors()' for more information and
'citation()' on how to cite R or R packages in publications.
Type 'demo()' for some demos, 'help()' for on-line help, or
'help.start()' for an HTML browser interface to help.
Type 'q()' to quit R.
> library(testthat)
> library(FELLA)
>
> test_check("FELLA")
|
| | 0%
|
|============== | 20%
|
|============================ | 40%
|
|========================================== | 60%
|
|======================================================== | 80%
|
|======================================================================| 100%
|
| | 0%
|
|======= | 10%
|
|============== | 20%
|
|===================== | 30%
|
|============================ | 40%
|
|=================================== | 50%
|
|========================================== | 60%
|
|================================================= | 70%
|
|======================================================== | 80%
|
|=============================================================== | 90%
|
|======================================================================| 100%
|
| | 0%
|
|======= | 10%
|
|============== | 20%
|
|===================== | 30%
|
|============================ | 40%
|
|=================================== | 50%
|
|========================================== | 60%
|
|================================================= | 70%
|
|======================================================== | 80%
|
|=============================================================== | 90%
|
|======================================================================| 100%
|
| | 0%
|
|======= | 10%
|
|============== | 20%
|
|===================== | 30%
|
|============================ | 40%
|
|=================================== | 50%
|
|========================================== | 60%
|
|================================================= | 70%
|
|======================================================== | 80%
|
|=============================================================== | 90%
|
|======================================================================| 100%
══ testthat results ═══════════════════════════════════════════════════════════
[ OK: 168 | SKIPPED: 0 | WARNINGS: 0 | FAILED: 0 ]
>
> proc.time()
user system elapsed
27.778 8.716 66.486
FELLA.Rcheck/FELLA-Ex.timings
| name | user | system | elapsed | |
| FELLA | 0.576 | 0.102 | 0.713 | |
| FELLA.sample | 0.020 | 0.002 | 0.023 | |
| checkArguments | 0.003 | 0.000 | 0.004 | |
| data-funs | 3.831 | 0.343 | 4.246 | |
| enrich-funs | 4.527 | 0.367 | 4.982 | |
| export-funs | 0.367 | 0.013 | 0.381 | |
| getBackground | 2.442 | 0.064 | 2.582 | |
| getCom | 0.023 | 0.003 | 0.025 | |
| getExcluded | 0.024 | 0.004 | 0.028 | |
| getGraph | 0.020 | 0.002 | 0.023 | |
| getInfo | 0.021 | 0.002 | 0.024 | |
| getInput | 0.025 | 0.005 | 0.029 | |
| getMatrix | 0.037 | 0.004 | 0.041 | |
| getName | 0.019 | 0.004 | 0.022 | |
| getPscores | 0.052 | 0.005 | 0.057 | |
| getPvaluesSize | 0.065 | 0.007 | 0.072 | |
| getStatus | 0.021 | 0.002 | 0.023 | |
| getSums | 0.444 | 0.006 | 0.450 | |
| getValid | 0.039 | 0.004 | 0.044 | |
| infere.con2ec | 0.005 | 0.001 | 0.005 | |
| input.sample | 0.001 | 0.001 | 0.003 | |
| is.FELLA.DATA | 0.014 | 0.001 | 0.015 | |
| is.FELLA.USER | 0.042 | 0.004 | 0.047 | |
| largestcc | 0.028 | 0.001 | 0.029 | |
| launchApp | 0.000 | 0.000 | 0.001 | |
| listApprox | 0 | 0 | 0 | |
| listCategories | 0.001 | 0.000 | 0.001 | |
| listInternalDatabases | 0.002 | 0.001 | 0.002 | |
| listMethods | 0.000 | 0.001 | 0.001 | |
| mytriangle | 0.031 | 0.002 | 0.034 | |
| plotBipartite | 0.114 | 0.007 | 0.122 | |
| plotLegend | 0.046 | 0.003 | 0.049 | |
| sanitise | 0 | 0 | 0 | |