| Back to Multiple platform build/check report for BioC 3.9 |
|
This page was generated on 2019-10-16 12:01:21 -0400 (Wed, 16 Oct 2019).
| Package 350/1741 | Hostname | OS / Arch | INSTALL | BUILD | CHECK | BUILD BIN | ||||||
| CorMut 1.26.0 Zhenpeng Li
| malbec2 | Linux (Ubuntu 18.04.2 LTS) / x86_64 | OK | OK | [ OK ] | |||||||
| tokay2 | Windows Server 2012 R2 Standard / x64 | OK | OK | OK | OK | |||||||
| celaya2 | OS X 10.11.6 El Capitan / x86_64 | OK | OK | OK | OK |
| Package: CorMut |
| Version: 1.26.0 |
| Command: /home/biocbuild/bbs-3.9-bioc/R/bin/R CMD check --install=check:CorMut.install-out.txt --library=/home/biocbuild/bbs-3.9-bioc/R/library --no-vignettes --timings CorMut_1.26.0.tar.gz |
| StartedAt: 2019-10-16 00:50:13 -0400 (Wed, 16 Oct 2019) |
| EndedAt: 2019-10-16 00:51:23 -0400 (Wed, 16 Oct 2019) |
| EllapsedTime: 69.4 seconds |
| RetCode: 0 |
| Status: OK |
| CheckDir: CorMut.Rcheck |
| Warnings: 0 |
##############################################################################
##############################################################################
###
### Running command:
###
### /home/biocbuild/bbs-3.9-bioc/R/bin/R CMD check --install=check:CorMut.install-out.txt --library=/home/biocbuild/bbs-3.9-bioc/R/library --no-vignettes --timings CorMut_1.26.0.tar.gz
###
##############################################################################
##############################################################################
* using log directory ‘/home/biocbuild/bbs-3.9-bioc/meat/CorMut.Rcheck’
* using R version 3.6.1 (2019-07-05)
* using platform: x86_64-pc-linux-gnu (64-bit)
* using session charset: UTF-8
* using option ‘--no-vignettes’
* checking for file ‘CorMut/DESCRIPTION’ ... OK
* checking extension type ... Package
* this is package ‘CorMut’ version ‘1.26.0’
* checking package namespace information ... OK
* checking package dependencies ... OK
* checking if this is a source package ... OK
* checking if there is a namespace ... OK
* checking for hidden files and directories ... OK
* checking for portable file names ... OK
* checking for sufficient/correct file permissions ... OK
* checking whether package ‘CorMut’ can be installed ... OK
* checking installed package size ... OK
* checking package directory ... OK
* checking ‘build’ directory ... OK
* checking DESCRIPTION meta-information ... OK
* checking top-level files ... OK
* checking for left-over files ... OK
* checking index information ... OK
* checking package subdirectories ... OK
* checking R files for non-ASCII characters ... OK
* checking R files for syntax errors ... OK
* checking whether the package can be loaded ... OK
* checking whether the package can be loaded with stated dependencies ... OK
* checking whether the package can be unloaded cleanly ... OK
* checking whether the namespace can be loaded with stated dependencies ... OK
* checking whether the namespace can be unloaded cleanly ... OK
* checking dependencies in R code ... OK
* checking S3 generic/method consistency ... OK
* checking replacement functions ... OK
* checking foreign function calls ... OK
* checking R code for possible problems ... OK
* checking Rd files ... OK
* checking Rd metadata ... OK
* checking Rd cross-references ... OK
* checking for missing documentation entries ... OK
* checking for code/documentation mismatches ... OK
* checking Rd \usage sections ... OK
* checking Rd contents ... OK
* checking for unstated dependencies in examples ... OK
* checking files in ‘vignettes’ ... OK
* checking examples ... OK
Examples with CPU or elapsed time > 5s
user system elapsed
biCompare-methods 16.518 0.007 16.609
miAA 6.686 0.000 6.687
* checking for unstated dependencies in vignettes ... OK
* checking package vignettes in ‘inst/doc’ ... OK
* checking running R code from vignettes ... SKIPPED
* checking re-building of vignette outputs ... SKIPPED
* checking PDF version of manual ... OK
* DONE
Status: OK
CorMut.Rcheck/00install.out
##############################################################################
##############################################################################
###
### Running command:
###
### /home/biocbuild/bbs-3.9-bioc/R/bin/R CMD INSTALL CorMut
###
##############################################################################
##############################################################################
* installing to library ‘/home/biocbuild/bbs-3.9-bioc/R/library’
* installing *source* package ‘CorMut’ ...
** using staged installation
** R
** inst
** byte-compile and prepare package for lazy loading
Warning in .recursiveCallTest(body, fname) :
the body of the generic function for ‘seq_num.CorMut’ calls 'standardGeneric' to dispatch on a different name ("aslot")!
Warning in .recursiveCallTest(body, fname) :
the body of the generic function for ‘kaks.CorMut’ calls 'standardGeneric' to dispatch on a different name ("aslot")!
Warning in .recursiveCallTest(body, fname) :
the body of the generic function for ‘lod.CorMut’ calls 'standardGeneric' to dispatch on a different name ("aslot")!
Warning in .recursiveCallTest(body, fname) :
the body of the generic function for ‘q.CorMut’ calls 'standardGeneric' to dispatch on a different name ("aslot")!
Warning in .recursiveCallTest(body, fname) :
the body of the generic function for ‘ka.CorMut’ calls 'standardGeneric' to dispatch on a different name ("aslot")!
Warning in .recursiveCallTest(body, fname) :
the body of the generic function for ‘ks.CorMut’ calls 'standardGeneric' to dispatch on a different name ("aslot")!
Warning in .recursiveCallTest(body, fname) :
the body of the generic function for ‘mi.CorMut’ calls 'standardGeneric' to dispatch on a different name ("aslot")!
Warning in .recursiveCallTest(body, fname) :
the body of the generic function for ‘p.value.CorMut’ calls 'standardGeneric' to dispatch on a different name ("aslot")!
Warning in .recursiveCallTest(body, fname) :
the body of the generic function for ‘ckaks.CorMut’ calls 'standardGeneric' to dispatch on a different name ("aslot")!
Warning in .recursiveCallTest(body, fname) :
the body of the generic function for ‘method.CorMut’ calls 'standardGeneric' to dispatch on a different name ("aslot")!
Warning in .recursiveCallTest(body, fname) :
the body of the generic function for ‘positiveSite01.CorMut’ calls 'standardGeneric' to dispatch on a different name ("aslot")!
Warning in .recursiveCallTest(body, fname) :
the body of the generic function for ‘positiveSite02.CorMut’ calls 'standardGeneric' to dispatch on a different name ("aslot")!
Warning in .recursiveCallTest(body, fname) :
the body of the generic function for ‘state_1.CorMut’ calls 'standardGeneric' to dispatch on a different name ("aslot")!
Warning in .recursiveCallTest(body, fname) :
the body of the generic function for ‘statistic_1.CorMut’ calls 'standardGeneric' to dispatch on a different name ("aslot")!
Warning in .recursiveCallTest(body, fname) :
the body of the generic function for ‘state_2.CorMut’ calls 'standardGeneric' to dispatch on a different name ("aslot")!
Warning in .recursiveCallTest(body, fname) :
the body of the generic function for ‘statistic_2.CorMut’ calls 'standardGeneric' to dispatch on a different name ("aslot")!
** help
*** installing help indices
** building package indices
** installing vignettes
** testing if installed package can be loaded from temporary location
** testing if installed package can be loaded from final location
** testing if installed package keeps a record of temporary installation path
* DONE (CorMut)
CorMut.Rcheck/CorMut-Ex.timings
| name | user | system | elapsed | |
| JI-class | 0 | 0 | 0 | |
| MI-class | 0.000 | 0.000 | 0.001 | |
| biCkaksCodon-class | 0.000 | 0.000 | 0.001 | |
| biCompare-class | 0 | 0 | 0 | |
| biCompare-methods | 16.518 | 0.007 | 16.609 | |
| ckaks-class | 0 | 0 | 0 | |
| ckaksAA | 2.305 | 0.001 | 2.305 | |
| ckaksCodon | 1.315 | 0.004 | 1.319 | |
| filterSites-methods | 1.259 | 0.000 | 1.259 | |
| jiAA | 2.648 | 0.011 | 2.661 | |
| kaksAA-class | 0 | 0 | 0 | |
| kaksAA | 1.453 | 0.000 | 1.455 | |
| kaksCodon-class | 0 | 0 | 0 | |
| kaksCodon | 1.008 | 0.000 | 1.007 | |
| miAA | 6.686 | 0.000 | 6.687 | |
| miCodon | 4.888 | 0.000 | 4.888 | |
| plot-methods | 2.671 | 0.000 | 2.671 | |
| seqFormat-methods | 0.715 | 0.000 | 0.716 | |