| Back to Multiple platform build/check report for BioC 3.9 |
|
This page was generated on 2019-10-16 12:50:19 -0400 (Wed, 16 Oct 2019).
| Package 350/1741 | Hostname | OS / Arch | INSTALL | BUILD | CHECK | BUILD BIN | ||||||
| CorMut 1.26.0 Zhenpeng Li
| malbec2 | Linux (Ubuntu 18.04.2 LTS) / x86_64 | OK | OK | OK | |||||||
| tokay2 | Windows Server 2012 R2 Standard / x64 | OK | OK | OK | OK | |||||||
| celaya2 | OS X 10.11.6 El Capitan / x86_64 | [ OK ] | OK | OK | OK |
| Package: CorMut |
| Version: 1.26.0 |
| Command: /Library/Frameworks/R.framework/Versions/Current/Resources/bin/R CMD INSTALL CorMut |
| StartedAt: 2019-10-15 18:36:29 -0400 (Tue, 15 Oct 2019) |
| EndedAt: 2019-10-15 18:36:43 -0400 (Tue, 15 Oct 2019) |
| EllapsedTime: 14.0 seconds |
| RetCode: 0 |
| Status: OK |
##############################################################################
##############################################################################
###
### Running command:
###
### /Library/Frameworks/R.framework/Versions/Current/Resources/bin/R CMD INSTALL CorMut
###
##############################################################################
##############################################################################
* installing to library ‘/Library/Frameworks/R.framework/Versions/3.6/Resources/library’
* installing *source* package ‘CorMut’ ...
** using staged installation
** R
** inst
** byte-compile and prepare package for lazy loading
Warning in .recursiveCallTest(body, fname) :
the body of the generic function for ‘seq_num.CorMut’ calls 'standardGeneric' to dispatch on a different name ("aslot")!
Warning in .recursiveCallTest(body, fname) :
the body of the generic function for ‘kaks.CorMut’ calls 'standardGeneric' to dispatch on a different name ("aslot")!
Warning in .recursiveCallTest(body, fname) :
the body of the generic function for ‘lod.CorMut’ calls 'standardGeneric' to dispatch on a different name ("aslot")!
Warning in .recursiveCallTest(body, fname) :
the body of the generic function for ‘q.CorMut’ calls 'standardGeneric' to dispatch on a different name ("aslot")!
Warning in .recursiveCallTest(body, fname) :
the body of the generic function for ‘ka.CorMut’ calls 'standardGeneric' to dispatch on a different name ("aslot")!
Warning in .recursiveCallTest(body, fname) :
the body of the generic function for ‘ks.CorMut’ calls 'standardGeneric' to dispatch on a different name ("aslot")!
Warning in .recursiveCallTest(body, fname) :
the body of the generic function for ‘mi.CorMut’ calls 'standardGeneric' to dispatch on a different name ("aslot")!
Warning in .recursiveCallTest(body, fname) :
the body of the generic function for ‘p.value.CorMut’ calls 'standardGeneric' to dispatch on a different name ("aslot")!
Warning in .recursiveCallTest(body, fname) :
the body of the generic function for ‘ckaks.CorMut’ calls 'standardGeneric' to dispatch on a different name ("aslot")!
Warning in .recursiveCallTest(body, fname) :
the body of the generic function for ‘method.CorMut’ calls 'standardGeneric' to dispatch on a different name ("aslot")!
Warning in .recursiveCallTest(body, fname) :
the body of the generic function for ‘positiveSite01.CorMut’ calls 'standardGeneric' to dispatch on a different name ("aslot")!
Warning in .recursiveCallTest(body, fname) :
the body of the generic function for ‘positiveSite02.CorMut’ calls 'standardGeneric' to dispatch on a different name ("aslot")!
Warning in .recursiveCallTest(body, fname) :
the body of the generic function for ‘state_1.CorMut’ calls 'standardGeneric' to dispatch on a different name ("aslot")!
Warning in .recursiveCallTest(body, fname) :
the body of the generic function for ‘statistic_1.CorMut’ calls 'standardGeneric' to dispatch on a different name ("aslot")!
Warning in .recursiveCallTest(body, fname) :
the body of the generic function for ‘state_2.CorMut’ calls 'standardGeneric' to dispatch on a different name ("aslot")!
Warning in .recursiveCallTest(body, fname) :
the body of the generic function for ‘statistic_2.CorMut’ calls 'standardGeneric' to dispatch on a different name ("aslot")!
** help
*** installing help indices
** building package indices
** installing vignettes
** testing if installed package can be loaded from temporary location
** testing if installed package can be loaded from final location
** testing if installed package keeps a record of temporary installation path
* DONE (CorMut)