| Back to Workflows build report for BioC 3.8 |
This page was generated on 2019-01-30 16:00:25 -0500 (Wed, 30 Jan 2019).
| Package 18/23 | Hostname | OS / Arch | INSTALL | BUILD | ||||||
| rnaseqGene 1.4.1 Michael Love
| malbec1 | Linux (Ubuntu 16.04.1 LTS) / x86_64 | OK | OK | ||||||
| tokay1 | Windows Server 2012 R2 Standard / x64 | [ OK ] | OK |
| Package: rnaseqGene |
| Version: 1.4.1 |
| Command: C:\cygwin\bin\curl.exe -O https://malbec1.bioconductor.org/BBS/3.8/workflows/src/contrib/rnaseqGene_1.4.1.tar.gz && rm -rf rnaseqGene.buildbin-libdir && mkdir rnaseqGene.buildbin-libdir && C:\Users\biocbuild\bbs-3.8-bioc\R\bin\R.exe CMD INSTALL --merge-multiarch --build --library=rnaseqGene.buildbin-libdir rnaseqGene_1.4.1.tar.gz && C:\Users\biocbuild\bbs-3.8-bioc\R\bin\R.exe CMD INSTALL rnaseqGene_1.4.1.zip && rm rnaseqGene_1.4.1.tar.gz rnaseqGene_1.4.1.zip |
| StartedAt: 2019-01-30 07:57:40 -0500 (Wed, 30 Jan 2019) |
| EndedAt: 2019-01-30 07:59:12 -0500 (Wed, 30 Jan 2019) |
| EllapsedTime: 92.4 seconds |
| RetCode: 0 |
| Status: OK |
##############################################################################
##############################################################################
###
### Running command:
###
### C:\cygwin\bin\curl.exe -O https://malbec1.bioconductor.org/BBS/3.8/workflows/src/contrib/rnaseqGene_1.4.1.tar.gz && rm -rf rnaseqGene.buildbin-libdir && mkdir rnaseqGene.buildbin-libdir && C:\Users\biocbuild\bbs-3.8-bioc\R\bin\R.exe CMD INSTALL --merge-multiarch --build --library=rnaseqGene.buildbin-libdir rnaseqGene_1.4.1.tar.gz && C:\Users\biocbuild\bbs-3.8-bioc\R\bin\R.exe CMD INSTALL rnaseqGene_1.4.1.zip && rm rnaseqGene_1.4.1.tar.gz rnaseqGene_1.4.1.zip
###
##############################################################################
##############################################################################
% Total % Received % Xferd Average Speed Time Time Time Current
Dload Upload Total Spent Left Speed
0 0 0 0 0 0 0 0 --:--:-- --:--:-- --:--:-- 0
100 42854 100 42854 0 0 1288k 0 --:--:-- --:--:-- --:--:-- 1494k
install for i386
* installing *source* package 'rnaseqGene' ...
** help
No man pages found in package 'rnaseqGene'
*** installing help indices
** building package indices
** installing vignettes
** testing if installed package can be loaded
In R CMD INSTALL
install for x64
* installing *source* package 'rnaseqGene' ...
** testing if installed package can be loaded
* MD5 sums
packaged installation of 'rnaseqGene' as rnaseqGene_1.4.1.zip
* DONE (rnaseqGene)
In R CMD INSTALL
In R CMD INSTALL
* installing to library 'C:/Users/biocbuild/bbs-3.8-bioc/R/library'
package 'rnaseqGene' successfully unpacked and MD5 sums checked
In R CMD INSTALL