This page was generated on 2019-04-16 17:26:32 -0400 (Tue, 16 Apr 2019).
| malbec1 |
Linux (Ubuntu 16.04.6 LTS) / x86_64 | | | |
|
| annotation 1.4.0 | Bioconductor Package Maintainer | OK | OK |  |
| arrays 1.6.0 | Bioconductor Package Maintainer | OK | OK |  |
| BiocMetaWorkflow 1.2.0 | Mike Smith | OK | OK |  |
| chipseqDB 1.4.1 | Aaron Lun | OK | OK |  |
| cytofWorkflow 1.4.1 | Malgorzata Nowicka | OK | OK |  |
| EGSEA123 1.4.1 | Matthew Ritchie | OK | OK |  |
| eQTL 1.4.0 | Vincent Carey | OK | OK |  |
| ExpressionNormalizationWorkflow 1.6.1 | Karthikeyan Murugesan | OK | OK |  |
| generegulation 1.4.0 | Bioconductor Package Maintainer | OK | OK |  |
| highthroughputassays 1.4.1 | Bioconductor Package Maintainer | OK | OK |  |
| liftOver 1.4.0 | Bioconductor Package Maintainer | OK | OK |  |
| maEndToEnd 2.0.0 | Bernd Klaus | OK | OK |  |
| methylationArrayAnalysis 1.4.0 | Jovana Maksimovic | OK | OK |  |
| proteomics 1.4.1 | Laurent Gatto | OK | OK |  |
| recountWorkflow 1.4.2 | Leonardo Collado-Torres | OK | OK |  |
| RNAseq123 1.4.3 | Matthew Ritchie | OK | OK |  |
| rnaseqDTU 1.0.1 | Michael Love | OK | OK |  |
| rnaseqGene 1.4.1 | Michael Love | OK | OK |  |
| RnaSeqGeneEdgeRQL 1.4.1 | Yunshun Chen | OK | OK |  |
| sequencing 1.4.1 | Martin Morgan | OK | OK |  |
| simpleSingleCell 1.4.1 | Aaron Lun | OK | ERROR | |
| TCGAWorkflow 1.4.1 | Tiago Chedraoui Silva | OK | OK |  |
| variants 1.4.1 | Bioconductor Package Maintainer | OK | OK |  |