| Back to Workflows build report for BioC 3.8 |
This page was generated on 2019-04-16 17:26:32 -0400 (Tue, 16 Apr 2019).
| Package 7/23 | Hostname | OS / Arch | INSTALL | BUILD | ||||||
| eQTL 1.4.0 Vincent Carey
| malbec1 | Linux (Ubuntu 16.04.6 LTS) / x86_64 | OK | [ OK ] |
| Package: eQTL |
| Version: 1.4.0 |
| Command: /home/biocbuild/bbs-3.8-bioc/R/bin/R CMD build --keep-empty-dirs --no-resave-data eQTL |
| StartedAt: 2019-04-16 16:35:46 -0400 (Tue, 16 Apr 2019) |
| EndedAt: 2019-04-16 16:40:36 -0400 (Tue, 16 Apr 2019) |
| EllapsedTime: 289.9 seconds |
| RetCode: 0 |
| Status: OK |
| PackageFile: eQTL_1.4.0.tar.gz |
| PackageFileSize: 57.83 MiB |
############################################################################## ############################################################################## ### ### Running command: ### ### /home/biocbuild/bbs-3.8-bioc/R/bin/R CMD build --keep-empty-dirs --no-resave-data eQTL ### ############################################################################## ############################################################################## * checking for file ‘eQTL/DESCRIPTION’ ... OK * preparing ‘eQTL’: * checking DESCRIPTION meta-information ... OK * installing the package to build vignettes * creating vignettes ... OK * checking for LF line-endings in source and make files and shell scripts * checking for empty or unneeded directories * looking to see if a ‘data/datalist’ file should be added * creating default NAMESPACE file * building ‘eQTL_1.4.0.tar.gz’