| Back to Workflows build report for BioC 3.8 |
This page was generated on 2019-01-30 16:00:24 -0500 (Wed, 30 Jan 2019).
| Package 14/23 | Hostname | OS / Arch | INSTALL | BUILD | ||||||
| proteomics 1.4.1 Laurent Gatto
| malbec1 | Linux (Ubuntu 16.04.1 LTS) / x86_64 | OK | ERROR | ||||||
| tokay1 | Windows Server 2012 R2 Standard / x64 | [ OK ] | OK |
| Package: proteomics |
| Version: 1.4.1 |
| Command: C:\cygwin\bin\curl.exe -O https://malbec1.bioconductor.org/BBS/3.8/workflows/src/contrib/proteomics_1.4.1.tar.gz && rm -rf proteomics.buildbin-libdir && mkdir proteomics.buildbin-libdir && C:\Users\biocbuild\bbs-3.8-bioc\R\bin\R.exe CMD INSTALL --merge-multiarch --build --library=proteomics.buildbin-libdir proteomics_1.4.1.tar.gz && C:\Users\biocbuild\bbs-3.8-bioc\R\bin\R.exe CMD INSTALL proteomics_1.4.1.zip && rm proteomics_1.4.1.tar.gz proteomics_1.4.1.zip |
| StartedAt: 2019-01-30 07:58:33 -0500 (Wed, 30 Jan 2019) |
| EndedAt: 2019-01-30 07:59:33 -0500 (Wed, 30 Jan 2019) |
| EllapsedTime: 60.4 seconds |
| RetCode: 0 |
| Status: OK |
##############################################################################
##############################################################################
###
### Running command:
###
### C:\cygwin\bin\curl.exe -O https://malbec1.bioconductor.org/BBS/3.8/workflows/src/contrib/proteomics_1.4.1.tar.gz && rm -rf proteomics.buildbin-libdir && mkdir proteomics.buildbin-libdir && C:\Users\biocbuild\bbs-3.8-bioc\R\bin\R.exe CMD INSTALL --merge-multiarch --build --library=proteomics.buildbin-libdir proteomics_1.4.1.tar.gz && C:\Users\biocbuild\bbs-3.8-bioc\R\bin\R.exe CMD INSTALL proteomics_1.4.1.zip && rm proteomics_1.4.1.tar.gz proteomics_1.4.1.zip
###
##############################################################################
##############################################################################
% Total % Received % Xferd Average Speed Time Time Time Current
Dload Upload Total Spent Left Speed
0 0 0 0 0 0 0 0 --:--:-- --:--:-- --:--:-- 0
100 10940 100 10940 0 0 427k 0 --:--:-- --:--:-- --:--:-- 508k
install for i386
* installing *source* package 'proteomics' ...
** help
No man pages found in package 'proteomics'
*** installing help indices
** building package indices
** installing vignettes
** testing if installed package can be loaded
In R CMD INSTALL
install for x64
* installing *source* package 'proteomics' ...
** testing if installed package can be loaded
* MD5 sums
packaged installation of 'proteomics' as proteomics_1.4.1.zip
* DONE (proteomics)
In R CMD INSTALL
In R CMD INSTALL
* installing to library 'C:/Users/biocbuild/bbs-3.8-bioc/R/library'
package 'proteomics' successfully unpacked and MD5 sums checked
In R CMD INSTALL