| Back to Multiple platform build/check report for BioC 3.8 |
|
This page was generated on 2019-04-13 11:29:55 -0400 (Sat, 13 Apr 2019).
| Package 1613/1649 | Hostname | OS / Arch | INSTALL | BUILD | CHECK | BUILD BIN | ||||||
| universalmotif 1.0.22 Benjamin Jean-Marie Tremblay
| malbec1 | Linux (Ubuntu 16.04.6 LTS) / x86_64 | OK | OK | NA | |||||||
| tokay1 | Windows Server 2012 R2 Standard / x64 | OK | [ OK ] | WARNINGS | OK | |||||||
| merida1 | OS X 10.11.6 El Capitan / x86_64 | OK | OK | OK | OK |
| Package: universalmotif |
| Version: 1.0.22 |
| Command: chmod a+r universalmotif -R && C:\Users\biocbuild\bbs-3.8-bioc\R\bin\R.exe CMD build --keep-empty-dirs --no-resave-data universalmotif |
| StartedAt: 2019-04-13 00:04:14 -0400 (Sat, 13 Apr 2019) |
| EndedAt: 2019-04-13 00:07:48 -0400 (Sat, 13 Apr 2019) |
| EllapsedTime: 214.0 seconds |
| RetCode: 0 |
| Status: OK |
| PackageFile: universalmotif_1.0.22.tar.gz |
| PackageFileSize: 1.509 MiB |
##############################################################################
##############################################################################
###
### Running command:
###
### chmod a+r universalmotif -R && C:\Users\biocbuild\bbs-3.8-bioc\R\bin\R.exe CMD build --keep-empty-dirs --no-resave-data universalmotif
###
##############################################################################
##############################################################################
* checking for file 'universalmotif/DESCRIPTION' ... OK
* preparing 'universalmotif':
* checking DESCRIPTION meta-information ... OK
* cleaning src
* installing the package to process help pages
Loading required namespace: universalmotif
* saving partial Rd database
* creating vignettes ... OK
Warning: 'inst/doc' file
'IntroductionToSequenceMotifs.R'
ignored as vignettes have been rebuilt.
Run R CMD build with --no-build-vignettes to prevent rebuilding.
* cleaning src
* checking for LF line-endings in source and make files and shell scripts
* checking for empty or unneeded directories
* looking to see if a 'data/datalist' file should be added
* building 'universalmotif_1.0.22.tar.gz'