| Back to Multiple platform build/check report for BioC 3.8 |
|
This page was generated on 2019-04-16 11:54:04 -0400 (Tue, 16 Apr 2019).
| Package 1454/1649 | Hostname | OS / Arch | INSTALL | BUILD | CHECK | BUILD BIN | ||||||
| simpleaffy 2.58.0 Crispin Miller
| malbec1 | Linux (Ubuntu 16.04.6 LTS) / x86_64 | OK | OK | WARNINGS | |||||||
| merida1 | OS X 10.11.6 El Capitan / x86_64 | [ OK ] | OK | WARNINGS | OK |
| Package: simpleaffy |
| Version: 2.58.0 |
| Command: /Library/Frameworks/R.framework/Versions/Current/Resources/bin/R CMD INSTALL simpleaffy |
| StartedAt: 2019-04-15 18:20:28 -0400 (Mon, 15 Apr 2019) |
| EndedAt: 2019-04-15 18:20:52 -0400 (Mon, 15 Apr 2019) |
| EllapsedTime: 23.7 seconds |
| RetCode: 0 |
| Status: OK |
##############################################################################
##############################################################################
###
### Running command:
###
### /Library/Frameworks/R.framework/Versions/Current/Resources/bin/R CMD INSTALL simpleaffy
###
##############################################################################
##############################################################################
* installing to library ‘/Library/Frameworks/R.framework/Versions/3.5/Resources/library’
* installing *source* package ‘simpleaffy’ ...
** libs
clang -I"/Library/Frameworks/R.framework/Resources/include" -DNDEBUG -I/usr/local/include -fPIC -Wall -g -O2 -c simpleaffy.c -o simpleaffy.o
simpleaffy.c:440:30: warning: incompatible pointer types passing 'FILE *' (aka 'struct __sFILE *') to parameter of type 'const char *' [-Wincompatible-pointer-types]
if(gn >= ngrid) REprintf(stderr,"Really ouch! %d %d\n",gn,ends[gn]);
^˜˜˜˜˜
/usr/include/stdio.h:218:16: note: expanded from macro 'stderr'
#define stderr __stderrp
^˜˜˜˜˜˜˜˜
/Library/Frameworks/R.framework/Resources/include/R_ext/Print.h:43:27: note: passing argument to parameter here
void REprintf(const char *, ...);
^
1 warning generated.
clang -dynamiclib -Wl,-headerpad_max_install_names -undefined dynamic_lookup -single_module -multiply_defined suppress -L/Library/Frameworks/R.framework/Resources/lib -L/usr/local/lib -o simpleaffy.so simpleaffy.o -F/Library/Frameworks/R.framework/.. -framework R -Wl,-framework -Wl,CoreFoundation
installing to /Library/Frameworks/R.framework/Versions/3.5/Resources/library/simpleaffy/libs
** R
** data
** inst
** byte-compile and prepare package for lazy loading
** help
*** installing help indices
** building package indices
** installing vignettes
** testing if installed package can be loaded
* DONE (simpleaffy)