| Back to Multiple platform build/check report for BioC 3.8 |
|
This page was generated on 2019-04-16 11:47:52 -0400 (Tue, 16 Apr 2019).
| Package 1454/1649 | Hostname | OS / Arch | INSTALL | BUILD | CHECK | BUILD BIN | ||||||
| simpleaffy 2.58.0 Crispin Miller
| malbec1 | Linux (Ubuntu 16.04.6 LTS) / x86_64 | [ OK ] | OK | WARNINGS | |||||||
| merida1 | OS X 10.11.6 El Capitan / x86_64 | OK | OK | WARNINGS | OK |
| Package: simpleaffy |
| Version: 2.58.0 |
| Command: /home/biocbuild/bbs-3.8-bioc/R/bin/R CMD INSTALL simpleaffy |
| StartedAt: 2019-04-15 18:08:27 -0400 (Mon, 15 Apr 2019) |
| EndedAt: 2019-04-15 18:08:44 -0400 (Mon, 15 Apr 2019) |
| EllapsedTime: 16.8 seconds |
| RetCode: 0 |
| Status: OK |
##############################################################################
##############################################################################
###
### Running command:
###
### /home/biocbuild/bbs-3.8-bioc/R/bin/R CMD INSTALL simpleaffy
###
##############################################################################
##############################################################################
* installing to library ‘/home/biocbuild/bbs-3.8-bioc/R/library’
* installing *source* package ‘simpleaffy’ ...
** libs
gcc -I"/home/biocbuild/bbs-3.8-bioc/R/include" -DNDEBUG -I/usr/local/include -fpic -g -O2 -Wall -c simpleaffy.c -o simpleaffy.o
simpleaffy.c: In function ‘bgmas’:
simpleaffy.c:440:30: warning: passing argument 1 of ‘REprintf’ from incompatible pointer type [-Wincompatible-pointer-types]
if(gn >= ngrid) REprintf(stderr,"Really ouch! %d %d\n",gn,ends[gn]);
^
In file included from /home/biocbuild/bbs-3.8-bioc/R/include/R.h:88:0,
from simpleaffy.c:5:
/home/biocbuild/bbs-3.8-bioc/R/include/R_ext/Print.h:43:6: note: expected ‘const char *’ but argument is of type ‘struct _IO_FILE *’
void REprintf(const char *, ...);
^
gcc -shared -L/home/biocbuild/bbs-3.8-bioc/R/lib -L/usr/local/lib -o simpleaffy.so simpleaffy.o -L/home/biocbuild/bbs-3.8-bioc/R/lib -lR
installing to /home/biocbuild/bbs-3.8-bioc/R/library/simpleaffy/libs
** R
** data
** inst
** byte-compile and prepare package for lazy loading
** help
*** installing help indices
** building package indices
** installing vignettes
** testing if installed package can be loaded
* DONE (simpleaffy)