| Back to Multiple platform build/check report for BioC 3.8 |
|
This page was generated on 2019-04-13 11:28:32 -0400 (Sat, 13 Apr 2019).
| Package 1088/1649 | Hostname | OS / Arch | INSTALL | BUILD | CHECK | BUILD BIN | ||||||
| oncomix 1.4.0 Daniel Pique
| malbec1 | Linux (Ubuntu 16.04.6 LTS) / x86_64 | OK | OK | OK | |||||||
| tokay1 | Windows Server 2012 R2 Standard / x64 | [ OK ] | OK | OK | OK | |||||||
| merida1 | OS X 10.11.6 El Capitan / x86_64 | OK | OK | OK | OK |
| Package: oncomix |
| Version: 1.4.0 |
| Command: C:\cygwin\bin\curl.exe -O https://malbec1.bioconductor.org/BBS/3.8/bioc/src/contrib/oncomix_1.4.0.tar.gz && rm -rf oncomix.buildbin-libdir && mkdir oncomix.buildbin-libdir && C:\Users\biocbuild\bbs-3.8-bioc\R\bin\R.exe CMD INSTALL --merge-multiarch --build --library=oncomix.buildbin-libdir oncomix_1.4.0.tar.gz && C:\Users\biocbuild\bbs-3.8-bioc\R\bin\R.exe CMD INSTALL oncomix_1.4.0.zip && rm oncomix_1.4.0.tar.gz oncomix_1.4.0.zip |
| StartedAt: 2019-04-12 19:48:53 -0400 (Fri, 12 Apr 2019) |
| EndedAt: 2019-04-12 19:49:22 -0400 (Fri, 12 Apr 2019) |
| EllapsedTime: 29.5 seconds |
| RetCode: 0 |
| Status: OK |
##############################################################################
##############################################################################
###
### Running command:
###
### C:\cygwin\bin\curl.exe -O https://malbec1.bioconductor.org/BBS/3.8/bioc/src/contrib/oncomix_1.4.0.tar.gz && rm -rf oncomix.buildbin-libdir && mkdir oncomix.buildbin-libdir && C:\Users\biocbuild\bbs-3.8-bioc\R\bin\R.exe CMD INSTALL --merge-multiarch --build --library=oncomix.buildbin-libdir oncomix_1.4.0.tar.gz && C:\Users\biocbuild\bbs-3.8-bioc\R\bin\R.exe CMD INSTALL oncomix_1.4.0.zip && rm oncomix_1.4.0.tar.gz oncomix_1.4.0.zip
###
##############################################################################
##############################################################################
% Total % Received % Xferd Average Speed Time Time Time Current
Dload Upload Total Spent Left Speed
0 0 0 0 0 0 0 0 --:--:-- --:--:-- --:--:-- 0
100 1203k 100 1203k 0 0 21.0M 0 --:--:-- --:--:-- --:--:-- 22.6M
install for i386
* installing *source* package 'oncomix' ...
** R
** data
*** moving datasets to lazyload DB
** inst
** byte-compile and prepare package for lazy loading
** help
*** installing help indices
converting help for package 'oncomix'
finding HTML links ... done
exprNmlIsof html
exprTumIsof html
mixModelParams html
oncoMixBimodal html
oncoMixIdeal html
oncoMixTraditionalDE html
plotGeneHist html
queryRes html
scatterMixPlot html
toMatrix html
topGeneQuants html
** building package indices
** installing vignettes
** testing if installed package can be loaded
In R CMD INSTALL
install for x64
* installing *source* package 'oncomix' ...
** testing if installed package can be loaded
* MD5 sums
packaged installation of 'oncomix' as oncomix_1.4.0.zip
* DONE (oncomix)
In R CMD INSTALL
In R CMD INSTALL
* installing to library 'C:/Users/biocbuild/bbs-3.8-bioc/R/library'
package 'oncomix' successfully unpacked and MD5 sums checked
In R CMD INSTALL