| Back to Multiple platform build/check report for BioC 3.8 |
|
This page was generated on 2019-04-13 11:28:32 -0400 (Sat, 13 Apr 2019).
| Package 1088/1649 | Hostname | OS / Arch | INSTALL | BUILD | CHECK | BUILD BIN | ||||||
| oncomix 1.4.0 Daniel Pique
| malbec1 | Linux (Ubuntu 16.04.6 LTS) / x86_64 | OK | OK | OK | |||||||
| tokay1 | Windows Server 2012 R2 Standard / x64 | OK | OK | OK | [ OK ] | |||||||
| merida1 | OS X 10.11.6 El Capitan / x86_64 | OK | OK | OK | OK |
| Package: oncomix |
| Version: 1.4.0 |
| Command: rm -rf oncomix.buildbin-libdir && mkdir oncomix.buildbin-libdir && C:\Users\biocbuild\bbs-3.8-bioc\R\bin\R.exe CMD INSTALL --merge-multiarch --build --library=oncomix.buildbin-libdir oncomix_1.4.0.tar.gz |
| StartedAt: 2019-04-13 07:43:42 -0400 (Sat, 13 Apr 2019) |
| EndedAt: 2019-04-13 07:44:00 -0400 (Sat, 13 Apr 2019) |
| EllapsedTime: 18.3 seconds |
| RetCode: 0 |
| Status: OK |
| PackageFile: oncomix_1.4.0.zip |
| PackageFileSize: 1.748 MiB |
##############################################################################
##############################################################################
###
### Running command:
###
### rm -rf oncomix.buildbin-libdir && mkdir oncomix.buildbin-libdir && C:\Users\biocbuild\bbs-3.8-bioc\R\bin\R.exe CMD INSTALL --merge-multiarch --build --library=oncomix.buildbin-libdir oncomix_1.4.0.tar.gz
###
##############################################################################
##############################################################################
install for i386
* installing *source* package 'oncomix' ...
** R
** data
*** moving datasets to lazyload DB
** inst
** byte-compile and prepare package for lazy loading
** help
*** installing help indices
converting help for package 'oncomix'
finding HTML links ... done
exprNmlIsof html
exprTumIsof html
mixModelParams html
oncoMixBimodal html
oncoMixIdeal html
oncoMixTraditionalDE html
plotGeneHist html
queryRes html
scatterMixPlot html
toMatrix html
topGeneQuants html
** building package indices
** installing vignettes
** testing if installed package can be loaded
In R CMD INSTALL
install for x64
* installing *source* package 'oncomix' ...
** testing if installed package can be loaded
* MD5 sums
packaged installation of 'oncomix' as oncomix_1.4.0.zip
* DONE (oncomix)
In R CMD INSTALL
In R CMD INSTALL