| Back to Multiple platform build/check report for BioC 3.8 | 
 | 
This page was generated on 2019-04-16 12:00:42 -0400 (Tue, 16 Apr 2019).
| Package 966/1649 | Hostname | OS / Arch | INSTALL | BUILD | CHECK | BUILD BIN | ||||||
| miRBaseConverter 1.6.0 Taosheng Xu 
 | malbec1 | Linux (Ubuntu 16.04.6 LTS) / x86_64 | OK | OK | OK |  | ||||||
| merida1 | OS X 10.11.6 El Capitan / x86_64 | OK | OK | [ OK ] | OK |  | 
| Package: miRBaseConverter | 
| Version: 1.6.0 | 
| Command: /Library/Frameworks/R.framework/Versions/Current/Resources/bin/R CMD check --install=check:miRBaseConverter.install-out.txt --library=/Library/Frameworks/R.framework/Versions/Current/Resources/library --no-vignettes --timings miRBaseConverter_1.6.0.tar.gz | 
| StartedAt: 2019-04-16 01:19:00 -0400 (Tue, 16 Apr 2019) | 
| EndedAt: 2019-04-16 01:19:50 -0400 (Tue, 16 Apr 2019) | 
| EllapsedTime: 50.3 seconds | 
| RetCode: 0 | 
| Status: OK | 
| CheckDir: miRBaseConverter.Rcheck | 
| Warnings: 0 | 
############################################################################## ############################################################################## ### ### Running command: ### ### /Library/Frameworks/R.framework/Versions/Current/Resources/bin/R CMD check --install=check:miRBaseConverter.install-out.txt --library=/Library/Frameworks/R.framework/Versions/Current/Resources/library --no-vignettes --timings miRBaseConverter_1.6.0.tar.gz ### ############################################################################## ############################################################################## * using log directory ‘/Users/biocbuild/bbs-3.8-bioc/meat/miRBaseConverter.Rcheck’ * using R version 3.5.3 (2019-03-11) * using platform: x86_64-apple-darwin15.6.0 (64-bit) * using session charset: UTF-8 * using option ‘--no-vignettes’ * checking for file ‘miRBaseConverter/DESCRIPTION’ ... OK * checking extension type ... Package * this is package ‘miRBaseConverter’ version ‘1.6.0’ * checking package namespace information ... OK * checking package dependencies ... OK * checking if this is a source package ... OK * checking if there is a namespace ... OK * checking for hidden files and directories ... OK * checking for portable file names ... OK * checking for sufficient/correct file permissions ... OK * checking whether package ‘miRBaseConverter’ can be installed ... OK * checking installed package size ... OK * checking package directory ... OK * checking ‘build’ directory ... OK * checking DESCRIPTION meta-information ... OK * checking top-level files ... OK * checking for left-over files ... OK * checking index information ... OK * checking package subdirectories ... OK * checking R files for non-ASCII characters ... OK * checking R files for syntax errors ... OK * checking whether the package can be loaded ... OK * checking whether the package can be loaded with stated dependencies ... OK * checking whether the package can be unloaded cleanly ... OK * checking whether the namespace can be loaded with stated dependencies ... OK * checking whether the namespace can be unloaded cleanly ... OK * checking dependencies in R code ... OK * checking S3 generic/method consistency ... OK * checking replacement functions ... OK * checking foreign function calls ... OK * checking R code for possible problems ... OK * checking Rd files ... OK * checking Rd metadata ... OK * checking Rd cross-references ... OK * checking for missing documentation entries ... OK * checking for code/documentation mismatches ... OK * checking Rd \usage sections ... OK * checking Rd contents ... OK * checking for unstated dependencies in examples ... OK * checking contents of ‘data’ directory ... OK * checking data for non-ASCII characters ... OK * checking data for ASCII and uncompressed saves ... OK * checking R/sysdata.rda ... OK * checking installed files from ‘inst/doc’ ... OK * checking files in ‘vignettes’ ... OK * checking examples ... OK * checking for unstated dependencies in ‘tests’ ... OK * checking tests ... Running ‘runTests.R’ OK * checking for unstated dependencies in vignettes ... OK * checking package vignettes in ‘inst/doc’ ... OK * checking running R code from vignettes ... SKIPPED * checking re-building of vignette outputs ... SKIPPED * checking PDF version of manual ... OK * DONE Status: OK
miRBaseConverter.Rcheck/00install.out
############################################################################## ############################################################################## ### ### Running command: ### ### /Library/Frameworks/R.framework/Versions/Current/Resources/bin/R CMD INSTALL miRBaseConverter ### ############################################################################## ############################################################################## * installing to library ‘/Library/Frameworks/R.framework/Versions/3.5/Resources/library’ * installing *source* package ‘miRBaseConverter’ ... ** R ** data *** moving datasets to lazyload DB ** inst ** byte-compile and prepare package for lazy loading ** help *** installing help indices ** building package indices ** installing vignettes ** testing if installed package can be loaded * DONE (miRBaseConverter)
miRBaseConverter.Rcheck/tests/runTests.Rout
R version 3.5.3 (2019-03-11) -- "Great Truth"
Copyright (C) 2019 The R Foundation for Statistical Computing
Platform: x86_64-apple-darwin15.6.0 (64-bit)
R is free software and comes with ABSOLUTELY NO WARRANTY.
You are welcome to redistribute it under certain conditions.
Type 'license()' or 'licence()' for distribution details.
R is a collaborative project with many contributors.
Type 'contributors()' for more information and
'citation()' on how to cite R or R packages in publications.
Type 'demo()' for some demos, 'help()' for on-line help, or
'help.start()' for an HTML browser interface to help.
Type 'q()' to quit R.
> BiocGenerics:::testPackage("miRBaseConverter")
RUNIT TEST PROTOCOL -- Tue Apr 16 01:19:45 2019 
*********************************************** 
Number of test functions: 1 
Number of errors: 0 
Number of failures: 0 
 
1 Test Suite : 
miRBaseConverter RUnit Tests - 1 test function, 0 errors, 0 failures
Number of test functions: 1 
Number of errors: 0 
Number of failures: 0 
> 
> proc.time()
   user  system elapsed 
  0.473   0.076   0.526 
miRBaseConverter.Rcheck/miRBaseConverter-Ex.timings
| name | user | system | elapsed | |
| checkMiRNAAlive | 2.708 | 0.151 | 2.879 | |
| checkMiRNAFamily | 2.378 | 0.082 | 2.485 | |
| checkMiRNAVersion | 0.064 | 0.016 | 0.080 | |
| getAllMiRNAs | 0.194 | 0.015 | 0.212 | |
| getAllSpecies | 0.001 | 0.001 | 0.001 | |
| getAllVersionInfo | 0.004 | 0.001 | 0.006 | |
| getMiRNAHistory | 1.148 | 0.035 | 1.194 | |
| getMiRNASequence | 3.168 | 0.066 | 3.260 | |
| getMiRNATable | 0.002 | 0.000 | 0.002 | |
| goTo_miRBase | 3.415 | 0.103 | 3.598 | |
| goTo_miRNAFamily | 1.394 | 0.065 | 1.657 | |
| miRNATest | 0.001 | 0.001 | 0.002 | |
| miRNAVersionConvert | 4.229 | 0.086 | 4.813 | |
| miRNA_AccessionToName | 1.497 | 0.037 | 1.835 | |
| miRNA_MatureToPrecursor | 0.095 | 0.024 | 0.120 | |
| miRNA_NameToAccession | 2.501 | 0.077 | 2.598 | |
| miRNA_PrecursorToMature | 0.083 | 0.018 | 0.102 | |