| Back to Multiple platform build/check report for BioC 3.8 |
|
This page was generated on 2019-04-16 11:52:49 -0400 (Tue, 16 Apr 2019).
| Package 966/1649 | Hostname | OS / Arch | INSTALL | BUILD | CHECK | BUILD BIN | ||||||
| miRBaseConverter 1.6.0 Taosheng Xu
| malbec1 | Linux (Ubuntu 16.04.6 LTS) / x86_64 | OK | OK | [ OK ] | |||||||
| merida1 | OS X 10.11.6 El Capitan / x86_64 | OK | OK | OK | OK |
| Package: miRBaseConverter |
| Version: 1.6.0 |
| Command: /home/biocbuild/bbs-3.8-bioc/R/bin/R CMD check --install=check:miRBaseConverter.install-out.txt --library=/home/biocbuild/bbs-3.8-bioc/R/library --no-vignettes --timings miRBaseConverter_1.6.0.tar.gz |
| StartedAt: 2019-04-16 01:28:12 -0400 (Tue, 16 Apr 2019) |
| EndedAt: 2019-04-16 01:28:52 -0400 (Tue, 16 Apr 2019) |
| EllapsedTime: 40.4 seconds |
| RetCode: 0 |
| Status: OK |
| CheckDir: miRBaseConverter.Rcheck |
| Warnings: 0 |
############################################################################## ############################################################################## ### ### Running command: ### ### /home/biocbuild/bbs-3.8-bioc/R/bin/R CMD check --install=check:miRBaseConverter.install-out.txt --library=/home/biocbuild/bbs-3.8-bioc/R/library --no-vignettes --timings miRBaseConverter_1.6.0.tar.gz ### ############################################################################## ############################################################################## * using log directory ‘/home/biocbuild/bbs-3.8-bioc/meat/miRBaseConverter.Rcheck’ * using R version 3.5.3 (2019-03-11) * using platform: x86_64-pc-linux-gnu (64-bit) * using session charset: UTF-8 * using option ‘--no-vignettes’ * checking for file ‘miRBaseConverter/DESCRIPTION’ ... OK * checking extension type ... Package * this is package ‘miRBaseConverter’ version ‘1.6.0’ * checking package namespace information ... OK * checking package dependencies ... OK * checking if this is a source package ... OK * checking if there is a namespace ... OK * checking for hidden files and directories ... OK * checking for portable file names ... OK * checking for sufficient/correct file permissions ... OK * checking whether package ‘miRBaseConverter’ can be installed ... OK * checking installed package size ... OK * checking package directory ... OK * checking ‘build’ directory ... OK * checking DESCRIPTION meta-information ... OK * checking top-level files ... OK * checking for left-over files ... OK * checking index information ... OK * checking package subdirectories ... OK * checking R files for non-ASCII characters ... OK * checking R files for syntax errors ... OK * checking whether the package can be loaded ... OK * checking whether the package can be loaded with stated dependencies ... OK * checking whether the package can be unloaded cleanly ... OK * checking whether the namespace can be loaded with stated dependencies ... OK * checking whether the namespace can be unloaded cleanly ... OK * checking dependencies in R code ... OK * checking S3 generic/method consistency ... OK * checking replacement functions ... OK * checking foreign function calls ... OK * checking R code for possible problems ... OK * checking Rd files ... OK * checking Rd metadata ... OK * checking Rd cross-references ... OK * checking for missing documentation entries ... OK * checking for code/documentation mismatches ... OK * checking Rd \usage sections ... OK * checking Rd contents ... OK * checking for unstated dependencies in examples ... OK * checking contents of ‘data’ directory ... OK * checking data for non-ASCII characters ... OK * checking data for ASCII and uncompressed saves ... OK * checking R/sysdata.rda ... OK * checking installed files from ‘inst/doc’ ... OK * checking files in ‘vignettes’ ... OK * checking examples ... OK * checking for unstated dependencies in ‘tests’ ... OK * checking tests ... Running ‘runTests.R’ OK * checking for unstated dependencies in vignettes ... OK * checking package vignettes in ‘inst/doc’ ... OK * checking running R code from vignettes ... SKIPPED * checking re-building of vignette outputs ... SKIPPED * checking PDF version of manual ... OK * DONE Status: OK
miRBaseConverter.Rcheck/00install.out
############################################################################## ############################################################################## ### ### Running command: ### ### /home/biocbuild/bbs-3.8-bioc/R/bin/R CMD INSTALL miRBaseConverter ### ############################################################################## ############################################################################## * installing to library ‘/home/biocbuild/bbs-3.8-bioc/R/library’ * installing *source* package ‘miRBaseConverter’ ... ** R ** data *** moving datasets to lazyload DB ** inst ** byte-compile and prepare package for lazy loading ** help *** installing help indices ** building package indices ** installing vignettes ** testing if installed package can be loaded * DONE (miRBaseConverter)
miRBaseConverter.Rcheck/tests/runTests.Rout
R version 3.5.3 (2019-03-11) -- "Great Truth"
Copyright (C) 2019 The R Foundation for Statistical Computing
Platform: x86_64-pc-linux-gnu (64-bit)
R is free software and comes with ABSOLUTELY NO WARRANTY.
You are welcome to redistribute it under certain conditions.
Type 'license()' or 'licence()' for distribution details.
R is a collaborative project with many contributors.
Type 'contributors()' for more information and
'citation()' on how to cite R or R packages in publications.
Type 'demo()' for some demos, 'help()' for on-line help, or
'help.start()' for an HTML browser interface to help.
Type 'q()' to quit R.
> BiocGenerics:::testPackage("miRBaseConverter")
RUNIT TEST PROTOCOL -- Tue Apr 16 01:28:48 2019
***********************************************
Number of test functions: 1
Number of errors: 0
Number of failures: 0
1 Test Suite :
miRBaseConverter RUnit Tests - 1 test function, 0 errors, 0 failures
Number of test functions: 1
Number of errors: 0
Number of failures: 0
>
> proc.time()
user system elapsed
0.492 0.016 0.575
miRBaseConverter.Rcheck/miRBaseConverter-Ex.timings
| name | user | system | elapsed | |
| checkMiRNAAlive | 2.972 | 0.064 | 3.037 | |
| checkMiRNAFamily | 1.640 | 0.000 | 1.641 | |
| checkMiRNAVersion | 0.044 | 0.000 | 0.044 | |
| getAllMiRNAs | 0.148 | 0.004 | 0.151 | |
| getAllSpecies | 0 | 0 | 0 | |
| getAllVersionInfo | 0.004 | 0.000 | 0.002 | |
| getMiRNAHistory | 0.828 | 0.000 | 0.830 | |
| getMiRNASequence | 2.804 | 0.000 | 2.807 | |
| getMiRNATable | 0.016 | 0.000 | 0.017 | |
| goTo_miRBase | 2.852 | 0.152 | 3.087 | |
| goTo_miRNAFamily | 1.180 | 0.156 | 1.560 | |
| miRNATest | 0.000 | 0.000 | 0.002 | |
| miRNAVersionConvert | 3.848 | 0.028 | 4.014 | |
| miRNA_AccessionToName | 1.232 | 0.004 | 1.239 | |
| miRNA_MatureToPrecursor | 0.052 | 0.004 | 0.058 | |
| miRNA_NameToAccession | 2.540 | 0.000 | 2.545 | |
| miRNA_PrecursorToMature | 0.076 | 0.000 | 0.088 | |