| Back to Multiple platform build/check report for BioC 3.8 |
|
This page was generated on 2019-04-13 11:23:17 -0400 (Sat, 13 Apr 2019).
| Package 941/1649 | Hostname | OS / Arch | INSTALL | BUILD | CHECK | BUILD BIN | ||||||
| methylMnM 1.20.0 Yan Zhou
| malbec1 | Linux (Ubuntu 16.04.6 LTS) / x86_64 | OK | OK | OK | |||||||
| tokay1 | Windows Server 2012 R2 Standard / x64 | OK | [ OK ] | OK | OK | |||||||
| merida1 | OS X 10.11.6 El Capitan / x86_64 | OK | OK | OK | OK |
| Package: methylMnM |
| Version: 1.20.0 |
| Command: chmod a+r methylMnM -R && C:\Users\biocbuild\bbs-3.8-bioc\R\bin\R.exe CMD build --keep-empty-dirs --no-resave-data methylMnM |
| StartedAt: 2019-04-12 21:50:56 -0400 (Fri, 12 Apr 2019) |
| EndedAt: 2019-04-12 21:52:16 -0400 (Fri, 12 Apr 2019) |
| EllapsedTime: 79.1 seconds |
| RetCode: 0 |
| Status: OK |
| PackageFile: methylMnM_1.20.0.tar.gz |
| PackageFileSize: 8.44 MiB |
############################################################################## ############################################################################## ### ### Running command: ### ### chmod a+r methylMnM -R && C:\Users\biocbuild\bbs-3.8-bioc\R\bin\R.exe CMD build --keep-empty-dirs --no-resave-data methylMnM ### ############################################################################## ############################################################################## * checking for file 'methylMnM/DESCRIPTION' ... OK * preparing 'methylMnM': * checking DESCRIPTION meta-information ... OK * cleaning src * installing the package to build vignettes * creating vignettes ... OK * cleaning src * checking for LF line-endings in source and make files and shell scripts * checking for empty or unneeded directories * building 'methylMnM_1.20.0.tar.gz'