| Back to Multiple platform build/check report for BioC 3.8 |
|
This page was generated on 2019-04-13 11:23:18 -0400 (Sat, 13 Apr 2019).
| Package 941/1649 | Hostname | OS / Arch | INSTALL | BUILD | CHECK | BUILD BIN | ||||||
| methylMnM 1.20.0 Yan Zhou
| malbec1 | Linux (Ubuntu 16.04.6 LTS) / x86_64 | OK | OK | OK | |||||||
| tokay1 | Windows Server 2012 R2 Standard / x64 | OK | OK | OK | [ OK ] | |||||||
| merida1 | OS X 10.11.6 El Capitan / x86_64 | OK | OK | OK | OK |
| Package: methylMnM |
| Version: 1.20.0 |
| Command: rm -rf methylMnM.buildbin-libdir && mkdir methylMnM.buildbin-libdir && C:\Users\biocbuild\bbs-3.8-bioc\R\bin\R.exe CMD INSTALL --merge-multiarch --build --library=methylMnM.buildbin-libdir methylMnM_1.20.0.tar.gz |
| StartedAt: 2019-04-13 07:38:28 -0400 (Sat, 13 Apr 2019) |
| EndedAt: 2019-04-13 07:39:03 -0400 (Sat, 13 Apr 2019) |
| EllapsedTime: 34.8 seconds |
| RetCode: 0 |
| Status: OK |
| PackageFile: methylMnM_1.20.0.zip |
| PackageFileSize: 8.56 MiB |
##############################################################################
##############################################################################
###
### Running command:
###
### rm -rf methylMnM.buildbin-libdir && mkdir methylMnM.buildbin-libdir && C:\Users\biocbuild\bbs-3.8-bioc\R\bin\R.exe CMD INSTALL --merge-multiarch --build --library=methylMnM.buildbin-libdir methylMnM_1.20.0.tar.gz
###
##############################################################################
##############################################################################
install for i386
* installing *source* package 'methylMnM' ...
** libs
C:/Rtools/mingw_32/bin/gcc -I"C:/Users/BIOCBU˜1/BBS-3˜1.8-B/R/include" -DNDEBUG -I"C:/extsoft/include" -O3 -Wall -std=gnu99 -mtune=generic -c CpGcount.c -o CpGcount.o
C:/Rtools/mingw_32/bin/gcc -I"C:/Users/BIOCBU˜1/BBS-3˜1.8-B/R/include" -DNDEBUG -I"C:/extsoft/include" -O3 -Wall -std=gnu99 -mtune=generic -c calculatecount.c -o calculatecount.o
C:/Rtools/mingw_32/bin/gcc -I"C:/Users/BIOCBU˜1/BBS-3˜1.8-B/R/include" -DNDEBUG -I"C:/extsoft/include" -O3 -Wall -std=gnu99 -mtune=generic -c calculatecount1.c -o calculatecount1.o
C:/Rtools/mingw_32/bin/gcc -I"C:/Users/BIOCBU˜1/BBS-3˜1.8-B/R/include" -DNDEBUG -I"C:/extsoft/include" -O3 -Wall -std=gnu99 -mtune=generic -c calculatecountneg.c -o calculatecountneg.o
C:/Rtools/mingw_32/bin/gcc -I"C:/Users/BIOCBU˜1/BBS-3˜1.8-B/R/include" -DNDEBUG -I"C:/extsoft/include" -O3 -Wall -std=gnu99 -mtune=generic -c pmultinom.c -o pmultinom.o
C:/Rtools/mingw_32/bin/gcc -I"C:/Users/BIOCBU˜1/BBS-3˜1.8-B/R/include" -DNDEBUG -I"C:/extsoft/include" -O3 -Wall -std=gnu99 -mtune=generic -c pvalueclassify.c -o pvalueclassify.o
C:/Rtools/mingw_32/bin/gcc -I"C:/Users/BIOCBU˜1/BBS-3˜1.8-B/R/include" -DNDEBUG -I"C:/extsoft/include" -O3 -Wall -std=gnu99 -mtune=generic -c register.c -o register.o
C:/Rtools/mingw_32/bin/gcc -shared -s -static-libgcc -o methylMnM.dll tmp.def CpGcount.o calculatecount.o calculatecount1.o calculatecountneg.o pmultinom.o pvalueclassify.o register.o -LC:/extsoft/lib/i386 -LC:/extsoft/lib -LC:/Users/BIOCBU˜1/BBS-3˜1.8-B/R/bin/i386 -lR
installing to C:/Users/biocbuild/bbs-3.8-bioc/meat/methylMnM.buildbin-libdir/methylMnM/libs/i386
** R
** inst
** byte-compile and prepare package for lazy loading
** help
*** installing help indices
converting help for package 'methylMnM'
finding HTML links ... done
CNVnormal html
MnM-package html
MnM.qvalue html
MnM.selectDMR html
MnM.test html
calcFactornew html
calculatecount html
calculatecount1 html
calculatecountneg html
countMREbin html
countMREcpgbin html
countMeDIPbin html
countcpgbin html
cpgcount html
normpdf html
normpdf1 html
pmultinom html
qvalue.rank html
removeblacklist html
** building package indices
** installing vignettes
** testing if installed package can be loaded
In R CMD INSTALL
install for x64
* installing *source* package 'methylMnM' ...
** libs
C:/Rtools/mingw_64/bin/gcc -I"C:/Users/BIOCBU˜1/BBS-3˜1.8-B/R/include" -DNDEBUG -I"C:/extsoft/include" -O2 -Wall -std=gnu99 -mtune=generic -c CpGcount.c -o CpGcount.o
C:/Rtools/mingw_64/bin/gcc -I"C:/Users/BIOCBU˜1/BBS-3˜1.8-B/R/include" -DNDEBUG -I"C:/extsoft/include" -O2 -Wall -std=gnu99 -mtune=generic -c calculatecount.c -o calculatecount.o
C:/Rtools/mingw_64/bin/gcc -I"C:/Users/BIOCBU˜1/BBS-3˜1.8-B/R/include" -DNDEBUG -I"C:/extsoft/include" -O2 -Wall -std=gnu99 -mtune=generic -c calculatecount1.c -o calculatecount1.o
C:/Rtools/mingw_64/bin/gcc -I"C:/Users/BIOCBU˜1/BBS-3˜1.8-B/R/include" -DNDEBUG -I"C:/extsoft/include" -O2 -Wall -std=gnu99 -mtune=generic -c calculatecountneg.c -o calculatecountneg.o
C:/Rtools/mingw_64/bin/gcc -I"C:/Users/BIOCBU˜1/BBS-3˜1.8-B/R/include" -DNDEBUG -I"C:/extsoft/include" -O2 -Wall -std=gnu99 -mtune=generic -c pmultinom.c -o pmultinom.o
C:/Rtools/mingw_64/bin/gcc -I"C:/Users/BIOCBU˜1/BBS-3˜1.8-B/R/include" -DNDEBUG -I"C:/extsoft/include" -O2 -Wall -std=gnu99 -mtune=generic -c pvalueclassify.c -o pvalueclassify.o
C:/Rtools/mingw_64/bin/gcc -I"C:/Users/BIOCBU˜1/BBS-3˜1.8-B/R/include" -DNDEBUG -I"C:/extsoft/include" -O2 -Wall -std=gnu99 -mtune=generic -c register.c -o register.o
C:/Rtools/mingw_64/bin/gcc -shared -s -static-libgcc -o methylMnM.dll tmp.def CpGcount.o calculatecount.o calculatecount1.o calculatecountneg.o pmultinom.o pvalueclassify.o register.o -LC:/extsoft/lib/x64 -LC:/extsoft/lib -LC:/Users/BIOCBU˜1/BBS-3˜1.8-B/R/bin/x64 -lR
installing to C:/Users/biocbuild/bbs-3.8-bioc/meat/methylMnM.buildbin-libdir/methylMnM/libs/x64
** testing if installed package can be loaded
* MD5 sums
packaged installation of 'methylMnM' as methylMnM_1.20.0.zip
* DONE (methylMnM)
In R CMD INSTALL
In R CMD INSTALL