| Back to Multiple platform build/check report for BioC 3.8 |
|
This page was generated on 2019-04-16 12:10:01 -0400 (Tue, 16 Apr 2019).
| Package 879/1649 | Hostname | OS / Arch | INSTALL | BUILD | CHECK | BUILD BIN | ||||||
| maser 1.0.0 Diogo Veiga
| malbec1 | Linux (Ubuntu 16.04.6 LTS) / x86_64 | OK | OK | OK | |||||||
| merida1 | OS X 10.11.6 El Capitan / x86_64 | OK | OK | [ OK ] | OK |
| Package: maser |
| Version: 1.0.0 |
| Command: /Library/Frameworks/R.framework/Versions/Current/Resources/bin/R CMD check --install=check:maser.install-out.txt --library=/Library/Frameworks/R.framework/Versions/Current/Resources/library --no-vignettes --timings maser_1.0.0.tar.gz |
| StartedAt: 2019-04-16 01:00:15 -0400 (Tue, 16 Apr 2019) |
| EndedAt: 2019-04-16 01:06:07 -0400 (Tue, 16 Apr 2019) |
| EllapsedTime: 351.7 seconds |
| RetCode: 0 |
| Status: OK |
| CheckDir: maser.Rcheck |
| Warnings: 0 |
##############################################################################
##############################################################################
###
### Running command:
###
### /Library/Frameworks/R.framework/Versions/Current/Resources/bin/R CMD check --install=check:maser.install-out.txt --library=/Library/Frameworks/R.framework/Versions/Current/Resources/library --no-vignettes --timings maser_1.0.0.tar.gz
###
##############################################################################
##############################################################################
* using log directory ‘/Users/biocbuild/bbs-3.8-bioc/meat/maser.Rcheck’
* using R version 3.5.3 (2019-03-11)
* using platform: x86_64-apple-darwin15.6.0 (64-bit)
* using session charset: UTF-8
* using option ‘--no-vignettes’
* checking for file ‘maser/DESCRIPTION’ ... OK
* checking extension type ... Package
* this is package ‘maser’ version ‘1.0.0’
* package encoding: UTF-8
* checking package namespace information ... OK
* checking package dependencies ... OK
* checking if this is a source package ... OK
* checking if there is a namespace ... OK
* checking for hidden files and directories ... OK
* checking for portable file names ... OK
* checking for sufficient/correct file permissions ... OK
* checking whether package ‘maser’ can be installed ... OK
* checking installed package size ... OK
* checking package directory ... OK
* checking ‘build’ directory ... OK
* checking DESCRIPTION meta-information ... OK
* checking top-level files ... OK
* checking for left-over files ... OK
* checking index information ... OK
* checking package subdirectories ... OK
* checking R files for non-ASCII characters ... OK
* checking R files for syntax errors ... OK
* checking whether the package can be loaded ... OK
* checking whether the package can be loaded with stated dependencies ... OK
* checking whether the package can be unloaded cleanly ... OK
* checking whether the namespace can be loaded with stated dependencies ... OK
* checking whether the namespace can be unloaded cleanly ... OK
* checking dependencies in R code ... OK
* checking S3 generic/method consistency ... OK
* checking replacement functions ... OK
* checking foreign function calls ... OK
* checking R code for possible problems ... NOTE
filterByIds: no visible binding for global variable 'ID'
mapTranscriptsA3SSevent: no visible global function definition for
'subjectHits'
mapTranscriptsA5SSevent: no visible global function definition for
'subjectHits'
mapTranscriptsMXEevent: no visible global function definition for
'subjectHits'
mapTranscriptsRIevent: no visible global function definition for
'subjectHits'
mapTranscriptsSEevent: no visible global function definition for
'subjectHits'
overlappingFeatures: no visible global function definition for
'subjectHits'
urlTracksUniprotKB: no visible binding for global variable 'Name'
Undefined global functions or variables:
ID Name subjectHits
* checking Rd files ... OK
* checking Rd metadata ... OK
* checking Rd cross-references ... OK
* checking for missing documentation entries ... OK
* checking for code/documentation mismatches ... OK
* checking Rd \usage sections ... OK
* checking Rd contents ... OK
* checking for unstated dependencies in examples ... OK
* checking R/sysdata.rda ... OK
* checking files in ‘vignettes’ ... OK
* checking examples ... OK
Examples with CPU or elapsed time > 5s
user system elapsed
plotUniprotKBFeatures 9.529 0.447 10.401
mapProteinFeaturesToEvents 7.913 0.563 9.252
plotTranscripts 6.332 0.067 6.446
* checking for unstated dependencies in vignettes ... OK
* checking package vignettes in ‘inst/doc’ ... OK
* checking running R code from vignettes ... SKIPPED
* checking re-building of vignette outputs ... SKIPPED
* checking PDF version of manual ... OK
* DONE
Status: 1 NOTE
See
‘/Users/biocbuild/bbs-3.8-bioc/meat/maser.Rcheck/00check.log’
for details.
maser.Rcheck/00install.out
############################################################################## ############################################################################## ### ### Running command: ### ### /Library/Frameworks/R.framework/Versions/Current/Resources/bin/R CMD INSTALL maser ### ############################################################################## ############################################################################## * installing to library ‘/Library/Frameworks/R.framework/Versions/3.5/Resources/library’ * installing *source* package ‘maser’ ... ** R ** inst ** byte-compile and prepare package for lazy loading ** help *** installing help indices ** building package indices ** installing vignettes ** testing if installed package can be loaded * DONE (maser)
maser.Rcheck/maser-Ex.timings
| name | user | system | elapsed | |
| PSI-Maser-character-method | 0.888 | 0.073 | 0.970 | |
| PSI | 0.602 | 0.016 | 0.624 | |
| annotation-Maser-method | 0.683 | 0.011 | 0.701 | |
| availableFeaturesUniprotKB | 0.118 | 0.003 | 0.564 | |
| boxplot_PSI_levels | 1.904 | 0.053 | 1.976 | |
| counts-Maser-method | 0.652 | 0.011 | 0.666 | |
| display | 2.467 | 0.042 | 2.533 | |
| dotplot | 1.307 | 0.029 | 1.346 | |
| filterByCoverage | 0.983 | 0.010 | 1.008 | |
| filterByEventId | 0.839 | 0.007 | 0.855 | |
| geneEvents | 0.885 | 0.009 | 0.904 | |
| granges-Maser-method | 0.615 | 0.005 | 0.624 | |
| mapProteinFeaturesToEvents | 7.913 | 0.563 | 9.252 | |
| mapTranscriptsToEvents | 1.728 | 0.031 | 1.785 | |
| maser | 0.744 | 0.025 | 0.771 | |
| pca | 1.462 | 0.015 | 1.507 | |
| plotGenePSI | 2.133 | 0.029 | 2.225 | |
| plotTranscripts | 6.332 | 0.067 | 6.446 | |
| plotUniprotKBFeatures | 9.529 | 0.447 | 10.401 | |
| splicingDistribution | 1.309 | 0.008 | 1.321 | |
| summary-Maser-method | 0.823 | 0.004 | 0.835 | |
| topEvents | 0.908 | 0.007 | 0.922 | |
| volcano | 1.183 | 0.011 | 1.214 | |