| Back to Multiple platform build/check report for BioC 3.8 |
|
This page was generated on 2019-04-16 11:53:33 -0400 (Tue, 16 Apr 2019).
| Package 879/1649 | Hostname | OS / Arch | INSTALL | BUILD | CHECK | BUILD BIN | ||||||
| maser 1.0.0 Diogo Veiga
| malbec1 | Linux (Ubuntu 16.04.6 LTS) / x86_64 | OK | OK | [ OK ] | |||||||
| merida1 | OS X 10.11.6 El Capitan / x86_64 | OK | OK | OK | OK |
| Package: maser |
| Version: 1.0.0 |
| Command: /home/biocbuild/bbs-3.8-bioc/R/bin/R CMD check --install=check:maser.install-out.txt --library=/home/biocbuild/bbs-3.8-bioc/R/library --no-vignettes --timings maser_1.0.0.tar.gz |
| StartedAt: 2019-04-16 01:07:36 -0400 (Tue, 16 Apr 2019) |
| EndedAt: 2019-04-16 01:12:59 -0400 (Tue, 16 Apr 2019) |
| EllapsedTime: 323.5 seconds |
| RetCode: 0 |
| Status: OK |
| CheckDir: maser.Rcheck |
| Warnings: 0 |
##############################################################################
##############################################################################
###
### Running command:
###
### /home/biocbuild/bbs-3.8-bioc/R/bin/R CMD check --install=check:maser.install-out.txt --library=/home/biocbuild/bbs-3.8-bioc/R/library --no-vignettes --timings maser_1.0.0.tar.gz
###
##############################################################################
##############################################################################
* using log directory ‘/home/biocbuild/bbs-3.8-bioc/meat/maser.Rcheck’
* using R version 3.5.3 (2019-03-11)
* using platform: x86_64-pc-linux-gnu (64-bit)
* using session charset: UTF-8
* using option ‘--no-vignettes’
* checking for file ‘maser/DESCRIPTION’ ... OK
* checking extension type ... Package
* this is package ‘maser’ version ‘1.0.0’
* package encoding: UTF-8
* checking package namespace information ... OK
* checking package dependencies ... OK
* checking if this is a source package ... OK
* checking if there is a namespace ... OK
* checking for hidden files and directories ... OK
* checking for portable file names ... OK
* checking for sufficient/correct file permissions ... OK
* checking whether package ‘maser’ can be installed ... OK
* checking installed package size ... OK
* checking package directory ... OK
* checking ‘build’ directory ... OK
* checking DESCRIPTION meta-information ... OK
* checking top-level files ... OK
* checking for left-over files ... OK
* checking index information ... OK
* checking package subdirectories ... OK
* checking R files for non-ASCII characters ... OK
* checking R files for syntax errors ... OK
* checking whether the package can be loaded ... OK
* checking whether the package can be loaded with stated dependencies ... OK
* checking whether the package can be unloaded cleanly ... OK
* checking whether the namespace can be loaded with stated dependencies ... OK
* checking whether the namespace can be unloaded cleanly ... OK
* checking dependencies in R code ... OK
* checking S3 generic/method consistency ... OK
* checking replacement functions ... OK
* checking foreign function calls ... OK
* checking R code for possible problems ... NOTE
filterByIds: no visible binding for global variable 'ID'
mapTranscriptsA3SSevent: no visible global function definition for
'subjectHits'
mapTranscriptsA5SSevent: no visible global function definition for
'subjectHits'
mapTranscriptsMXEevent: no visible global function definition for
'subjectHits'
mapTranscriptsRIevent: no visible global function definition for
'subjectHits'
mapTranscriptsSEevent: no visible global function definition for
'subjectHits'
overlappingFeatures: no visible global function definition for
'subjectHits'
urlTracksUniprotKB: no visible binding for global variable 'Name'
Undefined global functions or variables:
ID Name subjectHits
* checking Rd files ... OK
* checking Rd metadata ... OK
* checking Rd cross-references ... OK
* checking for missing documentation entries ... OK
* checking for code/documentation mismatches ... OK
* checking Rd \usage sections ... OK
* checking Rd contents ... OK
* checking for unstated dependencies in examples ... OK
* checking R/sysdata.rda ... OK
* checking files in ‘vignettes’ ... OK
* checking examples ... OK
Examples with CPU or elapsed time > 5s
user system elapsed
plotUniprotKBFeatures 9.088 0.040 10.884
plotTranscripts 6.572 0.000 6.607
mapProteinFeaturesToEvents 6.424 0.044 8.862
* checking for unstated dependencies in vignettes ... OK
* checking package vignettes in ‘inst/doc’ ... OK
* checking running R code from vignettes ... SKIPPED
* checking re-building of vignette outputs ... SKIPPED
* checking PDF version of manual ... OK
* DONE
Status: 1 NOTE
See
‘/home/biocbuild/bbs-3.8-bioc/meat/maser.Rcheck/00check.log’
for details.
maser.Rcheck/00install.out
############################################################################## ############################################################################## ### ### Running command: ### ### /home/biocbuild/bbs-3.8-bioc/R/bin/R CMD INSTALL maser ### ############################################################################## ############################################################################## * installing to library ‘/home/biocbuild/bbs-3.8-bioc/R/library’ * installing *source* package ‘maser’ ... ** R ** inst ** byte-compile and prepare package for lazy loading ** help *** installing help indices ** building package indices ** installing vignettes ** testing if installed package can be loaded * DONE (maser)
maser.Rcheck/maser-Ex.timings
| name | user | system | elapsed | |
| PSI-Maser-character-method | 0.824 | 0.012 | 0.852 | |
| PSI | 0.404 | 0.000 | 0.406 | |
| annotation-Maser-method | 0.516 | 0.004 | 0.523 | |
| availableFeaturesUniprotKB | 0.144 | 0.000 | 0.812 | |
| boxplot_PSI_levels | 2.576 | 0.028 | 2.613 | |
| counts-Maser-method | 0.744 | 0.000 | 0.747 | |
| display | 1.984 | 0.020 | 2.055 | |
| dotplot | 1.016 | 0.024 | 1.043 | |
| filterByCoverage | 1.308 | 0.004 | 1.318 | |
| filterByEventId | 0.628 | 0.000 | 0.631 | |
| geneEvents | 0.628 | 0.000 | 0.629 | |
| granges-Maser-method | 0.620 | 0.004 | 0.628 | |
| mapProteinFeaturesToEvents | 6.424 | 0.044 | 8.862 | |
| mapTranscriptsToEvents | 1.544 | 0.024 | 1.612 | |
| maser | 0.596 | 0.000 | 0.598 | |
| pca | 1.284 | 0.008 | 1.293 | |
| plotGenePSI | 2.096 | 0.008 | 2.111 | |
| plotTranscripts | 6.572 | 0.000 | 6.607 | |
| plotUniprotKBFeatures | 9.088 | 0.040 | 10.884 | |
| splicingDistribution | 1.072 | 0.000 | 1.083 | |
| summary-Maser-method | 0.932 | 0.000 | 0.938 | |
| topEvents | 0.716 | 0.000 | 0.716 | |
| volcano | 1.472 | 0.000 | 1.470 | |