| Back to Multiple platform build/check report for BioC 3.8 |
|
This page was generated on 2019-04-13 11:28:54 -0400 (Sat, 13 Apr 2019).
| Package 878/1649 | Hostname | OS / Arch | INSTALL | BUILD | CHECK | BUILD BIN | ||||||
| martini 1.2.0 Hector Climente-Gonzalez
| malbec1 | Linux (Ubuntu 16.04.6 LTS) / x86_64 | OK | OK | OK | |||||||
| tokay1 | Windows Server 2012 R2 Standard / x64 | OK | OK | OK | [ OK ] | |||||||
| merida1 | OS X 10.11.6 El Capitan / x86_64 | OK | OK | OK | OK |
| Package: martini |
| Version: 1.2.0 |
| Command: rm -rf martini.buildbin-libdir && mkdir martini.buildbin-libdir && C:\Users\biocbuild\bbs-3.8-bioc\R\bin\R.exe CMD INSTALL --merge-multiarch --build --library=martini.buildbin-libdir martini_1.2.0.tar.gz |
| StartedAt: 2019-04-13 07:36:34 -0400 (Sat, 13 Apr 2019) |
| EndedAt: 2019-04-13 07:37:22 -0400 (Sat, 13 Apr 2019) |
| EllapsedTime: 47.1 seconds |
| RetCode: 0 |
| Status: OK |
| PackageFile: martini_1.2.0.zip |
| PackageFileSize: 1.336 MiB |
##############################################################################
##############################################################################
###
### Running command:
###
### rm -rf martini.buildbin-libdir && mkdir martini.buildbin-libdir && C:\Users\biocbuild\bbs-3.8-bioc\R\bin\R.exe CMD INSTALL --merge-multiarch --build --library=martini.buildbin-libdir martini_1.2.0.tar.gz
###
##############################################################################
##############################################################################
install for i386
* installing *source* package 'martini' ...
** libs
C:/Rtools/mingw_32/bin/g++ -I"C:/Users/BIOCBU˜1/BBS-3˜1.8-B/R/include" -DNDEBUG -DAS_GINLIB -DAS_RGINLIB -fopenmp -I"C:/Users/biocbuild/bbs-3.8-bioc/R/library/Rgin/include" -I"C:/Users/biocbuild/bbs-3.8-bioc/R/library/Rcpp/include" -I"C:/Users/biocbuild/bbs-3.8-bioc/R/library/RcppEigen/include" -I"C:/extsoft/include" -O2 -Wall -mtune=generic -c RcppExports.cpp -o RcppExports.o
In file included from C:/Users/biocbuild/bbs-3.8-bioc/R/library/Rcpp/include/Rcpp/r/headers.h:61:0,
from C:/Users/biocbuild/bbs-3.8-bioc/R/library/Rcpp/include/RcppCommon.h:29,
from C:/Users/biocbuild/bbs-3.8-bioc/R/library/RcppEigen/include/RcppEigenForward.h:26,
from C:/Users/biocbuild/bbs-3.8-bioc/R/library/RcppEigen/include/RcppEigen.h:25,
from ../inst/include/martini_RcppExports.h:7,
from ../inst/include/martini.h:7,
from RcppExports.cpp:4:
RcppExports.cpp: In function 'SEXPREC* _martini_run_scones_try(SEXP, SEXP, SEXP, SEXP)':
C:/Users/biocbuild/bbs-3.8-bioc/R/library/Rcpp/include/Rcpp/macros/macros.h:32:9: warning: unused variable 'nprot' [-Wunused-variable]
int nprot = 0; \
^
RcppExports.cpp:29:1: note: in expansion of macro 'BEGIN_RCPP'
BEGIN_RCPP
^
C:/Users/biocbuild/bbs-3.8-bioc/R/library/Rcpp/include/Rcpp/macros/macros.h:36:17: warning: unused variable 'stop_sym' [-Wunused-variable]
static SEXP stop_sym = Rf_install("stop"); \
^
RcppExports.cpp:29:1: note: in expansion of macro 'BEGIN_RCPP'
BEGIN_RCPP
^
C:/Rtools/mingw_32/bin/g++ -I"C:/Users/BIOCBU˜1/BBS-3˜1.8-B/R/include" -DNDEBUG -DAS_GINLIB -DAS_RGINLIB -fopenmp -I"C:/Users/biocbuild/bbs-3.8-bioc/R/library/Rgin/include" -I"C:/Users/biocbuild/bbs-3.8-bioc/R/library/Rcpp/include" -I"C:/Users/biocbuild/bbs-3.8-bioc/R/library/RcppEigen/include" -I"C:/extsoft/include" -O2 -Wall -mtune=generic -c evo.cpp -o evo.o
C:/Rtools/mingw_32/bin/g++ -I"C:/Users/BIOCBU˜1/BBS-3˜1.8-B/R/include" -DNDEBUG -DAS_GINLIB -DAS_RGINLIB -fopenmp -I"C:/Users/biocbuild/bbs-3.8-bioc/R/library/Rgin/include" -I"C:/Users/biocbuild/bbs-3.8-bioc/R/library/Rcpp/include" -I"C:/Users/biocbuild/bbs-3.8-bioc/R/library/RcppEigen/include" -I"C:/extsoft/include" -O2 -Wall -mtune=generic -c run_scones.cpp -o run_scones.o
C:/Rtools/mingw_32/bin/g++ -shared -s -static-libgcc -o martini.dll tmp.def RcppExports.o evo.o run_scones.o C:/Users/biocbuild/bbs-3.8-bioc/R/library/Rgin/usrlib/i386/libgin.a C:/Users/biocbuild/bbs-3.8-bioc/R/library/Rgin/usrlib/i386/libmaxflow.a C:/Users/biocbuild/bbs-3.8-bioc/R/library/Rgin/usrlib/i386/libcephes.a -lz -pthread -fopenmp -LC:/extsoft/lib/i386 -LC:/extsoft/lib -LC:/Users/BIOCBU˜1/BBS-3˜1.8-B/R/bin/i386 -lR
installing to C:/Users/biocbuild/bbs-3.8-bioc/meat/martini.buildbin-libdir/martini/libs/i386
** R
** data
*** moving datasets to lazyload DB
** inst
** byte-compile and prepare package for lazy loading
** help
*** installing help indices
converting help for package 'martini'
finding HTML links ... done
calculateE html
calculateG html
check_installed html
encode_gwas html
evo html
get_GI_network html
get_GM_network html
get_GS_network html
get_evo_settings html
get_ppi html
get_snp_modules html
is_coherent html
ldweight_edges html
minigwas html
minippi html
minisnpMapping html
run_scones html
search_cones html
simulate_causal_snps html
simulate_phenotype html
snp2gene html
subnet html
subvert html
test_cones_modules html
** building package indices
** installing vignettes
** testing if installed package can be loaded
In R CMD INSTALL
install for x64
* installing *source* package 'martini' ...
** libs
C:/Rtools/mingw_64/bin/g++ -I"C:/Users/BIOCBU˜1/BBS-3˜1.8-B/R/include" -DNDEBUG -DAS_GINLIB -DAS_RGINLIB -fopenmp -I"C:/Users/biocbuild/bbs-3.8-bioc/R/library/Rgin/include" -I"C:/Users/biocbuild/bbs-3.8-bioc/R/library/Rcpp/include" -I"C:/Users/biocbuild/bbs-3.8-bioc/R/library/RcppEigen/include" -I"C:/extsoft/include" -O2 -Wall -mtune=generic -c RcppExports.cpp -o RcppExports.o
In file included from C:/Users/biocbuild/bbs-3.8-bioc/R/library/Rcpp/include/Rcpp/r/headers.h:61:0,
from C:/Users/biocbuild/bbs-3.8-bioc/R/library/Rcpp/include/RcppCommon.h:29,
from C:/Users/biocbuild/bbs-3.8-bioc/R/library/RcppEigen/include/RcppEigenForward.h:26,
from C:/Users/biocbuild/bbs-3.8-bioc/R/library/RcppEigen/include/RcppEigen.h:25,
from ../inst/include/martini_RcppExports.h:7,
from ../inst/include/martini.h:7,
from RcppExports.cpp:4:
RcppExports.cpp: In function 'SEXPREC* _martini_run_scones_try(SEXP, SEXP, SEXP, SEXP)':
C:/Users/biocbuild/bbs-3.8-bioc/R/library/Rcpp/include/Rcpp/macros/macros.h:32:9: warning: unused variable 'nprot' [-Wunused-variable]
int nprot = 0; \
^
RcppExports.cpp:29:1: note: in expansion of macro 'BEGIN_RCPP'
BEGIN_RCPP
^
C:/Users/biocbuild/bbs-3.8-bioc/R/library/Rcpp/include/Rcpp/macros/macros.h:36:17: warning: unused variable 'stop_sym' [-Wunused-variable]
static SEXP stop_sym = Rf_install("stop"); \
^
RcppExports.cpp:29:1: note: in expansion of macro 'BEGIN_RCPP'
BEGIN_RCPP
^
C:/Rtools/mingw_64/bin/g++ -I"C:/Users/BIOCBU˜1/BBS-3˜1.8-B/R/include" -DNDEBUG -DAS_GINLIB -DAS_RGINLIB -fopenmp -I"C:/Users/biocbuild/bbs-3.8-bioc/R/library/Rgin/include" -I"C:/Users/biocbuild/bbs-3.8-bioc/R/library/Rcpp/include" -I"C:/Users/biocbuild/bbs-3.8-bioc/R/library/RcppEigen/include" -I"C:/extsoft/include" -O2 -Wall -mtune=generic -c evo.cpp -o evo.o
C:/Rtools/mingw_64/bin/g++ -I"C:/Users/BIOCBU˜1/BBS-3˜1.8-B/R/include" -DNDEBUG -DAS_GINLIB -DAS_RGINLIB -fopenmp -I"C:/Users/biocbuild/bbs-3.8-bioc/R/library/Rgin/include" -I"C:/Users/biocbuild/bbs-3.8-bioc/R/library/Rcpp/include" -I"C:/Users/biocbuild/bbs-3.8-bioc/R/library/RcppEigen/include" -I"C:/extsoft/include" -O2 -Wall -mtune=generic -c run_scones.cpp -o run_scones.o
C:/Rtools/mingw_64/bin/g++ -shared -s -static-libgcc -o martini.dll tmp.def RcppExports.o evo.o run_scones.o C:/Users/biocbuild/bbs-3.8-bioc/R/library/Rgin/usrlib/x64/libgin.a C:/Users/biocbuild/bbs-3.8-bioc/R/library/Rgin/usrlib/x64/libmaxflow.a C:/Users/biocbuild/bbs-3.8-bioc/R/library/Rgin/usrlib/x64/libcephes.a -lz -pthread -fopenmp -LC:/extsoft/lib/x64 -LC:/extsoft/lib -LC:/Users/BIOCBU˜1/BBS-3˜1.8-B/R/bin/x64 -lR
installing to C:/Users/biocbuild/bbs-3.8-bioc/meat/martini.buildbin-libdir/martini/libs/x64
** testing if installed package can be loaded
* MD5 sums
packaged installation of 'martini' as martini_1.2.0.zip
* DONE (martini)
In R CMD INSTALL
In R CMD INSTALL