| Back to Multiple platform build/check report for BioC 3.8 |
|
This page was generated on 2019-04-16 11:54:20 -0400 (Tue, 16 Apr 2019).
| Package 860/1649 | Hostname | OS / Arch | INSTALL | BUILD | CHECK | BUILD BIN | ||||||
| maanova 1.52.0 Keith Sheppard
| malbec1 | Linux (Ubuntu 16.04.6 LTS) / x86_64 | OK | OK | OK | |||||||
| merida1 | OS X 10.11.6 El Capitan / x86_64 | [ OK ] | OK | WARNINGS | OK |
| Package: maanova |
| Version: 1.52.0 |
| Command: /Library/Frameworks/R.framework/Versions/Current/Resources/bin/R CMD INSTALL maanova |
| StartedAt: 2019-04-15 18:13:15 -0400 (Mon, 15 Apr 2019) |
| EndedAt: 2019-04-15 18:13:50 -0400 (Mon, 15 Apr 2019) |
| EllapsedTime: 35.2 seconds |
| RetCode: 0 |
| Status: OK |
##############################################################################
##############################################################################
###
### Running command:
###
### /Library/Frameworks/R.framework/Versions/Current/Resources/bin/R CMD INSTALL maanova
###
##############################################################################
##############################################################################
* installing to library ‘/Library/Frameworks/R.framework/Versions/3.5/Resources/library’
* installing *source* package ‘maanova’ ...
** libs
clang -I"/Library/Frameworks/R.framework/Resources/include" -DNDEBUG -I/usr/local/include -fPIC -Wall -g -O2 -c makeratio.c -o makeratio.o
clang -I"/Library/Frameworks/R.framework/Resources/include" -DNDEBUG -I/usr/local/include -fPIC -Wall -g -O2 -c masvd.c -o masvd.o
masvd.c:114:2: warning: '/*' within block comment [-Wcomment]
/* work on a copy of x */
^
masvd.c:154:1: warning: '/*' within block comment [-Wcomment]
/*#ifndef IEEE_754
^
masvd.c:161:5: warning: '/*' within block comment [-Wcomment]
/* work on a copy of x */
^
masvd.c:165:2: warning: '/*' within block comment [-Wcomment]
/* ask for optimal size of work array */
^
masvd.c:189:2: warning: '/*' within block comment [-Wcomment]
/* ask for optimal size of work array */
^
5 warnings generated.
clang -I"/Library/Frameworks/R.framework/Resources/include" -DNDEBUG -I/usr/local/include -fPIC -Wall -g -O2 -c shift.c -o shift.o
shift.c:48:17: warning: using integer absolute value function 'abs' when argument is of floating point type [-Wabsolute-value]
sad[i] += abs(x[j]-med);
^
shift.c:48:17: note: use function 'fabs' instead
sad[i] += abs(x[j]-med);
^˜˜
fabs
shift.c:27:13: warning: unused variable 'k' [-Wunused-variable]
int i, j, k;
^
2 warnings generated.
clang -I"/Library/Frameworks/R.framework/Resources/include" -DNDEBUG -I/usr/local/include -fPIC -Wall -g -O2 -c util.c -o util.o
clang -dynamiclib -Wl,-headerpad_max_install_names -undefined dynamic_lookup -single_module -multiply_defined suppress -L/Library/Frameworks/R.framework/Resources/lib -L/usr/local/lib -o maanova.so makeratio.o masvd.o shift.o util.o -L/Library/Frameworks/R.framework/Resources/lib -lRlapack -L/Library/Frameworks/R.framework/Resources/lib -lRblas -L/usr/local/gfortran/lib/gcc/x86_64-apple-darwin15/6.1.0 -L/usr/local/gfortran/lib -lgfortran -lquadmath -lm -F/Library/Frameworks/R.framework/.. -framework R -Wl,-framework -Wl,CoreFoundation
installing to /Library/Frameworks/R.framework/Versions/3.5/Resources/library/maanova/libs
** R
** data
** demo
** inst
** byte-compile and prepare package for lazy loading
** help
*** installing help indices
** building package indices
** installing vignettes
** testing if installed package can be loaded
* DONE (maanova)