| Back to Multiple platform build/check report for BioC 3.8 |
|
This page was generated on 2019-04-16 11:48:05 -0400 (Tue, 16 Apr 2019).
| Package 860/1649 | Hostname | OS / Arch | INSTALL | BUILD | CHECK | BUILD BIN | ||||||
| maanova 1.52.0 Keith Sheppard
| malbec1 | Linux (Ubuntu 16.04.6 LTS) / x86_64 | [ OK ] | OK | OK | |||||||
| merida1 | OS X 10.11.6 El Capitan / x86_64 | OK | OK | WARNINGS | OK |
| Package: maanova |
| Version: 1.52.0 |
| Command: /home/biocbuild/bbs-3.8-bioc/R/bin/R CMD INSTALL maanova |
| StartedAt: 2019-04-15 18:03:28 -0400 (Mon, 15 Apr 2019) |
| EndedAt: 2019-04-15 18:03:35 -0400 (Mon, 15 Apr 2019) |
| EllapsedTime: 7.3 seconds |
| RetCode: 0 |
| Status: OK |
##############################################################################
##############################################################################
###
### Running command:
###
### /home/biocbuild/bbs-3.8-bioc/R/bin/R CMD INSTALL maanova
###
##############################################################################
##############################################################################
* installing to library ‘/home/biocbuild/bbs-3.8-bioc/R/library’
* installing *source* package ‘maanova’ ...
** libs
gcc -I"/home/biocbuild/bbs-3.8-bioc/R/include" -DNDEBUG -I/usr/local/include -fpic -g -O2 -Wall -c makeratio.c -o makeratio.o
gcc -I"/home/biocbuild/bbs-3.8-bioc/R/include" -DNDEBUG -I/usr/local/include -fpic -g -O2 -Wall -c masvd.c -o masvd.o
masvd.c:114:2: warning: "/*" within comment [-Wcomment]
/* work on a copy of x */
^
masvd.c:154:1: warning: "/*" within comment [-Wcomment]
/*#ifndef IEEE_754
^
masvd.c:161:5: warning: "/*" within comment [-Wcomment]
/* work on a copy of x */
^
masvd.c:165:2: warning: "/*" within comment [-Wcomment]
/* ask for optimal size of work array */
^
masvd.c:189:2: warning: "/*" within comment [-Wcomment]
/* ask for optimal size of work array */
^
gcc -I"/home/biocbuild/bbs-3.8-bioc/R/include" -DNDEBUG -I/usr/local/include -fpic -g -O2 -Wall -c shift.c -o shift.o
shift.c: In function ‘shift’:
shift.c:27:13: warning: unused variable ‘k’ [-Wunused-variable]
int i, j, k;
^
gcc -I"/home/biocbuild/bbs-3.8-bioc/R/include" -DNDEBUG -I/usr/local/include -fpic -g -O2 -Wall -c util.c -o util.o
gcc -shared -L/home/biocbuild/bbs-3.8-bioc/R/lib -L/usr/local/lib -o maanova.so makeratio.o masvd.o shift.o util.o -L/home/biocbuild/bbs-3.8-bioc/R/lib -lRlapack -L/home/biocbuild/bbs-3.8-bioc/R/lib -lRblas -lgfortran -lm -lquadmath -L/home/biocbuild/bbs-3.8-bioc/R/lib -lR
installing to /home/biocbuild/bbs-3.8-bioc/R/library/maanova/libs
** R
** data
** demo
** inst
** byte-compile and prepare package for lazy loading
** help
*** installing help indices
** building package indices
** installing vignettes
** testing if installed package can be loaded
* DONE (maanova)