| Back to Multiple platform build/check report for BioC 3.8 |
|
This page was generated on 2018-06-25 10:20:31 -0400 (Mon, 25 Jun 2018).
| Package 953/1570 | Hostname | OS / Arch | INSTALL | BUILD | CHECK | BUILD BIN | ||||||
| mQTL.NMR 1.15.0 Lyamine Hedjazi
| malbec1 | Linux (Ubuntu 16.04.1 LTS) / x86_64 | OK | OK | OK | |||||||
| tokay1 | Windows Server 2012 R2 Standard / x64 | OK | OK | OK | [ OK ] | |||||||
| merida1 | OS X 10.11.6 El Capitan / x86_64 | OK | OK | OK | OK |
| Package: mQTL.NMR |
| Version: 1.15.0 |
| Command: rm -rf mQTL.NMR.buildbin-libdir && mkdir mQTL.NMR.buildbin-libdir && C:\Users\biocbuild\bbs-3.8-bioc\R\bin\R.exe CMD INSTALL --merge-multiarch --build --library=mQTL.NMR.buildbin-libdir mQTL.NMR_1.15.0.tar.gz |
| StartedAt: 2018-06-25 06:10:01 -0400 (Mon, 25 Jun 2018) |
| EndedAt: 2018-06-25 06:10:11 -0400 (Mon, 25 Jun 2018) |
| EllapsedTime: 9.8 seconds |
| RetCode: 0 |
| Status: OK |
| PackageFile: mQTL.NMR_1.15.0.zip |
| PackageFileSize: 1.967 MiB |
##############################################################################
##############################################################################
###
### Running command:
###
### rm -rf mQTL.NMR.buildbin-libdir && mkdir mQTL.NMR.buildbin-libdir && C:\Users\biocbuild\bbs-3.8-bioc\R\bin\R.exe CMD INSTALL --merge-multiarch --build --library=mQTL.NMR.buildbin-libdir mQTL.NMR_1.15.0.tar.gz
###
##############################################################################
##############################################################################
install for i386
* installing *source* package 'mQTL.NMR' ...
** R
** inst
** byte-compile and prepare package for lazy loading
** help
*** installing help indices
converting help for package 'mQTL.NMR'
finding HTML links ... done
SRV html
SRV.plot html
SRV_lod.plot html
Top_SRV.plot html
alignSp html
align_mQTL html
attachSegments html
circle_mQTL html
configureRSPA html
format_mGWA html
format_mQTL html
load_datafiles html
load_demo_data html
mQTL.NMR-package html
matchSegments html
normalise html
normalise_mQTL html
peakPeaks html
post_mQTL html
ppersp html
pplot html
pre_mQTL html
process_mGWA html
process_mQTL html
segmentateSp html
selectRefSp html
setupRSPA html
sgolay html
sgolayDeriv html
simple.plot html
summary_mQTL html
** building package indices
** installing vignettes
** testing if installed package can be loaded
In R CMD INSTALL
install for x64
* installing *source* package 'mQTL.NMR' ...
** testing if installed package can be loaded
* MD5 sums
packaged installation of 'mQTL.NMR' as mQTL.NMR_1.15.0.zip
* DONE (mQTL.NMR)
In R CMD INSTALL
In R CMD INSTALL