| Back to Multiple platform build/check report for BioC 3.8 |
|
This page was generated on 2019-04-16 11:50:40 -0400 (Tue, 16 Apr 2019).
| Package 1003/1649 | Hostname | OS / Arch | INSTALL | BUILD | CHECK | BUILD BIN | ||||||
Lyamine Hedjazi
| malbec1 | Linux (Ubuntu 16.04.6 LTS) / x86_64 | [ ERROR ] | ERROR | skipped | |||||||
| merida1 | OS X 10.11.6 El Capitan / x86_64 | ERROR | ERROR | skipped | skipped |
| Package: mQTL.NMR |
| Version: 1.16.0 |
| Command: /home/biocbuild/bbs-3.8-bioc/R/bin/R CMD INSTALL mQTL.NMR |
| StartedAt: 2019-04-15 18:37:04 -0400 (Mon, 15 Apr 2019) |
| EndedAt: 2019-04-15 18:37:04 -0400 (Mon, 15 Apr 2019) |
| EllapsedTime: 0.5 seconds |
| RetCode: 1 |
| Status: ERROR |
############################################################################## ############################################################################## ### ### Running command: ### ### /home/biocbuild/bbs-3.8-bioc/R/bin/R CMD INSTALL mQTL.NMR ### ############################################################################## ############################################################################## * installing to library ‘/home/biocbuild/bbs-3.8-bioc/R/library’ ERROR: dependency ‘GenABEL’ is not available for package ‘mQTL.NMR’ * removing ‘/home/biocbuild/bbs-3.8-bioc/R/library/mQTL.NMR’