| Back to Multiple platform build/check report for BioC 3.8 |
|
This page was generated on 2019-04-13 11:28:44 -0400 (Sat, 13 Apr 2019).
| Package 898/1649 | Hostname | OS / Arch | INSTALL | BUILD | CHECK | BUILD BIN | ||||||
| mCSEA 1.2.2 Jordi Martorell-Marugán
| malbec1 | Linux (Ubuntu 16.04.6 LTS) / x86_64 | OK | OK | OK | |||||||
| tokay1 | Windows Server 2012 R2 Standard / x64 | [ OK ] | OK | OK | OK | |||||||
| merida1 | OS X 10.11.6 El Capitan / x86_64 | OK | OK | OK | OK |
| Package: mCSEA |
| Version: 1.2.2 |
| Command: C:\cygwin\bin\curl.exe -O https://malbec1.bioconductor.org/BBS/3.8/bioc/src/contrib/mCSEA_1.2.2.tar.gz && rm -rf mCSEA.buildbin-libdir && mkdir mCSEA.buildbin-libdir && C:\Users\biocbuild\bbs-3.8-bioc\R\bin\R.exe CMD INSTALL --merge-multiarch --build --library=mCSEA.buildbin-libdir mCSEA_1.2.2.tar.gz && C:\Users\biocbuild\bbs-3.8-bioc\R\bin\R.exe CMD INSTALL mCSEA_1.2.2.zip && rm mCSEA_1.2.2.tar.gz mCSEA_1.2.2.zip |
| StartedAt: 2019-04-12 20:23:33 -0400 (Fri, 12 Apr 2019) |
| EndedAt: 2019-04-12 20:24:42 -0400 (Fri, 12 Apr 2019) |
| EllapsedTime: 69.5 seconds |
| RetCode: 0 |
| Status: OK |
##############################################################################
##############################################################################
###
### Running command:
###
### C:\cygwin\bin\curl.exe -O https://malbec1.bioconductor.org/BBS/3.8/bioc/src/contrib/mCSEA_1.2.2.tar.gz && rm -rf mCSEA.buildbin-libdir && mkdir mCSEA.buildbin-libdir && C:\Users\biocbuild\bbs-3.8-bioc\R\bin\R.exe CMD INSTALL --merge-multiarch --build --library=mCSEA.buildbin-libdir mCSEA_1.2.2.tar.gz && C:\Users\biocbuild\bbs-3.8-bioc\R\bin\R.exe CMD INSTALL mCSEA_1.2.2.zip && rm mCSEA_1.2.2.tar.gz mCSEA_1.2.2.zip
###
##############################################################################
##############################################################################
% Total % Received % Xferd Average Speed Time Time Time Current
Dload Upload Total Spent Left Speed
0 0 0 0 0 0 0 0 --:--:-- --:--:-- --:--:-- 0
100 1547k 100 1547k 0 0 26.1M 0 --:--:-- --:--:-- --:--:-- 27.9M
install for i386
* installing *source* package 'mCSEA' ...
** R
** data
*** moving datasets to lazyload DB
** inst
** byte-compile and prepare package for lazy loading
** help
*** installing help indices
converting help for package 'mCSEA'
finding HTML links ... done
exprTest html
mCSEA-package html
mCSEAIntegrate html
mCSEAPlot html
mCSEAPlotGSEA html
mCSEATest html
precomputedmCSEA html
rankProbes html
** building package indices
** installing vignettes
** testing if installed package can be loaded
In R CMD INSTALL
install for x64
* installing *source* package 'mCSEA' ...
** testing if installed package can be loaded
* MD5 sums
packaged installation of 'mCSEA' as mCSEA_1.2.2.zip
* DONE (mCSEA)
In R CMD INSTALL
In R CMD INSTALL
* installing to library 'C:/Users/biocbuild/bbs-3.8-bioc/R/library'
package 'mCSEA' successfully unpacked and MD5 sums checked
In R CMD INSTALL