| Back to Multiple platform build/check report for BioC 3.8 |
|
This page was generated on 2019-04-16 11:53:14 -0400 (Tue, 16 Apr 2019).
| Package 898/1649 | Hostname | OS / Arch | INSTALL | BUILD | CHECK | BUILD BIN | ||||||
| mCSEA 1.2.2 Jordi Martorell-Marugán
| malbec1 | Linux (Ubuntu 16.04.6 LTS) / x86_64 | OK | OK | [ OK ] | |||||||
| merida1 | OS X 10.11.6 El Capitan / x86_64 | OK | OK | OK | OK |
| Package: mCSEA |
| Version: 1.2.2 |
| Command: /home/biocbuild/bbs-3.8-bioc/R/bin/R CMD check --install=check:mCSEA.install-out.txt --library=/home/biocbuild/bbs-3.8-bioc/R/library --no-vignettes --timings mCSEA_1.2.2.tar.gz |
| StartedAt: 2019-04-16 01:11:38 -0400 (Tue, 16 Apr 2019) |
| EndedAt: 2019-04-16 01:16:33 -0400 (Tue, 16 Apr 2019) |
| EllapsedTime: 294.6 seconds |
| RetCode: 0 |
| Status: OK |
| CheckDir: mCSEA.Rcheck |
| Warnings: 0 |
##############################################################################
##############################################################################
###
### Running command:
###
### /home/biocbuild/bbs-3.8-bioc/R/bin/R CMD check --install=check:mCSEA.install-out.txt --library=/home/biocbuild/bbs-3.8-bioc/R/library --no-vignettes --timings mCSEA_1.2.2.tar.gz
###
##############################################################################
##############################################################################
* using log directory ‘/home/biocbuild/bbs-3.8-bioc/meat/mCSEA.Rcheck’
* using R version 3.5.3 (2019-03-11)
* using platform: x86_64-pc-linux-gnu (64-bit)
* using session charset: UTF-8
* using option ‘--no-vignettes’
* checking for file ‘mCSEA/DESCRIPTION’ ... OK
* checking extension type ... Package
* this is package ‘mCSEA’ version ‘1.2.2’
* package encoding: UTF-8
* checking package namespace information ... OK
* checking package dependencies ... OK
* checking if this is a source package ... OK
* checking if there is a namespace ... OK
* checking for hidden files and directories ... OK
* checking for portable file names ... OK
* checking for sufficient/correct file permissions ... OK
* checking whether package ‘mCSEA’ can be installed ... OK
* checking installed package size ... OK
* checking package directory ... OK
* checking ‘build’ directory ... OK
* checking DESCRIPTION meta-information ... OK
* checking top-level files ... OK
* checking for left-over files ... OK
* checking index information ... OK
* checking package subdirectories ... OK
* checking R files for non-ASCII characters ... OK
* checking R files for syntax errors ... OK
* checking whether the package can be loaded ... OK
* checking whether the package can be loaded with stated dependencies ... OK
* checking whether the package can be unloaded cleanly ... OK
* checking whether the namespace can be loaded with stated dependencies ... OK
* checking whether the namespace can be unloaded cleanly ... OK
* checking dependencies in R code ... OK
* checking S3 generic/method consistency ... OK
* checking replacement functions ... OK
* checking foreign function calls ... OK
* checking R code for possible problems ... OK
* checking Rd files ... OK
* checking Rd metadata ... OK
* checking Rd cross-references ... OK
* checking for missing documentation entries ... OK
* checking for code/documentation mismatches ... OK
* checking Rd \usage sections ... OK
* checking Rd contents ... OK
* checking for unstated dependencies in examples ... OK
* checking contents of ‘data’ directory ... OK
* checking data for non-ASCII characters ... OK
* checking data for ASCII and uncompressed saves ... OK
* checking files in ‘vignettes’ ... OK
* checking examples ... OK
Examples with CPU or elapsed time > 5s
user system elapsed
mCSEAPlot 13.164 0.276 18.424
mCSEAIntegrate 6.672 0.272 22.895
* checking for unstated dependencies in ‘tests’ ... OK
* checking tests ...
Running ‘runTests.R’
OK
* checking for unstated dependencies in vignettes ... OK
* checking package vignettes in ‘inst/doc’ ... OK
* checking running R code from vignettes ... SKIPPED
* checking re-building of vignette outputs ... SKIPPED
* checking PDF version of manual ... OK
* DONE
Status: OK
mCSEA.Rcheck/00install.out
############################################################################## ############################################################################## ### ### Running command: ### ### /home/biocbuild/bbs-3.8-bioc/R/bin/R CMD INSTALL mCSEA ### ############################################################################## ############################################################################## * installing to library ‘/home/biocbuild/bbs-3.8-bioc/R/library’ * installing *source* package ‘mCSEA’ ... ** R ** data *** moving datasets to lazyload DB ** inst ** byte-compile and prepare package for lazy loading ** help *** installing help indices ** building package indices ** installing vignettes ** testing if installed package can be loaded * DONE (mCSEA)
mCSEA.Rcheck/tests/runTests.Rout
R version 3.5.3 (2019-03-11) -- "Great Truth"
Copyright (C) 2019 The R Foundation for Statistical Computing
Platform: x86_64-pc-linux-gnu (64-bit)
R is free software and comes with ABSOLUTELY NO WARRANTY.
You are welcome to redistribute it under certain conditions.
Type 'license()' or 'licence()' for distribution details.
R is a collaborative project with many contributors.
Type 'contributors()' for more information and
'citation()' on how to cite R or R packages in publications.
Type 'demo()' for some demos, 'help()' for on-line help, or
'help.start()' for an HTML browser interface to help.
Type 'q()' to quit R.
> BiocGenerics:::testPackage("mCSEA")
Attaching package: 'BiocGenerics'
The following objects are masked from 'package:parallel':
clusterApply, clusterApplyLB, clusterCall, clusterEvalQ,
clusterExport, clusterMap, parApply, parCapply, parLapply,
parLapplyLB, parRapply, parSapply, parSapplyLB
The following objects are masked from 'package:stats':
IQR, mad, sd, var, xtabs
The following objects are masked from 'package:base':
Filter, Find, Map, Position, Reduce, anyDuplicated, append,
as.data.frame, basename, cbind, colMeans, colSums, colnames,
dirname, do.call, duplicated, eval, evalq, get, grep, grepl,
intersect, is.unsorted, lapply, lengths, mapply, match, mget,
order, paste, pmax, pmax.int, pmin, pmin.int, rank, rbind,
rowMeans, rowSums, rownames, sapply, setdiff, sort, table, tapply,
union, unique, unsplit, which, which.max, which.min
Welcome to Bioconductor
Vignettes contain introductory material; view with
'browseVignettes()'. To cite Bioconductor, see
'citation("Biobase")', and for packages 'citation("pkgname")'.
Attaching package: 'S4Vectors'
The following object is masked from 'package:base':
expand.grid
Attaching package: 'mCSEA'
The following object is masked from 'package:mCSEAdata':
exprTest
Integrating promoters methylation with gene expression
Associating CpG sites to promoters
Analysing promoters
0 DMRs found (padj < 0.05)
Transforming beta-values to M-values
Calculating linear model...
Explanatory variable: expla
Case group: Case
Reference group: Control
Total samples: 20
Covariates: None
Categorical variables: expla cov1
Continuous variables: None
RUNIT TEST PROTOCOL -- Tue Apr 16 01:16:30 2019
***********************************************
Number of test functions: 3
Number of errors: 0
Number of failures: 0
1 Test Suite :
mCSEA RUnit Tests - 3 test functions, 0 errors, 0 failures
Number of test functions: 3
Number of errors: 0
Number of failures: 0
Warning messages:
1: In fgsea::fgsea(genes, rank, minSize = minCpGs, nperm = nperm, nproc = nproc) :
There are ties in the preranked stats (15% of the list).
The order of those tied genes will be arbitrary, which may produce unexpected results.
2: In fgsea::fgsea(genes, rank, minSize = minCpGs, nperm = nperm, nproc = nproc) :
There are duplicate gene names, fgsea may produce unexpected results
>
> proc.time()
user system elapsed
23.808 0.868 41.505
mCSEA.Rcheck/mCSEA-Ex.timings
| name | user | system | elapsed | |
| mCSEA-package | 0.084 | 0.008 | 0.091 | |
| mCSEAIntegrate | 6.672 | 0.272 | 22.895 | |
| mCSEAPlot | 13.164 | 0.276 | 18.424 | |
| mCSEAPlotGSEA | 0.480 | 0.004 | 0.488 | |
| mCSEATest | 0.044 | 0.008 | 0.051 | |
| rankProbes | 0.272 | 0.016 | 0.290 | |