| Back to Multiple platform build/check report for BioC 3.8 |
|
This page was generated on 2019-04-13 11:28:38 -0400 (Sat, 13 Apr 2019).
| Package 841/1649 | Hostname | OS / Arch | INSTALL | BUILD | CHECK | BUILD BIN | ||||||
| loci2path 1.2.0 Tianlei Xu
| malbec1 | Linux (Ubuntu 16.04.6 LTS) / x86_64 | OK | OK | OK | |||||||
| tokay1 | Windows Server 2012 R2 Standard / x64 | OK | OK | OK | [ OK ] | |||||||
| merida1 | OS X 10.11.6 El Capitan / x86_64 | OK | OK | OK | OK |
| Package: loci2path |
| Version: 1.2.0 |
| Command: rm -rf loci2path.buildbin-libdir && mkdir loci2path.buildbin-libdir && C:\Users\biocbuild\bbs-3.8-bioc\R\bin\R.exe CMD INSTALL --merge-multiarch --build --library=loci2path.buildbin-libdir loci2path_1.2.0.tar.gz |
| StartedAt: 2019-04-13 07:35:02 -0400 (Sat, 13 Apr 2019) |
| EndedAt: 2019-04-13 07:35:24 -0400 (Sat, 13 Apr 2019) |
| EllapsedTime: 22.1 seconds |
| RetCode: 0 |
| Status: OK |
| PackageFile: loci2path_1.2.0.zip |
| PackageFileSize: 695.2 KiB |
##############################################################################
##############################################################################
###
### Running command:
###
### rm -rf loci2path.buildbin-libdir && mkdir loci2path.buildbin-libdir && C:\Users\biocbuild\bbs-3.8-bioc\R\bin\R.exe CMD INSTALL --merge-multiarch --build --library=loci2path.buildbin-libdir loci2path_1.2.0.tar.gz
###
##############################################################################
##############################################################################
install for i386
* installing *source* package 'loci2path' ...
** R
** data
*** moving datasets to lazyload DB
** inst
** byte-compile and prepare package for lazy loading
** help
*** installing help indices
converting help for package 'loci2path'
finding HTML links ... done
biocarta html
check.geneid html
eqtlSet-class html
eset.list html
geneSet-class html
getHeatmap-methods html
getMat-methods html
getPathDescription-methods html
getPval-methods html
getTissueDegree-methods html
getWordcloud-methods html
loci2pathResult-class html
query-methods html
query.gr html
** building package indices
** installing vignettes
** testing if installed package can be loaded
In R CMD INSTALL
install for x64
* installing *source* package 'loci2path' ...
** testing if installed package can be loaded
* MD5 sums
packaged installation of 'loci2path' as loci2path_1.2.0.zip
* DONE (loci2path)
In R CMD INSTALL
In R CMD INSTALL